BEGIN:VCALENDAR
VERSION:2.0
PRODID:-//Christ Episcopal Church Oil City - ECPv6.15.20//NONSGML v1.0//EN
CALSCALE:GREGORIAN
METHOD:PUBLISH
X-WR-CALNAME:Christ Episcopal Church Oil City
X-ORIGINAL-URL:https://christchurchoc.org
X-WR-CALDESC:Events for Christ Episcopal Church Oil City
REFRESH-INTERVAL;VALUE=DURATION:PT1H
X-Robots-Tag:noindex
X-PUBLISHED-TTL:PT1H
BEGIN:VTIMEZONE
TZID:America/New_York
BEGIN:DAYLIGHT
TZOFFSETFROM:-0500
TZOFFSETTO:-0400
TZNAME:EDT
DTSTART:20220313T070000
END:DAYLIGHT
BEGIN:STANDARD
TZOFFSETFROM:-0400
TZOFFSETTO:-0500
TZNAME:EST
DTSTART:20221106T060000
END:STANDARD
BEGIN:DAYLIGHT
TZOFFSETFROM:-0500
TZOFFSETTO:-0400
TZNAME:EDT
DTSTART:20230312T070000
END:DAYLIGHT
BEGIN:STANDARD
TZOFFSETFROM:-0400
TZOFFSETTO:-0500
TZNAME:EST
DTSTART:20231105T060000
END:STANDARD
BEGIN:DAYLIGHT
TZOFFSETFROM:-0500
TZOFFSETTO:-0400
TZNAME:EDT
DTSTART:20240310T070000
END:DAYLIGHT
BEGIN:STANDARD
TZOFFSETFROM:-0400
TZOFFSETTO:-0500
TZNAME:EST
DTSTART:20241103T060000
END:STANDARD
END:VTIMEZONE
BEGIN:VEVENT
DTSTART;TZID=America/New_York:20231224T190000
DTEND;TZID=America/New_York:20231224T200000
DTSTAMP:20260425T131144
CREATED:20231211T233530Z
LAST-MODIFIED:20231221T213655Z
UID:10000819-1703444400-1703448000@christchurchoc.org
SUMMARY:Christmas Eve Service
DESCRIPTION:Musical Prelude for Christmas Eve begins at 6:30 PM and the Service\, Holy Eucharist Rite II with Music starts at 7:00 PM.
URL:https://christchurchoc.org/event/christmas-eve-service/
LOCATION:Christ Episcopal Church\, 16 Central Avenue\, Oil City\, PA\, 16301\, United States
CATEGORIES:Christmas Service
ATTACH;FMTTYPE=image/jpeg:https://christchurchoc.org/wp-content/uploads/2022/09/window-5.jpg
END:VEVENT
BEGIN:VEVENT
DTSTART;TZID=America/New_York:20231225T093000
DTEND;TZID=America/New_York:20231225T103000
DTSTAMP:20260425T131144
CREATED:20231211T233719Z
LAST-MODIFIED:20231211T233719Z
UID:10000820-1703496600-1703500200@christchurchoc.org
SUMMARY:Christmas Day Service
DESCRIPTION:Rite II Holy Eucharist. No Music.
URL:https://christchurchoc.org/event/christmas-day-service/
LOCATION:Christ Episcopal Church\, 16 Central Avenue\, Oil City\, PA\, 16301\, United States
CATEGORIES:Christmas Service
ATTACH;FMTTYPE=image/jpeg:https://christchurchoc.org/wp-content/uploads/2022/09/window-5.jpg
END:VEVENT
END:VCALENDAR