BEGIN:VCALENDAR
VERSION:2.0
PRODID:-//Christ Episcopal Church Oil City - ECPv6.15.20//NONSGML v1.0//EN
CALSCALE:GREGORIAN
METHOD:PUBLISH
X-WR-CALNAME:Christ Episcopal Church Oil City
X-ORIGINAL-URL:https://christchurchoc.org
X-WR-CALDESC:Events for Christ Episcopal Church Oil City
REFRESH-INTERVAL;VALUE=DURATION:PT1H
X-Robots-Tag:noindex
X-PUBLISHED-TTL:PT1H
BEGIN:VTIMEZONE
TZID:America/New_York
BEGIN:DAYLIGHT
TZOFFSETFROM:-0500
TZOFFSETTO:-0400
TZNAME:EDT
DTSTART:20240310T070000
END:DAYLIGHT
BEGIN:STANDARD
TZOFFSETFROM:-0400
TZOFFSETTO:-0500
TZNAME:EST
DTSTART:20241103T060000
END:STANDARD
BEGIN:DAYLIGHT
TZOFFSETFROM:-0500
TZOFFSETTO:-0400
TZNAME:EDT
DTSTART:20250309T070000
END:DAYLIGHT
BEGIN:STANDARD
TZOFFSETFROM:-0400
TZOFFSETTO:-0500
TZNAME:EST
DTSTART:20251102T060000
END:STANDARD
BEGIN:DAYLIGHT
TZOFFSETFROM:-0500
TZOFFSETTO:-0400
TZNAME:EDT
DTSTART:20260308T070000
END:DAYLIGHT
BEGIN:STANDARD
TZOFFSETFROM:-0400
TZOFFSETTO:-0500
TZNAME:EST
DTSTART:20261101T060000
END:STANDARD
END:VTIMEZONE
BEGIN:VEVENT
DTSTART;TZID=America/New_York:20250302T093000
DTEND;TZID=America/New_York:20250302T103000
DTSTAMP:20260423T061536
CREATED:20250221T152027Z
LAST-MODIFIED:20250221T152027Z
UID:10002842-1740907800-1740911400@christchurchoc.org
SUMMARY:Morning Prayer Episcopal Worship Service
DESCRIPTION:Morning Prayer Rite II Service for the Presentation of Jesus at the Temple with Worship Leader Leann Felmlee-Brown. Our Morning Prayer service is from the Book of Common Prayer of the Episcopal Church. The Service includes readings from the Old Testament and New Testament\, as well as a Psalm and a reading from one of the Gospels.
URL:https://christchurchoc.org/event/morning-prayer-episcopal-worship-service-12/
LOCATION:Christ Episcopal Church\, 16 Central Avenue\, Oil City\, PA\, 16301\, United States
CATEGORIES:Sunday Worship
ATTACH;FMTTYPE=image/jpeg:https://christchurchoc.org/wp-content/uploads/2022/09/Slider-1a-mobile.jpg
END:VEVENT
BEGIN:VEVENT
DTSTART;TZID=America/New_York:20250309T093000
DTEND;TZID=America/New_York:20250309T103000
DTSTAMP:20260423T061536
CREATED:20250221T152248Z
LAST-MODIFIED:20250221T152248Z
UID:10002843-1741512600-1741516200@christchurchoc.org
SUMMARY:Sunday Episcopal Worship Service
DESCRIPTION:Holy Eucharist Rite II with Music for the First Sunday in Lent. This service includes readings from the Old and New Testaments\, a Psalm\, and a reading from one of the Gospels\, followed by Communion. The Episcopal Church has an open communion and all are welcome.
URL:https://christchurchoc.org/event/sunday-episcopal-worship-service-44/
LOCATION:Christ Episcopal Church\, 16 Central Avenue\, Oil City\, PA\, 16301\, United States
CATEGORIES:Sunday Worship
ATTACH;FMTTYPE=image/jpeg:https://christchurchoc.org/wp-content/uploads/2022/09/Slider-1a-mobile.jpg
END:VEVENT
BEGIN:VEVENT
DTSTART;TZID=America/New_York:20250316T093000
DTEND;TZID=America/New_York:20250316T103000
DTSTAMP:20260423T061536
CREATED:20250221T153022Z
LAST-MODIFIED:20250324T145135Z
UID:10002846-1742117400-1742121000@christchurchoc.org
SUMMARY:Sunday Episcopal Worship Service
DESCRIPTION:Holy Eucharist Rite II with Music for the Second Sunday in Lent. This service includes readings from the Old and New Testaments\, a Psalm\, and a reading from one of the Gospels\, followed by Communion. The Episcopal Church has an open communion and all are welcome.
URL:https://christchurchoc.org/event/sunday-episcopal-worship-service-45/
LOCATION:Christ Episcopal Church\, 16 Central Avenue\, Oil City\, PA\, 16301\, United States
CATEGORIES:Sunday Worship
ATTACH;FMTTYPE=image/jpeg:https://christchurchoc.org/wp-content/uploads/2022/09/Slider-1a-mobile.jpg
END:VEVENT
BEGIN:VEVENT
DTSTART;TZID=America/New_York:20250323T093000
DTEND;TZID=America/New_York:20250323T103000
DTSTAMP:20260423T061536
CREATED:20250221T153115Z
LAST-MODIFIED:20250324T145104Z
UID:10002847-1742722200-1742725800@christchurchoc.org
SUMMARY:Sunday Episcopal Worship Service
DESCRIPTION:Holy Eucharist Rite II for the Third Sunday in Lent. This service includes readings from the Old and New Testaments\, a Psalm\, and a reading from one of the Gospels\, followed by Communion. The Episcopal Church has an open communion and all are welcome.
URL:https://christchurchoc.org/event/sunday-episcopal-worship-service-46/
LOCATION:Christ Episcopal Church\, 16 Central Avenue\, Oil City\, PA\, 16301\, United States
CATEGORIES:Sunday Worship
ATTACH;FMTTYPE=image/jpeg:https://christchurchoc.org/wp-content/uploads/2022/09/Slider-1a-mobile.jpg
END:VEVENT
BEGIN:VEVENT
DTSTART;TZID=America/New_York:20250330T093000
DTEND;TZID=America/New_York:20250330T103000
DTSTAMP:20260423T061536
CREATED:20250221T153309Z
LAST-MODIFIED:20250324T145008Z
UID:10002848-1743327000-1743330600@christchurchoc.org
SUMMARY:Sunday Episcopal Worship Service
DESCRIPTION:Holy Eucharist Rite II for the Fourth Sunday in Lent. This service includes readings from the Old and New Testaments\, a Psalm\, and a reading from one of the Gospels\, followed by Communion. The Episcopal Church has an open communion and all are welcome.
URL:https://christchurchoc.org/event/sunday-episcopal-worship-service-47/
LOCATION:Christ Episcopal Church\, 16 Central Avenue\, Oil City\, PA\, 16301\, United States
CATEGORIES:Sunday Worship
ATTACH;FMTTYPE=image/jpeg:https://christchurchoc.org/wp-content/uploads/2022/09/Slider-1a-mobile.jpg
END:VEVENT
END:VCALENDAR