BEGIN:VCALENDAR
VERSION:2.0
PRODID:-//Christ Episcopal Church Oil City - ECPv6.15.20//NONSGML v1.0//EN
CALSCALE:GREGORIAN
METHOD:PUBLISH
X-ORIGINAL-URL:https://christchurchoc.org
X-WR-CALDESC:Events for Christ Episcopal Church Oil City
REFRESH-INTERVAL;VALUE=DURATION:PT1H
X-Robots-Tag:noindex
X-PUBLISHED-TTL:PT1H
BEGIN:VTIMEZONE
TZID:America/New_York
BEGIN:DAYLIGHT
TZOFFSETFROM:-0500
TZOFFSETTO:-0400
TZNAME:EDT
DTSTART:20240310T070000
END:DAYLIGHT
BEGIN:STANDARD
TZOFFSETFROM:-0400
TZOFFSETTO:-0500
TZNAME:EST
DTSTART:20241103T060000
END:STANDARD
BEGIN:DAYLIGHT
TZOFFSETFROM:-0500
TZOFFSETTO:-0400
TZNAME:EDT
DTSTART:20250309T070000
END:DAYLIGHT
BEGIN:STANDARD
TZOFFSETFROM:-0400
TZOFFSETTO:-0500
TZNAME:EST
DTSTART:20251102T060000
END:STANDARD
BEGIN:DAYLIGHT
TZOFFSETFROM:-0500
TZOFFSETTO:-0400
TZNAME:EDT
DTSTART:20260308T070000
END:DAYLIGHT
BEGIN:STANDARD
TZOFFSETFROM:-0400
TZOFFSETTO:-0500
TZNAME:EST
DTSTART:20261101T060000
END:STANDARD
END:VTIMEZONE
BEGIN:VEVENT
DTSTART;TZID=America/New_York:20250504T093000
DTEND;TZID=America/New_York:20250504T103000
DTSTAMP:20260423T010518
CREATED:20250424T144125Z
LAST-MODIFIED:20250424T144125Z
UID:10002857-1746351000-1746354600@christchurchoc.org
SUMMARY:Morning Prayer Episcopal Worship Service
DESCRIPTION:Morning Prayer Rite II Service for the Third Sunday of Easter with Worship Leader Leann Felmlee-Brown. Our Morning Prayer service is from the Book of Common Prayer of the Episcopal Church. The Service includes readings from the Old Testament and New Testament\, as well as a Psalm and a reading from one of the Gospels.
URL:https://christchurchoc.org/event/morning-prayer-episcopal-worship-service-14/
LOCATION:Christ Episcopal Church\, 16 Central Avenue\, Oil City\, PA\, 16301\, United States
CATEGORIES:Sunday Worship
ATTACH;FMTTYPE=image/jpeg:https://christchurchoc.org/wp-content/uploads/2022/09/Slider-1a-mobile.jpg
END:VEVENT
BEGIN:VEVENT
DTSTART;TZID=America/New_York:20250511T093000
DTEND;TZID=America/New_York:20250511T103000
DTSTAMP:20260423T010518
CREATED:20250424T144502Z
LAST-MODIFIED:20250424T144502Z
UID:10002858-1746955800-1746959400@christchurchoc.org
SUMMARY:Sunday Episcopal Worship Service
DESCRIPTION:Holy Eucharist Rite II with music for the Fourth Sunday of Easter. This service includes readings from the Old and New Testaments\, a Psalm\, and a reading from one of the Gospels\, followed by Communion. The Episcopal Church has an open communion and all are welcome.
URL:https://christchurchoc.org/event/sunday-episcopal-worship-service-50/
LOCATION:Christ Episcopal Church\, 16 Central Avenue\, Oil City\, PA\, 16301\, United States
CATEGORIES:Sunday Worship
ATTACH;FMTTYPE=image/jpeg:https://christchurchoc.org/wp-content/uploads/2022/09/Slider-1a-mobile.jpg
END:VEVENT
BEGIN:VEVENT
DTSTART;TZID=America/New_York:20250518T093000
DTEND;TZID=America/New_York:20250518T103000
DTSTAMP:20260423T010518
CREATED:20250424T144628Z
LAST-MODIFIED:20250424T144650Z
UID:10002859-1747560600-1747564200@christchurchoc.org
SUMMARY:Sunday Episcopal Worship Service
DESCRIPTION:Holy Eucharist Rite II with music for the Fifth Sunday of Easter. This service includes readings from the Old and New Testaments\, a Psalm\, and a reading from one of the Gospels\, followed by Communion. The Episcopal Church has an open communion and all are welcome.
URL:https://christchurchoc.org/event/sunday-episcopal-worship-service-51/
LOCATION:Christ Episcopal Church\, 16 Central Avenue\, Oil City\, PA\, 16301\, United States
CATEGORIES:Sunday Worship
ATTACH;FMTTYPE=image/jpeg:https://christchurchoc.org/wp-content/uploads/2022/09/Slider-1a-mobile.jpg
END:VEVENT
BEGIN:VEVENT
DTSTART;TZID=America/New_York:20250525T093000
DTEND;TZID=America/New_York:20250525T103000
DTSTAMP:20260423T010518
CREATED:20250424T144828Z
LAST-MODIFIED:20250424T144828Z
UID:10002860-1748165400-1748169000@christchurchoc.org
SUMMARY:Sunday Episcopal Worship Service
DESCRIPTION:Holy Eucharist Rite II for the Sixth Sunday of Easter. This service includes readings from the Old and New Testaments\, a Psalm\, and a reading from one of the Gospels\, followed by Communion. The Episcopal Church has an open communion and all are welcome.
URL:https://christchurchoc.org/event/sunday-episcopal-worship-service-52/
LOCATION:Christ Episcopal Church\, 16 Central Avenue\, Oil City\, PA\, 16301\, United States
CATEGORIES:Sunday Worship
ATTACH;FMTTYPE=image/jpeg:https://christchurchoc.org/wp-content/uploads/2022/09/Slider-1a-mobile.jpg
END:VEVENT
END:VCALENDAR