BEGIN:VCALENDAR
VERSION:2.0
PRODID:-//Christ Episcopal Church Oil City - ECPv6.15.20//NONSGML v1.0//EN
CALSCALE:GREGORIAN
METHOD:PUBLISH
X-WR-CALNAME:Christ Episcopal Church Oil City
X-ORIGINAL-URL:https://christchurchoc.org
X-WR-CALDESC:Events for Christ Episcopal Church Oil City
REFRESH-INTERVAL;VALUE=DURATION:PT1H
X-Robots-Tag:noindex
X-PUBLISHED-TTL:PT1H
BEGIN:VTIMEZONE
TZID:America/New_York
BEGIN:DAYLIGHT
TZOFFSETFROM:-0500
TZOFFSETTO:-0400
TZNAME:EDT
DTSTART:20240310T070000
END:DAYLIGHT
BEGIN:STANDARD
TZOFFSETFROM:-0400
TZOFFSETTO:-0500
TZNAME:EST
DTSTART:20241103T060000
END:STANDARD
BEGIN:DAYLIGHT
TZOFFSETFROM:-0500
TZOFFSETTO:-0400
TZNAME:EDT
DTSTART:20250309T070000
END:DAYLIGHT
BEGIN:STANDARD
TZOFFSETFROM:-0400
TZOFFSETTO:-0500
TZNAME:EST
DTSTART:20251102T060000
END:STANDARD
BEGIN:DAYLIGHT
TZOFFSETFROM:-0500
TZOFFSETTO:-0400
TZNAME:EDT
DTSTART:20260308T070000
END:DAYLIGHT
BEGIN:STANDARD
TZOFFSETFROM:-0400
TZOFFSETTO:-0500
TZNAME:EST
DTSTART:20261101T060000
END:STANDARD
BEGIN:DAYLIGHT
TZOFFSETFROM:-0500
TZOFFSETTO:-0400
TZNAME:EDT
DTSTART:20270314T070000
END:DAYLIGHT
BEGIN:STANDARD
TZOFFSETFROM:-0400
TZOFFSETTO:-0500
TZNAME:EST
DTSTART:20271107T060000
END:STANDARD
END:VTIMEZONE
BEGIN:VEVENT
DTSTART;TZID=America/New_York:20260419T093000
DTEND;TZID=America/New_York:20260419T103000
DTSTAMP:20260419T195123
CREATED:20260325T143529Z
LAST-MODIFIED:20260325T143529Z
UID:10002926-1776591000-1776594600@christchurchoc.org
SUMMARY:Sunday Episcopal Worship Service
DESCRIPTION:Holy Eucharist Rite II for the Third Sunday of Easter. This service includes readings from the Old and New Testaments\, a Psalm\, and a reading from one of the Gospels\, followed by Communion. The Episcopal Church has an open communion and all are welcome.
URL:https://christchurchoc.org/event/sunday-episcopal-worship-service-90/
LOCATION:Christ Episcopal Church\, 16 Central Avenue\, Oil City\, PA\, 16301\, United States
CATEGORIES:Sunday Worship
ATTACH;FMTTYPE=image/jpeg:https://christchurchoc.org/wp-content/uploads/2022/09/Slider-1a-mobile.jpg
END:VEVENT
BEGIN:VEVENT
DTSTART;TZID=America/New_York:20260412T093000
DTEND;TZID=America/New_York:20260412T103000
DTSTAMP:20260419T195123
CREATED:20260325T143329Z
LAST-MODIFIED:20260325T143329Z
UID:10002925-1775986200-1775989800@christchurchoc.org
SUMMARY:Sunday Episcopal Worship Service
DESCRIPTION:Holy Eucharist Rite II for the Second Sunday of Easter. This service includes readings from the Old and New Testaments\, a Psalm\, and a reading from one of the Gospels\, followed by Communion. The Episcopal Church has an open communion and all are welcome.
URL:https://christchurchoc.org/event/sunday-episcopal-worship-service-89/
LOCATION:Christ Episcopal Church\, 16 Central Avenue\, Oil City\, PA\, 16301\, United States
CATEGORIES:Sunday Worship
ATTACH;FMTTYPE=image/jpeg:https://christchurchoc.org/wp-content/uploads/2022/09/Slider-1a-mobile.jpg
END:VEVENT
BEGIN:VEVENT
DTSTART;TZID=America/New_York:20260405T093000
DTEND;TZID=America/New_York:20260405T103000
DTSTAMP:20260419T195123
CREATED:20260325T142931Z
LAST-MODIFIED:20260325T142931Z
UID:10002924-1775381400-1775385000@christchurchoc.org
SUMMARY:Easter Sunday Episcopal Worship Service
DESCRIPTION:Holy Eucharist Rite II with Music. The Sunday of the Resurrection / Easter Sunday. This service includes readings from the Old and New Testaments\, a Psalm\, and a reading from one of the Gospels\, followed by Communion. The Episcopal Church has an open communion and all are welcome.
URL:https://christchurchoc.org/event/easter-sunday-episcopal-worship-service-3/
LOCATION:Christ Episcopal Church\, 16 Central Avenue\, Oil City\, PA\, 16301\, United States
CATEGORIES:Holy Week,Sunday Worship
ATTACH;FMTTYPE=image/jpeg:https://christchurchoc.org/wp-content/uploads/2022/09/Slider-1a-mobile.jpg
END:VEVENT
BEGIN:VEVENT
DTSTART;TZID=America/New_York:20260329T093000
DTEND;TZID=America/New_York:20260329T103000
DTSTAMP:20260419T195123
CREATED:20260219T162710Z
LAST-MODIFIED:20260219T162710Z
UID:10002920-1774776600-1774780200@christchurchoc.org
SUMMARY:Sunday Episcopal Worship Service
DESCRIPTION:Holy Eucharist Rite II with Music. The Sunday of the Passion\, also known as Palm Sunday. This service includes the Liturgy of the Palms\, readings from the Old and New Testaments\, a Psalm\, and a reading from one of the Gospels\, followed by Communion. The Episcopal Church has an open communion and all are welcome.
URL:https://christchurchoc.org/event/sunday-episcopal-worship-service-88/
LOCATION:Christ Episcopal Church\, 16 Central Avenue\, Oil City\, PA\, 16301\, United States
CATEGORIES:Holy Week,Sunday Worship
ATTACH;FMTTYPE=image/jpeg:https://christchurchoc.org/wp-content/uploads/2022/09/Slider-1a-mobile.jpg
END:VEVENT
BEGIN:VEVENT
DTSTART;TZID=America/New_York:20260322T093000
DTEND;TZID=America/New_York:20260322T103000
DTSTAMP:20260419T195123
CREATED:20260219T162256Z
LAST-MODIFIED:20260219T162256Z
UID:10002919-1774171800-1774175400@christchurchoc.org
SUMMARY:Sunday Episcopal Worship Service
DESCRIPTION:Holy Eucharist Rite II. The Fifth Sunday in Lent. This service includes readings from the Old and New Testaments\, a Psalm\, and a reading from one of the Gospels\, followed by Communion. The Episcopal Church has an open communion and all are welcome.
URL:https://christchurchoc.org/event/sunday-episcopal-worship-service-87/
LOCATION:Christ Episcopal Church\, 16 Central Avenue\, Oil City\, PA\, 16301\, United States
CATEGORIES:Sunday Worship
ATTACH;FMTTYPE=image/jpeg:https://christchurchoc.org/wp-content/uploads/2022/09/Slider-1a-mobile.jpg
END:VEVENT
BEGIN:VEVENT
DTSTART;TZID=America/New_York:20260315T093000
DTEND;TZID=America/New_York:20260315T103000
DTSTAMP:20260419T195123
CREATED:20260219T162120Z
LAST-MODIFIED:20260219T162120Z
UID:10002918-1773567000-1773570600@christchurchoc.org
SUMMARY:Sunday Episcopal Worship Service
DESCRIPTION:Holy Eucharist Rite II with Music. The Fourth Sunday in Lent. This service includes readings from the Old and New Testaments\, a Psalm\, and a reading from one of the Gospels\, followed by Communion. The Episcopal Church has an open communion and all are welcome.
URL:https://christchurchoc.org/event/sunday-episcopal-worship-service-86/
LOCATION:Christ Episcopal Church\, 16 Central Avenue\, Oil City\, PA\, 16301\, United States
CATEGORIES:Sunday Worship
ATTACH;FMTTYPE=image/jpeg:https://christchurchoc.org/wp-content/uploads/2022/09/Slider-1a-mobile.jpg
END:VEVENT
BEGIN:VEVENT
DTSTART;TZID=America/New_York:20260308T093000
DTEND;TZID=America/New_York:20260308T103000
DTSTAMP:20260419T195123
CREATED:20260219T161952Z
LAST-MODIFIED:20260219T161952Z
UID:10002917-1772962200-1772965800@christchurchoc.org
SUMMARY:Sunday Episcopal Worship Service
DESCRIPTION:Holy Eucharist Rite II with Music. The Third Sunday in Lent. This service includes readings from the Old and New Testaments\, a Psalm\, and a reading from one of the Gospels\, followed by Communion. The Episcopal Church has an open communion and all are welcome.
URL:https://christchurchoc.org/event/sunday-episcopal-worship-service-85/
LOCATION:Christ Episcopal Church\, 16 Central Avenue\, Oil City\, PA\, 16301\, United States
CATEGORIES:Sunday Worship
ATTACH;FMTTYPE=image/jpeg:https://christchurchoc.org/wp-content/uploads/2022/09/Slider-1a-mobile.jpg
END:VEVENT
BEGIN:VEVENT
DTSTART;TZID=America/New_York:20260301T093000
DTEND;TZID=America/New_York:20260301T103000
DTSTAMP:20260419T195123
CREATED:20260219T161816Z
LAST-MODIFIED:20260219T161816Z
UID:10002916-1772357400-1772361000@christchurchoc.org
SUMMARY:Morning Prayer Episcopal Worship Service
DESCRIPTION:Morning Prayer Rite II Service for the Second Sunday in Lent with Worship Leader Leann Felmlee-Brown. Our Morning Prayer service is from the Book of Common Prayer of the Episcopal Church. The Service includes readings from the Old Testament and New Testament\, as well as a Psalm and a reading from one of the Gospels.
URL:https://christchurchoc.org/event/morning-prayer-episcopal-worship-service-21/
LOCATION:Christ Episcopal Church\, 16 Central Avenue\, Oil City\, PA\, 16301\, United States
CATEGORIES:Sunday Worship
ATTACH;FMTTYPE=image/jpeg:https://christchurchoc.org/wp-content/uploads/2022/09/Slider-1a-mobile.jpg
END:VEVENT
BEGIN:VEVENT
DTSTART;TZID=America/New_York:20260222T093000
DTEND;TZID=America/New_York:20260222T103000
DTSTAMP:20260419T195123
CREATED:20260115T151927Z
LAST-MODIFIED:20260115T151927Z
UID:10002913-1771752600-1771756200@christchurchoc.org
SUMMARY:Sunday Episcopal Worship Service
DESCRIPTION:Holy Eucharist Rite II with Music. The First Sunday in Lent. This service includes readings from the Old and New Testaments\, a Psalm\, and a reading from one of the Gospels\, followed by Communion. The Episcopal Church has an open communion and all are welcome.
URL:https://christchurchoc.org/event/sunday-episcopal-worship-service-84/
LOCATION:Christ Episcopal Church\, 16 Central Avenue\, Oil City\, PA\, 16301\, United States
CATEGORIES:Sunday Worship
ATTACH;FMTTYPE=image/jpeg:https://christchurchoc.org/wp-content/uploads/2022/09/Slider-1a-mobile.jpg
END:VEVENT
BEGIN:VEVENT
DTSTART;TZID=America/New_York:20260215T093000
DTEND;TZID=America/New_York:20260215T103000
DTSTAMP:20260419T195123
CREATED:20260115T151727Z
LAST-MODIFIED:20260115T151727Z
UID:10002912-1771147800-1771151400@christchurchoc.org
SUMMARY:Sunday Episcopal Worship Service
DESCRIPTION:Holy Eucharist Rite II with Music. The Last Sunday after the Epiphany. This service includes readings from the Old and New Testaments\, a Psalm\, and a reading from one of the Gospels\, followed by Communion. The Episcopal Church has an open communion and all are welcome.
URL:https://christchurchoc.org/event/sunday-episcopal-worship-service-83/
LOCATION:Christ Episcopal Church\, 16 Central Avenue\, Oil City\, PA\, 16301\, United States
CATEGORIES:Sunday Worship
ATTACH;FMTTYPE=image/jpeg:https://christchurchoc.org/wp-content/uploads/2022/09/Slider-1a-mobile.jpg
END:VEVENT
BEGIN:VEVENT
DTSTART;TZID=America/New_York:20260208T093000
DTEND;TZID=America/New_York:20260208T103000
DTSTAMP:20260419T195123
CREATED:20260115T151150Z
LAST-MODIFIED:20260115T151150Z
UID:10002910-1770543000-1770546600@christchurchoc.org
SUMMARY:Sunday Episcopal Worship Service
DESCRIPTION:Holy Eucharist Rite II with Music. Fifth Sunday after the Epiphany. This service includes readings from the Old and New Testaments\, a Psalm\, and a reading from one of the Gospels\, followed by Communion. The Episcopal Church has an open communion and all are welcome.
URL:https://christchurchoc.org/event/sunday-episcopal-worship-service-82/
LOCATION:Christ Episcopal Church\, 16 Central Avenue\, Oil City\, PA\, 16301\, United States
CATEGORIES:Sunday Worship
ATTACH;FMTTYPE=image/jpeg:https://christchurchoc.org/wp-content/uploads/2022/09/Slider-1a-mobile.jpg
END:VEVENT
BEGIN:VEVENT
DTSTART;TZID=America/New_York:20260201T093000
DTEND;TZID=America/New_York:20260201T103000
DTSTAMP:20260419T195123
CREATED:20260115T151356Z
LAST-MODIFIED:20260115T151433Z
UID:10002911-1769938200-1769941800@christchurchoc.org
SUMMARY:Morning Prayer Episcopal Worship Service
DESCRIPTION:Morning Prayer Rite II Service for the Fourth Sunday after Epiphany with Worship Leader Leann Felmlee-Brown. Our Morning Prayer service is from the Book of Common Prayer of the Episcopal Church. The Service includes readings from the Old Testament and New Testament\, as well as a Psalm and a reading from one of the Gospels.
URL:https://christchurchoc.org/event/morning-prayer-episcopal-worship-service-20/
LOCATION:Christ Episcopal Church\, 16 Central Avenue\, Oil City\, PA\, 16301\, United States
CATEGORIES:Sunday Worship
ATTACH;FMTTYPE=image/jpeg:https://christchurchoc.org/wp-content/uploads/2022/09/Slider-1a-mobile.jpg
END:VEVENT
BEGIN:VEVENT
DTSTART;TZID=America/New_York:20260125T093000
DTEND;TZID=America/New_York:20260125T103000
DTSTAMP:20260419T195123
CREATED:20251217T171214Z
LAST-MODIFIED:20251217T171214Z
UID:10002909-1769333400-1769337000@christchurchoc.org
SUMMARY:Sunday Episcopal Worship Service
DESCRIPTION:Holy Eucharist Rite II with Music. Third Sunday after the Epiphany. This service includes readings from the Old and New Testaments\, a Psalm\, and a reading from one of the Gospels\, followed by Communion. The Episcopal Church has an open communion and all are welcome.
URL:https://christchurchoc.org/event/sunday-episcopal-worship-service-81/
LOCATION:Christ Episcopal Church\, 16 Central Avenue\, Oil City\, PA\, 16301\, United States
CATEGORIES:Sunday Worship
ATTACH;FMTTYPE=image/jpeg:https://christchurchoc.org/wp-content/uploads/2022/09/Slider-1a-mobile.jpg
END:VEVENT
BEGIN:VEVENT
DTSTART;TZID=America/New_York:20260118T093000
DTEND;TZID=America/New_York:20260118T103000
DTSTAMP:20260419T195123
CREATED:20251217T171048Z
LAST-MODIFIED:20251217T171048Z
UID:10002908-1768728600-1768732200@christchurchoc.org
SUMMARY:Sunday Episcopal Worship Service
DESCRIPTION:Holy Eucharist Rite II with Music. Second Sunday after the Epiphany. This service includes readings from the Old and New Testaments\, a Psalm\, and a reading from one of the Gospels\, followed by Communion. The Episcopal Church has an open communion and all are welcome.
URL:https://christchurchoc.org/event/sunday-episcopal-worship-service-80/
LOCATION:Christ Episcopal Church\, 16 Central Avenue\, Oil City\, PA\, 16301\, United States
CATEGORIES:Sunday Worship
ATTACH;FMTTYPE=image/jpeg:https://christchurchoc.org/wp-content/uploads/2022/09/Slider-1a-mobile.jpg
END:VEVENT
BEGIN:VEVENT
DTSTART;TZID=America/New_York:20260111T093000
DTEND;TZID=America/New_York:20260111T103000
DTSTAMP:20260419T195123
CREATED:20251217T170928Z
LAST-MODIFIED:20251217T170928Z
UID:10002907-1768123800-1768127400@christchurchoc.org
SUMMARY:Sunday Episcopal Worship Service
DESCRIPTION:Holy Eucharist Rite II with Music. First Sunday after the Epiphany. This service includes readings from the Old and New Testaments\, a Psalm\, and a reading from one of the Gospels\, followed by Communion. The Episcopal Church has an open communion and all are welcome.
URL:https://christchurchoc.org/event/sunday-episcopal-worship-service-79/
LOCATION:Christ Episcopal Church\, 16 Central Avenue\, Oil City\, PA\, 16301\, United States
CATEGORIES:Sunday Worship
ATTACH;FMTTYPE=image/jpeg:https://christchurchoc.org/wp-content/uploads/2022/09/Slider-1a-mobile.jpg
END:VEVENT
BEGIN:VEVENT
DTSTART;TZID=America/New_York:20260104T093000
DTEND;TZID=America/New_York:20260104T103000
DTSTAMP:20260419T195123
CREATED:20251217T165135Z
LAST-MODIFIED:20251217T165135Z
UID:10002905-1767519000-1767522600@christchurchoc.org
SUMMARY:Morning Prayer Episcopal Worship Service
DESCRIPTION:Morning Prayer Rite II Service for the Second Sunday after Christmas with Worship Leader Leann Felmlee-Brown. Our Morning Prayer service is from the Book of Common Prayer of the Episcopal Church. The Service includes readings from the Old Testament and New Testament\, as well as a Psalm and a reading from one of the Gospels.
URL:https://christchurchoc.org/event/morning-prayer-episcopal-worship-service-19/
LOCATION:Christ Episcopal Church\, 16 Central Avenue\, Oil City\, PA\, 16301\, United States
CATEGORIES:Sunday Worship
ATTACH;FMTTYPE=image/jpeg:https://christchurchoc.org/wp-content/uploads/2022/09/Slider-1a-mobile.jpg
END:VEVENT
BEGIN:VEVENT
DTSTART;TZID=America/New_York:20251228T093000
DTEND;TZID=America/New_York:20251228T103000
DTSTAMP:20260419T195123
CREATED:20251120T162213Z
LAST-MODIFIED:20251120T162213Z
UID:10002903-1766914200-1766917800@christchurchoc.org
SUMMARY:Sunday Episcopal Worship Service
DESCRIPTION:Holy Eucharist Rite II with music for the First Sunday after Christmas. This service includes readings from the Old and New Testaments\, a Psalm\, and a reading from one of the Gospels\, followed by Communion. The Episcopal Church has an open communion and all are welcome.
URL:https://christchurchoc.org/event/sunday-episcopal-worship-service-78/
LOCATION:Christ Episcopal Church\, 16 Central Avenue\, Oil City\, PA\, 16301\, United States
CATEGORIES:Sunday Worship
ATTACH;FMTTYPE=image/jpeg:https://christchurchoc.org/wp-content/uploads/2022/09/Slider-1a-mobile.jpg
END:VEVENT
BEGIN:VEVENT
DTSTART;TZID=America/New_York:20251221T093000
DTEND;TZID=America/New_York:20251221T103000
DTSTAMP:20260419T195123
CREATED:20251120T161122Z
LAST-MODIFIED:20251120T161122Z
UID:10002900-1766309400-1766313000@christchurchoc.org
SUMMARY:Sunday Episcopal Worship Service
DESCRIPTION:Holy Eucharist Rite II with music for the Fourth Sunday of Advent. This service includes readings from the Old and New Testaments\, a Psalm\, and a reading from one of the Gospels\, followed by Communion. The Episcopal Church has an open communion and all are welcome.
URL:https://christchurchoc.org/event/sunday-episcopal-worship-service-77/
LOCATION:Christ Episcopal Church\, 16 Central Avenue\, Oil City\, PA\, 16301\, United States
CATEGORIES:Sunday Worship
ATTACH;FMTTYPE=image/jpeg:https://christchurchoc.org/wp-content/uploads/2022/09/Slider-1a-mobile.jpg
END:VEVENT
BEGIN:VEVENT
DTSTART;TZID=America/New_York:20251214T093000
DTEND;TZID=America/New_York:20251214T103000
DTSTAMP:20260419T195123
CREATED:20251120T160633Z
LAST-MODIFIED:20251120T160633Z
UID:10002899-1765704600-1765708200@christchurchoc.org
SUMMARY:Sunday Episcopal Worship Service
DESCRIPTION:Holy Eucharist Rite II with music for the Third Sunday of Advent. This service includes readings from the Old and New Testaments\, a Psalm\, and a reading from one of the Gospels\, followed by Communion. The Episcopal Church has an open communion and all are welcome.
URL:https://christchurchoc.org/event/sunday-episcopal-worship-service-76/
LOCATION:Christ Episcopal Church\, 16 Central Avenue\, Oil City\, PA\, 16301\, United States
CATEGORIES:Sunday Worship
ATTACH;FMTTYPE=image/jpeg:https://christchurchoc.org/wp-content/uploads/2022/09/Slider-1a-mobile.jpg
END:VEVENT
BEGIN:VEVENT
DTSTART;TZID=America/New_York:20251207T093000
DTEND;TZID=America/New_York:20251207T103000
DTSTAMP:20260419T195123
CREATED:20251120T160418Z
LAST-MODIFIED:20251120T160418Z
UID:10002898-1765099800-1765103400@christchurchoc.org
SUMMARY:Sunday Episcopal Worship Service
DESCRIPTION:Mass of the Pre-sanctified with the Reverend Dave Betz. The Second Sunday of Advent. This service includes readings from the Old and New Testaments\, a Psalm\, and a reading from one of the Gospels\, followed by Communion. The Episcopal Church has an open communion and all are welcome.
URL:https://christchurchoc.org/event/sunday-episcopal-worship-service-75/
LOCATION:Christ Episcopal Church\, 16 Central Avenue\, Oil City\, PA\, 16301\, United States
CATEGORIES:Sunday Worship
ATTACH;FMTTYPE=image/jpeg:https://christchurchoc.org/wp-content/uploads/2022/09/Slider-1a-mobile.jpg
END:VEVENT
BEGIN:VEVENT
DTSTART;TZID=America/New_York:20251130T093000
DTEND;TZID=America/New_York:20251130T103000
DTSTAMP:20260419T195123
CREATED:20251024T143818Z
LAST-MODIFIED:20251024T143818Z
UID:10002896-1764495000-1764498600@christchurchoc.org
SUMMARY:Sunday Episcopal Worship Service
DESCRIPTION:Holy Eucharist Rite II with music for the 1st Sunday of Advent. This service includes readings from the Old and New Testaments\, a Psalm\, and a reading from one of the Gospels\, followed by Communion. The Episcopal Church has an open communion and all are welcome.
URL:https://christchurchoc.org/event/sunday-episcopal-worship-service-74/
LOCATION:Christ Episcopal Church\, 16 Central Avenue\, Oil City\, PA\, 16301\, United States
CATEGORIES:Sunday Worship
ATTACH;FMTTYPE=image/jpeg:https://christchurchoc.org/wp-content/uploads/2022/09/Slider-1a-mobile.jpg
END:VEVENT
BEGIN:VEVENT
DTSTART;TZID=America/New_York:20251123T093000
DTEND;TZID=America/New_York:20251123T103000
DTSTAMP:20260419T195123
CREATED:20251024T143703Z
LAST-MODIFIED:20251024T143703Z
UID:10002895-1763890200-1763893800@christchurchoc.org
SUMMARY:Sunday Episcopal Worship Service
DESCRIPTION:Holy Eucharist Rite II with music for Christ the King Sunday (the last Sunday after Pentecost). This service includes readings from the Old and New Testaments\, a Psalm\, and a reading from one of the Gospels\, followed by Communion. The Episcopal Church has an open communion and all are welcome.
URL:https://christchurchoc.org/event/sunday-episcopal-worship-service-73/
LOCATION:Christ Episcopal Church\, 16 Central Avenue\, Oil City\, PA\, 16301\, United States
CATEGORIES:Sunday Worship
ATTACH;FMTTYPE=image/jpeg:https://christchurchoc.org/wp-content/uploads/2022/09/Slider-1a-mobile.jpg
END:VEVENT
BEGIN:VEVENT
DTSTART;TZID=America/New_York:20251116T093000
DTEND;TZID=America/New_York:20251116T103000
DTSTAMP:20260419T195123
CREATED:20251024T143535Z
LAST-MODIFIED:20251024T143535Z
UID:10002894-1763285400-1763289000@christchurchoc.org
SUMMARY:Sunday Episcopal Worship Service
DESCRIPTION:Holy Eucharist Rite II with music for the 23rd Sunday after Pentecost. This service includes readings from the Old and New Testaments\, a Psalm\, and a reading from one of the Gospels\, followed by Communion. The Episcopal Church has an open communion and all are welcome.
URL:https://christchurchoc.org/event/sunday-episcopal-worship-service-72/
LOCATION:Christ Episcopal Church\, 16 Central Avenue\, Oil City\, PA\, 16301\, United States
CATEGORIES:Sunday Worship
ATTACH;FMTTYPE=image/jpeg:https://christchurchoc.org/wp-content/uploads/2022/09/Slider-1a-mobile.jpg
END:VEVENT
BEGIN:VEVENT
DTSTART;TZID=America/New_York:20251109T093000
DTEND;TZID=America/New_York:20251109T103000
DTSTAMP:20260419T195123
CREATED:20251024T143421Z
LAST-MODIFIED:20251024T143421Z
UID:10002893-1762680600-1762684200@christchurchoc.org
SUMMARY:Sunday Episcopal Worship Service
DESCRIPTION:Holy Eucharist Rite II for the 22nd Sunday after Pentecost. This service includes readings from the Old and New Testaments\, a Psalm\, and a reading from one of the Gospels\, followed by Communion. The Episcopal Church has an open communion and all are welcome.
URL:https://christchurchoc.org/event/sunday-episcopal-worship-service-71/
LOCATION:Christ Episcopal Church\, 16 Central Avenue\, Oil City\, PA\, 16301\, United States
CATEGORIES:Sunday Worship
ATTACH;FMTTYPE=image/jpeg:https://christchurchoc.org/wp-content/uploads/2022/09/Slider-1a-mobile.jpg
END:VEVENT
BEGIN:VEVENT
DTSTART;TZID=America/New_York:20251102T093000
DTEND;TZID=America/New_York:20251102T103000
DTSTAMP:20260419T195123
CREATED:20251022T162108Z
LAST-MODIFIED:20251022T162108Z
UID:10002892-1762075800-1762079400@christchurchoc.org
SUMMARY:Sunday Episcopal Worship Service
DESCRIPTION:Holy Eucharist Rite II with music for the All Saints’ Sunday. This service includes readings from the Old and New Testaments\, a Psalm\, and a reading from one of the Gospels\, followed by Communion. The Episcopal Church has an open communion and all are welcome.
URL:https://christchurchoc.org/event/sunday-episcopal-worship-service-70/
LOCATION:Christ Episcopal Church\, 16 Central Avenue\, Oil City\, PA\, 16301\, United States
CATEGORIES:Sunday Worship
ATTACH;FMTTYPE=image/jpeg:https://christchurchoc.org/wp-content/uploads/2022/09/Slider-1a-mobile.jpg
END:VEVENT
BEGIN:VEVENT
DTSTART;TZID=America/New_York:20251026T093000
DTEND;TZID=America/New_York:20251026T103000
DTSTAMP:20260419T195123
CREATED:20250925T143726Z
LAST-MODIFIED:20250925T143726Z
UID:10002890-1761471000-1761474600@christchurchoc.org
SUMMARY:Sunday Episcopal Worship Service
DESCRIPTION:Holy Eucharist Rite II with music for the 20th Sunday after Pentecost. This service includes readings from the Old and New Testaments\, a Psalm\, and a reading from one of the Gospels\, followed by Communion. The Episcopal Church has an open communion and all are welcome.
URL:https://christchurchoc.org/event/sunday-episcopal-worship-service-69/
LOCATION:Christ Episcopal Church\, 16 Central Avenue\, Oil City\, PA\, 16301\, United States
CATEGORIES:Sunday Worship
ATTACH;FMTTYPE=image/jpeg:https://christchurchoc.org/wp-content/uploads/2022/09/Slider-1a-mobile.jpg
END:VEVENT
BEGIN:VEVENT
DTSTART;TZID=America/New_York:20251019T093000
DTEND;TZID=America/New_York:20251019T103000
DTSTAMP:20260419T195123
CREATED:20250925T143550Z
LAST-MODIFIED:20250925T143550Z
UID:10002889-1760866200-1760869800@christchurchoc.org
SUMMARY:Sunday Episcopal Worship Service
DESCRIPTION:Holy Eucharist Rite II with music for the 19th Sunday after Pentecost. This service includes readings from the Old and New Testaments\, a Psalm\, and a reading from one of the Gospels\, followed by Communion. The Episcopal Church has an open communion and all are welcome.
URL:https://christchurchoc.org/event/sunday-episcopal-worship-service-68/
LOCATION:Christ Episcopal Church\, 16 Central Avenue\, Oil City\, PA\, 16301\, United States
CATEGORIES:Sunday Worship
ATTACH;FMTTYPE=image/jpeg:https://christchurchoc.org/wp-content/uploads/2022/09/Slider-1a-mobile.jpg
END:VEVENT
BEGIN:VEVENT
DTSTART;TZID=America/New_York:20251012T093000
DTEND;TZID=America/New_York:20251012T103000
DTSTAMP:20260419T195123
CREATED:20250925T143429Z
LAST-MODIFIED:20250925T143429Z
UID:10002888-1760261400-1760265000@christchurchoc.org
SUMMARY:Sunday Episcopal Worship Service
DESCRIPTION:Holy Eucharist Rite II with music for the 18th Sunday after Pentecost. This service includes readings from the Old and New Testaments\, a Psalm\, and a reading from one of the Gospels\, followed by Communion. The Episcopal Church has an open communion and all are welcome.
URL:https://christchurchoc.org/event/sunday-episcopal-worship-service-67/
LOCATION:Christ Episcopal Church\, 16 Central Avenue\, Oil City\, PA\, 16301\, United States
CATEGORIES:Sunday Worship
ATTACH;FMTTYPE=image/jpeg:https://christchurchoc.org/wp-content/uploads/2022/09/Slider-1a-mobile.jpg
END:VEVENT
BEGIN:VEVENT
DTSTART;TZID=America/New_York:20251005T093000
DTEND;TZID=America/New_York:20251005T103000
DTSTAMP:20260419T195123
CREATED:20250925T143123Z
LAST-MODIFIED:20250925T143123Z
UID:10002887-1759656600-1759660200@christchurchoc.org
SUMMARY:Morning Prayer Episcopal Worship Service
DESCRIPTION:Morning Prayer Rite II Service for the 17th Sunday after Pentecost with Worship Leader Leann Felmlee-Brown. Our Morning Prayer service is from the Book of Common Prayer of the Episcopal Church. The Service includes readings from the Old Testament and New Testament\, as well as a Psalm and a reading from one of the Gospels.
URL:https://christchurchoc.org/event/morning-prayer-episcopal-worship-service-18/
LOCATION:Christ Episcopal Church\, 16 Central Avenue\, Oil City\, PA\, 16301\, United States
CATEGORIES:Sunday Worship
ATTACH;FMTTYPE=image/jpeg:https://christchurchoc.org/wp-content/uploads/2022/09/Slider-1a-mobile.jpg
END:VEVENT
BEGIN:VEVENT
DTSTART;TZID=America/New_York:20250928T093000
DTEND;TZID=America/New_York:20250928T103000
DTSTAMP:20260419T195123
CREATED:20250826T142848Z
LAST-MODIFIED:20250826T142848Z
UID:10002885-1759051800-1759055400@christchurchoc.org
SUMMARY:Sunday Episcopal Worship Service
DESCRIPTION:Holy Eucharist Rite II with music for the 16th Sunday after Pentecost. This service includes readings from the Old and New Testaments\, a Psalm\, and a reading from one of the Gospels\, followed by Communion. The Episcopal Church has an open communion and all are welcome.
URL:https://christchurchoc.org/event/sunday-episcopal-worship-service-66/
LOCATION:Christ Episcopal Church\, 16 Central Avenue\, Oil City\, PA\, 16301\, United States
CATEGORIES:Sunday Worship
ATTACH;FMTTYPE=image/jpeg:https://christchurchoc.org/wp-content/uploads/2022/09/Slider-1a-mobile.jpg
END:VEVENT
END:VCALENDAR