BEGIN:VCALENDAR
VERSION:2.0
PRODID:-//Christ Episcopal Church Oil City - ECPv6.15.20//NONSGML v1.0//EN
CALSCALE:GREGORIAN
METHOD:PUBLISH
X-ORIGINAL-URL:https://christchurchoc.org
X-WR-CALDESC:Events for Christ Episcopal Church Oil City
REFRESH-INTERVAL;VALUE=DURATION:PT1H
X-Robots-Tag:noindex
X-PUBLISHED-TTL:PT1H
BEGIN:VTIMEZONE
TZID:America/New_York
BEGIN:DAYLIGHT
TZOFFSETFROM:-0500
TZOFFSETTO:-0400
TZNAME:EDT
DTSTART:20210314T070000
END:DAYLIGHT
BEGIN:STANDARD
TZOFFSETFROM:-0400
TZOFFSETTO:-0500
TZNAME:EST
DTSTART:20211107T060000
END:STANDARD
BEGIN:DAYLIGHT
TZOFFSETFROM:-0500
TZOFFSETTO:-0400
TZNAME:EDT
DTSTART:20220313T070000
END:DAYLIGHT
BEGIN:STANDARD
TZOFFSETFROM:-0400
TZOFFSETTO:-0500
TZNAME:EST
DTSTART:20221106T060000
END:STANDARD
BEGIN:DAYLIGHT
TZOFFSETFROM:-0500
TZOFFSETTO:-0400
TZNAME:EDT
DTSTART:20230312T070000
END:DAYLIGHT
BEGIN:STANDARD
TZOFFSETFROM:-0400
TZOFFSETTO:-0500
TZNAME:EST
DTSTART:20231105T060000
END:STANDARD
END:VTIMEZONE
BEGIN:VEVENT
DTSTART;TZID=America/New_York:20221002T093000
DTEND;TZID=America/New_York:20221002T230000
DTSTAMP:20260423T163715
CREATED:20220918T070639Z
LAST-MODIFIED:20220918T070639Z
UID:10000003-1664703000-1664751600@christchurchoc.org
SUMMARY:Sunday Worship Service
DESCRIPTION:Our Sunday Worship Service is held at 9:30 a.m. \nYou will hear scripture\, God’s Holy Word. Normally\, there will be a reading from the Old Testament\, a Psalm\, an Epistle\, and a reading from the Gospels. A short sermon. We affirm our beliefs with one of the traditional creeds of the Church. We offer prayers for the Church\, the nation\, the world\, our local community\, those in need\, and for the departed. We confess our sins together.  Then we celebrate the Eucharist on most Sundays. Eucharist is from a Greek word meaning “thanksgiving.” It can also be referred to as the Mass or Communion. We come to the Lord’s table to celebrate the memorial of our redemption in a sacrament in which we believe Christ is truly present. We then thank God for feeding us with this spiritual food and go forth into the world. The sacrament is available to all who have been baptized in water and Spirit. Most Sundays\, we have music with piano or organ. \n* Children’s activity boxes are provided for children 10 and under.  \n*After dismissal from worship all are welcome to join us in a refreshment hour in our conveniently located social room and library.
URL:https://christchurchoc.org/event/sunday-worship-service-3/
LOCATION:Christ Episcopal Church\, 16 Central Avenue\, Oil City\, PA\, 16301\, United States
CATEGORIES:Sunday Worship
ATTACH;FMTTYPE=image/jpeg:https://christchurchoc.org/wp-content/uploads/2022/09/Sunday-Worship-Service-Event-Header.jpg
END:VEVENT
BEGIN:VEVENT
DTSTART;TZID=America/New_York:20220925T093000
DTEND;TZID=America/New_York:20220925T110000
DTSTAMP:20260423T163715
CREATED:20220918T070504Z
LAST-MODIFIED:20220918T070504Z
UID:10000002-1664098200-1664103600@christchurchoc.org
SUMMARY:Sunday Worship Service
DESCRIPTION:Our Sunday Worship Service is held at 9:30 a.m. \nYou will hear scripture\, God’s Holy Word. Normally\, there will be a reading from the Old Testament\, a Psalm\, an Epistle\, and a reading from the Gospels. A short sermon. We affirm our beliefs with one of the traditional creeds of the Church. We offer prayers for the Church\, the nation\, the world\, our local community\, those in need\, and for the departed. We confess our sins together.  Then we celebrate the Eucharist on most Sundays. Eucharist is from a Greek word meaning “thanksgiving.” It can also be referred to as the Mass or Communion. We come to the Lord’s table to celebrate the memorial of our redemption in a sacrament in which we believe Christ is truly present. We then thank God for feeding us with this spiritual food and go forth into the world. The sacrament is available to all who have been baptized in water and Spirit. Most Sundays\, we have music with piano or organ. \n* Children’s activity boxes are provided for children 10 and under.  \n*After dismissal from worship all are welcome to join us in a refreshment hour in our conveniently located social room and library.
URL:https://christchurchoc.org/event/sunday-worship-service-2/
LOCATION:Christ Episcopal Church\, 16 Central Avenue\, Oil City\, PA\, 16301\, United States
CATEGORIES:Sunday Worship
ATTACH;FMTTYPE=image/jpeg:https://christchurchoc.org/wp-content/uploads/2022/09/Sunday-Worship-Service-Event-Header.jpg
END:VEVENT
BEGIN:VEVENT
DTSTART;TZID=America/New_York:20220918T093000
DTEND;TZID=America/New_York:20220918T230000
DTSTAMP:20260423T163715
CREATED:20220912T170059Z
LAST-MODIFIED:20220912T170059Z
UID:10000001-1663493400-1663542000@christchurchoc.org
SUMMARY:Sunday Worship Service
DESCRIPTION:Our Sunday Worship Service is held at 9:30 a.m. \nYou will hear scripture\, God’s Holy Word. Normally\, there will be a reading from the Old Testament\, a Psalm\, an Epistle\, and a reading from the Gospels. A short sermon. We affirm our beliefs with one of the traditional creeds of the Church. We offer prayers for the Church\, the nation\, the world\, our local community\, those in need\, and for the departed. We confess our sins together.  Then we celebrate the Eucharist on most Sundays. Eucharist is from a Greek word meaning “thanksgiving.” It can also be referred to as the Mass or Communion. We come to the Lord’s table to celebrate the memorial of our redemption in a sacrament in which we believe Christ is truly present. We then thank God for feeding us with this spiritual food and go forth into the world. The sacrament is available to all who have been baptized in water and Spirit. Most Sundays\, we have music with piano or organ. \n* Children’s activity boxes are provided for children 10 and under.  \n*After dismissal from worship all are welcome to join us in a refreshment hour in our conveniently located social room and library.
URL:https://christchurchoc.org/event/sunday-worship-service/
LOCATION:Christ Episcopal Church\, 16 Central Avenue\, Oil City\, PA\, 16301\, United States
CATEGORIES:Sunday Worship
ATTACH;FMTTYPE=image/jpeg:https://christchurchoc.org/wp-content/uploads/2022/09/Sunday-Worship-Service-Event-Header.jpg
END:VEVENT
END:VCALENDAR