BEGIN:VCALENDAR
VERSION:2.0
PRODID:-//Christ Episcopal Church Oil City - ECPv6.15.20//NONSGML v1.0//EN
CALSCALE:GREGORIAN
METHOD:PUBLISH
X-WR-CALNAME:Christ Episcopal Church Oil City
X-ORIGINAL-URL:https://christchurchoc.org
X-WR-CALDESC:Events for Christ Episcopal Church Oil City
REFRESH-INTERVAL;VALUE=DURATION:PT1H
X-Robots-Tag:noindex
X-PUBLISHED-TTL:PT1H
BEGIN:VTIMEZONE
TZID:America/New_York
BEGIN:DAYLIGHT
TZOFFSETFROM:-0500
TZOFFSETTO:-0400
TZNAME:EDT
DTSTART:20250309T070000
END:DAYLIGHT
BEGIN:STANDARD
TZOFFSETFROM:-0400
TZOFFSETTO:-0500
TZNAME:EST
DTSTART:20251102T060000
END:STANDARD
BEGIN:DAYLIGHT
TZOFFSETFROM:-0500
TZOFFSETTO:-0400
TZNAME:EDT
DTSTART:20260308T070000
END:DAYLIGHT
BEGIN:STANDARD
TZOFFSETFROM:-0400
TZOFFSETTO:-0500
TZNAME:EST
DTSTART:20261101T060000
END:STANDARD
BEGIN:DAYLIGHT
TZOFFSETFROM:-0500
TZOFFSETTO:-0400
TZNAME:EDT
DTSTART:20270314T070000
END:DAYLIGHT
BEGIN:STANDARD
TZOFFSETFROM:-0400
TZOFFSETTO:-0500
TZNAME:EST
DTSTART:20271107T060000
END:STANDARD
END:VTIMEZONE
BEGIN:VEVENT
DTSTART;TZID=America/New_York:20260429T120000
DTEND;TZID=America/New_York:20260429T130000
DTSTAMP:20260419T211126
CREATED:20231211T230430Z
LAST-MODIFIED:20231211T230430Z
UID:10000417-1777464000-1777467600@christchurchoc.org
SUMMARY:AA Meeting
DESCRIPTION:Open Recovery Meeting. Big Book Discussion.
URL:https://christchurchoc.org/event/aa-meeting-11/2026-04-29/
LOCATION:Kapp Hall\, 16 Central Avenue\, Oil City\, PA\, PA\, United States
CATEGORIES:Recovery Group
ATTACH;FMTTYPE=image/webp:https://christchurchoc.org/wp-content/uploads/2023/11/AA.webp
END:VEVENT
BEGIN:VEVENT
DTSTART;TZID=America/New_York:20260427T120000
DTEND;TZID=America/New_York:20260427T130000
DTSTAMP:20260419T211126
CREATED:20231211T225939Z
LAST-MODIFIED:20231211T225939Z
UID:10000155-1777291200-1777294800@christchurchoc.org
SUMMARY:AA Meeting
DESCRIPTION:Open Recovery Meeting in Kapp Hall. Daily ReflectionsBook.
URL:https://christchurchoc.org/event/aa-meeting-10/2026-04-27/
LOCATION:PA
CATEGORIES:Recovery Group
ATTACH;FMTTYPE=image/webp:https://christchurchoc.org/wp-content/uploads/2023/11/AA.webp
END:VEVENT
BEGIN:VEVENT
DTSTART;TZID=America/New_York:20260426T093000
DTEND;TZID=America/New_York:20260426T103000
DTSTAMP:20260419T211126
CREATED:20260325T143730Z
LAST-MODIFIED:20260325T143730Z
UID:10002927-1777195800-1777199400@christchurchoc.org
SUMMARY:Sunday Episcopal Worship Service
DESCRIPTION:Holy Eucharist Rite II for the Fourth Sunday of Easter. This service includes readings from the Old and New Testaments\, a Psalm\, and a reading from one of the Gospels\, followed by Communion. The Episcopal Church has an open communion and all are welcome.
URL:https://christchurchoc.org/event/sunday-episcopal-worship-service-91/
LOCATION:Christ Episcopal Church\, 16 Central Avenue\, Oil City\, PA\, 16301\, United States
CATEGORIES:Sunday Worship
ATTACH;FMTTYPE=image/jpeg:https://christchurchoc.org/wp-content/uploads/2022/09/Slider-1a-mobile.jpg
END:VEVENT
BEGIN:VEVENT
DTSTART;TZID=America/New_York:20260425T181500
DTEND;TZID=America/New_York:20260425T191500
DTSTAMP:20260419T211126
CREATED:20240912T160609Z
LAST-MODIFIED:20240912T160609Z
UID:10002633-1777140900-1777144500@christchurchoc.org
SUMMARY:NA Meeting
DESCRIPTION:Open Discussion Recovery Meeting using Narcotics Anonymous book.
URL:https://christchurchoc.org/event/na-meeting-2/2026-04-25/
LOCATION:Kapp Hall\, 16 Central Avenue\, Oil City\, PA\, PA\, United States
CATEGORIES:Recovery Group
ATTACH;FMTTYPE=image/jpeg:https://christchurchoc.org/wp-content/uploads/2024/09/NA-Logo.jpg
END:VEVENT
BEGIN:VEVENT
DTSTART;TZID=America/New_York:20260425T120000
DTEND;TZID=America/New_York:20260425T130000
DTSTAMP:20260419T211126
CREATED:20231211T230753Z
LAST-MODIFIED:20231211T230833Z
UID:10000677-1777118400-1777122000@christchurchoc.org
SUMMARY:AA Meeting
DESCRIPTION:Open Discussion Recovery Meeting using the 12 Steps & 12 Traditions book.
URL:https://christchurchoc.org/event/aa-meeting-12/2026-04-25/
LOCATION:Kapp Hall\, 16 Central Avenue\, Oil City\, PA\, PA\, United States
CATEGORIES:Recovery Group
ATTACH;FMTTYPE=image/webp:https://christchurchoc.org/wp-content/uploads/2023/11/AA.webp
END:VEVENT
BEGIN:VEVENT
DTSTART;TZID=America/New_York:20260424T120000
DTEND;TZID=America/New_York:20260424T130000
DTSTAMP:20260419T211126
CREATED:20240912T160125Z
LAST-MODIFIED:20240912T160125Z
UID:10001589-1777032000-1777035600@christchurchoc.org
SUMMARY:NA Meeting
DESCRIPTION:Open Discussion Recovery Meeting using Narcotics Anonymous book.
URL:https://christchurchoc.org/event/na-meeting/2026-04-24/
LOCATION:Kapp Hall\, 16 Central Avenue\, Oil City\, PA\, PA\, United States
CATEGORIES:Recovery Group
ATTACH;FMTTYPE=image/jpeg:https://christchurchoc.org/wp-content/uploads/2024/09/NA-Logo.jpg
END:VEVENT
BEGIN:VEVENT
DTSTART;TZID=America/New_York:20260422T120000
DTEND;TZID=America/New_York:20260422T130000
DTSTAMP:20260419T211126
CREATED:20231211T230430Z
LAST-MODIFIED:20231211T230430Z
UID:10000416-1776859200-1776862800@christchurchoc.org
SUMMARY:AA Meeting
DESCRIPTION:Open Recovery Meeting. Big Book Discussion.
URL:https://christchurchoc.org/event/aa-meeting-11/2026-04-22/
LOCATION:Kapp Hall\, 16 Central Avenue\, Oil City\, PA\, PA\, United States
CATEGORIES:Recovery Group
ATTACH;FMTTYPE=image/webp:https://christchurchoc.org/wp-content/uploads/2023/11/AA.webp
END:VEVENT
BEGIN:VEVENT
DTSTART;TZID=America/New_York:20260420T120000
DTEND;TZID=America/New_York:20260420T130000
DTSTAMP:20260419T211126
CREATED:20231211T225939Z
LAST-MODIFIED:20231211T225939Z
UID:10000154-1776686400-1776690000@christchurchoc.org
SUMMARY:AA Meeting
DESCRIPTION:Open Recovery Meeting in Kapp Hall. Daily ReflectionsBook.
URL:https://christchurchoc.org/event/aa-meeting-10/2026-04-20/
LOCATION:PA
CATEGORIES:Recovery Group
ATTACH;FMTTYPE=image/webp:https://christchurchoc.org/wp-content/uploads/2023/11/AA.webp
END:VEVENT
BEGIN:VEVENT
DTSTART;TZID=America/New_York:20260419T093000
DTEND;TZID=America/New_York:20260419T103000
DTSTAMP:20260419T211126
CREATED:20260325T143529Z
LAST-MODIFIED:20260325T143529Z
UID:10002926-1776591000-1776594600@christchurchoc.org
SUMMARY:Sunday Episcopal Worship Service
DESCRIPTION:Holy Eucharist Rite II for the Third Sunday of Easter. This service includes readings from the Old and New Testaments\, a Psalm\, and a reading from one of the Gospels\, followed by Communion. The Episcopal Church has an open communion and all are welcome.
URL:https://christchurchoc.org/event/sunday-episcopal-worship-service-90/
LOCATION:Christ Episcopal Church\, 16 Central Avenue\, Oil City\, PA\, 16301\, United States
CATEGORIES:Sunday Worship
ATTACH;FMTTYPE=image/jpeg:https://christchurchoc.org/wp-content/uploads/2022/09/Slider-1a-mobile.jpg
END:VEVENT
BEGIN:VEVENT
DTSTART;TZID=America/New_York:20260418T181500
DTEND;TZID=America/New_York:20260418T191500
DTSTAMP:20260419T211126
CREATED:20240912T160609Z
LAST-MODIFIED:20240912T160609Z
UID:10002632-1776536100-1776539700@christchurchoc.org
SUMMARY:NA Meeting
DESCRIPTION:Open Discussion Recovery Meeting using Narcotics Anonymous book.
URL:https://christchurchoc.org/event/na-meeting-2/2026-04-18/
LOCATION:Kapp Hall\, 16 Central Avenue\, Oil City\, PA\, PA\, United States
CATEGORIES:Recovery Group
ATTACH;FMTTYPE=image/jpeg:https://christchurchoc.org/wp-content/uploads/2024/09/NA-Logo.jpg
END:VEVENT
BEGIN:VEVENT
DTSTART;TZID=America/New_York:20260418T120000
DTEND;TZID=America/New_York:20260418T130000
DTSTAMP:20260419T211126
CREATED:20231211T230753Z
LAST-MODIFIED:20231211T230833Z
UID:10000676-1776513600-1776517200@christchurchoc.org
SUMMARY:AA Meeting
DESCRIPTION:Open Discussion Recovery Meeting using the 12 Steps & 12 Traditions book.
URL:https://christchurchoc.org/event/aa-meeting-12/2026-04-18/
LOCATION:Kapp Hall\, 16 Central Avenue\, Oil City\, PA\, PA\, United States
CATEGORIES:Recovery Group
ATTACH;FMTTYPE=image/webp:https://christchurchoc.org/wp-content/uploads/2023/11/AA.webp
END:VEVENT
BEGIN:VEVENT
DTSTART;TZID=America/New_York:20260417T120000
DTEND;TZID=America/New_York:20260417T130000
DTSTAMP:20260419T211126
CREATED:20240912T160125Z
LAST-MODIFIED:20240912T160125Z
UID:10001588-1776427200-1776430800@christchurchoc.org
SUMMARY:NA Meeting
DESCRIPTION:Open Discussion Recovery Meeting using Narcotics Anonymous book.
URL:https://christchurchoc.org/event/na-meeting/2026-04-17/
LOCATION:Kapp Hall\, 16 Central Avenue\, Oil City\, PA\, PA\, United States
CATEGORIES:Recovery Group
ATTACH;FMTTYPE=image/jpeg:https://christchurchoc.org/wp-content/uploads/2024/09/NA-Logo.jpg
END:VEVENT
BEGIN:VEVENT
DTSTART;TZID=America/New_York:20260415T120000
DTEND;TZID=America/New_York:20260415T130000
DTSTAMP:20260419T211126
CREATED:20231211T230430Z
LAST-MODIFIED:20231211T230430Z
UID:10000415-1776254400-1776258000@christchurchoc.org
SUMMARY:AA Meeting
DESCRIPTION:Open Recovery Meeting. Big Book Discussion.
URL:https://christchurchoc.org/event/aa-meeting-11/2026-04-15/
LOCATION:Kapp Hall\, 16 Central Avenue\, Oil City\, PA\, PA\, United States
CATEGORIES:Recovery Group
ATTACH;FMTTYPE=image/webp:https://christchurchoc.org/wp-content/uploads/2023/11/AA.webp
END:VEVENT
BEGIN:VEVENT
DTSTART;TZID=America/New_York:20260413T120000
DTEND;TZID=America/New_York:20260413T130000
DTSTAMP:20260419T211126
CREATED:20231211T225939Z
LAST-MODIFIED:20231211T225939Z
UID:10000153-1776081600-1776085200@christchurchoc.org
SUMMARY:AA Meeting
DESCRIPTION:Open Recovery Meeting in Kapp Hall. Daily ReflectionsBook.
URL:https://christchurchoc.org/event/aa-meeting-10/2026-04-13/
LOCATION:PA
CATEGORIES:Recovery Group
ATTACH;FMTTYPE=image/webp:https://christchurchoc.org/wp-content/uploads/2023/11/AA.webp
END:VEVENT
BEGIN:VEVENT
DTSTART;TZID=America/New_York:20260412T093000
DTEND;TZID=America/New_York:20260412T103000
DTSTAMP:20260419T211126
CREATED:20260325T143329Z
LAST-MODIFIED:20260325T143329Z
UID:10002925-1775986200-1775989800@christchurchoc.org
SUMMARY:Sunday Episcopal Worship Service
DESCRIPTION:Holy Eucharist Rite II for the Second Sunday of Easter. This service includes readings from the Old and New Testaments\, a Psalm\, and a reading from one of the Gospels\, followed by Communion. The Episcopal Church has an open communion and all are welcome.
URL:https://christchurchoc.org/event/sunday-episcopal-worship-service-89/
LOCATION:Christ Episcopal Church\, 16 Central Avenue\, Oil City\, PA\, 16301\, United States
CATEGORIES:Sunday Worship
ATTACH;FMTTYPE=image/jpeg:https://christchurchoc.org/wp-content/uploads/2022/09/Slider-1a-mobile.jpg
END:VEVENT
BEGIN:VEVENT
DTSTART;TZID=America/New_York:20260411T181500
DTEND;TZID=America/New_York:20260411T191500
DTSTAMP:20260419T211126
CREATED:20240912T160609Z
LAST-MODIFIED:20240912T160609Z
UID:10002631-1775931300-1775934900@christchurchoc.org
SUMMARY:NA Meeting
DESCRIPTION:Open Discussion Recovery Meeting using Narcotics Anonymous book.
URL:https://christchurchoc.org/event/na-meeting-2/2026-04-11/
LOCATION:Kapp Hall\, 16 Central Avenue\, Oil City\, PA\, PA\, United States
CATEGORIES:Recovery Group
ATTACH;FMTTYPE=image/jpeg:https://christchurchoc.org/wp-content/uploads/2024/09/NA-Logo.jpg
END:VEVENT
BEGIN:VEVENT
DTSTART;TZID=America/New_York:20260411T120000
DTEND;TZID=America/New_York:20260411T130000
DTSTAMP:20260419T211126
CREATED:20231211T230753Z
LAST-MODIFIED:20231211T230833Z
UID:10000675-1775908800-1775912400@christchurchoc.org
SUMMARY:AA Meeting
DESCRIPTION:Open Discussion Recovery Meeting using the 12 Steps & 12 Traditions book.
URL:https://christchurchoc.org/event/aa-meeting-12/2026-04-11/
LOCATION:Kapp Hall\, 16 Central Avenue\, Oil City\, PA\, PA\, United States
CATEGORIES:Recovery Group
ATTACH;FMTTYPE=image/webp:https://christchurchoc.org/wp-content/uploads/2023/11/AA.webp
END:VEVENT
BEGIN:VEVENT
DTSTART;TZID=America/New_York:20260411T103000
DTEND;TZID=America/New_York:20260411T120000
DTSTAMP:20260419T211126
CREATED:20260325T143935Z
LAST-MODIFIED:20260325T143935Z
UID:10002928-1775903400-1775908800@christchurchoc.org
SUMMARY:Second Harvest Food Distribution
DESCRIPTION:Our monthly food distribution to registered qualifying seniors. If you are at least 60 years old and meet income guidelines you can register for this program.  There is currently a wait-list for new applicants.
URL:https://christchurchoc.org/event/second-harvest-food-distribution-23/
LOCATION:Christ Episcopal Church\, 16 Central Avenue\, Oil City\, PA\, 16301\, United States
CATEGORIES:Event
ATTACH;FMTTYPE=image/jpeg:https://christchurchoc.org/wp-content/uploads/2023/11/Second-Harvest.jpg
END:VEVENT
BEGIN:VEVENT
DTSTART;TZID=America/New_York:20260410T120000
DTEND;TZID=America/New_York:20260410T130000
DTSTAMP:20260419T211126
CREATED:20240912T160125Z
LAST-MODIFIED:20240912T160125Z
UID:10001587-1775822400-1775826000@christchurchoc.org
SUMMARY:NA Meeting
DESCRIPTION:Open Discussion Recovery Meeting using Narcotics Anonymous book.
URL:https://christchurchoc.org/event/na-meeting/2026-04-10/
LOCATION:Kapp Hall\, 16 Central Avenue\, Oil City\, PA\, PA\, United States
CATEGORIES:Recovery Group
ATTACH;FMTTYPE=image/jpeg:https://christchurchoc.org/wp-content/uploads/2024/09/NA-Logo.jpg
END:VEVENT
BEGIN:VEVENT
DTSTART;TZID=America/New_York:20260408T120000
DTEND;TZID=America/New_York:20260408T130000
DTSTAMP:20260419T211126
CREATED:20231211T230430Z
LAST-MODIFIED:20231211T230430Z
UID:10000414-1775649600-1775653200@christchurchoc.org
SUMMARY:AA Meeting
DESCRIPTION:Open Recovery Meeting. Big Book Discussion.
URL:https://christchurchoc.org/event/aa-meeting-11/2026-04-08/
LOCATION:Kapp Hall\, 16 Central Avenue\, Oil City\, PA\, PA\, United States
CATEGORIES:Recovery Group
ATTACH;FMTTYPE=image/webp:https://christchurchoc.org/wp-content/uploads/2023/11/AA.webp
END:VEVENT
BEGIN:VEVENT
DTSTART;TZID=America/New_York:20260406T120000
DTEND;TZID=America/New_York:20260406T130000
DTSTAMP:20260419T211126
CREATED:20231211T225939Z
LAST-MODIFIED:20231211T225939Z
UID:10000152-1775476800-1775480400@christchurchoc.org
SUMMARY:AA Meeting
DESCRIPTION:Open Recovery Meeting in Kapp Hall. Daily ReflectionsBook.
URL:https://christchurchoc.org/event/aa-meeting-10/2026-04-06/
LOCATION:PA
CATEGORIES:Recovery Group
ATTACH;FMTTYPE=image/webp:https://christchurchoc.org/wp-content/uploads/2023/11/AA.webp
END:VEVENT
BEGIN:VEVENT
DTSTART;TZID=America/New_York:20260405T093000
DTEND;TZID=America/New_York:20260405T103000
DTSTAMP:20260419T211126
CREATED:20260325T142931Z
LAST-MODIFIED:20260325T142931Z
UID:10002924-1775381400-1775385000@christchurchoc.org
SUMMARY:Easter Sunday Episcopal Worship Service
DESCRIPTION:Holy Eucharist Rite II with Music. The Sunday of the Resurrection / Easter Sunday. This service includes readings from the Old and New Testaments\, a Psalm\, and a reading from one of the Gospels\, followed by Communion. The Episcopal Church has an open communion and all are welcome.
URL:https://christchurchoc.org/event/easter-sunday-episcopal-worship-service-3/
LOCATION:Christ Episcopal Church\, 16 Central Avenue\, Oil City\, PA\, 16301\, United States
CATEGORIES:Holy Week,Sunday Worship
ATTACH;FMTTYPE=image/jpeg:https://christchurchoc.org/wp-content/uploads/2022/09/Slider-1a-mobile.jpg
END:VEVENT
BEGIN:VEVENT
DTSTART;TZID=America/New_York:20260404T181500
DTEND;TZID=America/New_York:20260404T191500
DTSTAMP:20260419T211126
CREATED:20240912T160609Z
LAST-MODIFIED:20240912T160609Z
UID:10002630-1775326500-1775330100@christchurchoc.org
SUMMARY:NA Meeting
DESCRIPTION:Open Discussion Recovery Meeting using Narcotics Anonymous book.
URL:https://christchurchoc.org/event/na-meeting-2/2026-04-04/
LOCATION:Kapp Hall\, 16 Central Avenue\, Oil City\, PA\, PA\, United States
CATEGORIES:Recovery Group
ATTACH;FMTTYPE=image/jpeg:https://christchurchoc.org/wp-content/uploads/2024/09/NA-Logo.jpg
END:VEVENT
BEGIN:VEVENT
DTSTART;TZID=America/New_York:20260404T120000
DTEND;TZID=America/New_York:20260404T130000
DTSTAMP:20260419T211126
CREATED:20231211T230753Z
LAST-MODIFIED:20231211T230833Z
UID:10000674-1775304000-1775307600@christchurchoc.org
SUMMARY:AA Meeting
DESCRIPTION:Open Discussion Recovery Meeting using the 12 Steps & 12 Traditions book.
URL:https://christchurchoc.org/event/aa-meeting-12/2026-04-04/
LOCATION:Kapp Hall\, 16 Central Avenue\, Oil City\, PA\, PA\, United States
CATEGORIES:Recovery Group
ATTACH;FMTTYPE=image/webp:https://christchurchoc.org/wp-content/uploads/2023/11/AA.webp
END:VEVENT
BEGIN:VEVENT
DTSTART;TZID=America/New_York:20260403T180000
DTEND;TZID=America/New_York:20260403T190000
DTSTAMP:20260419T211126
CREATED:20260325T142651Z
LAST-MODIFIED:20260325T142651Z
UID:10002923-1775239200-1775242800@christchurchoc.org
SUMMARY:Good Friday Episcopal Worship Service
DESCRIPTION:Good Friday Liturgy. This service includes readings from the Old and New Testaments\, a Psalm\, and a reading from one of the Gospels.
URL:https://christchurchoc.org/event/good-friday-episcopal-worship-service-3/
LOCATION:Christ Episcopal Church\, 16 Central Avenue\, Oil City\, PA\, 16301\, United States
CATEGORIES:Holy Week
ATTACH;FMTTYPE=image/jpeg:https://christchurchoc.org/wp-content/uploads/2024/02/good-friday.jpg
END:VEVENT
BEGIN:VEVENT
DTSTART;TZID=America/New_York:20260403T120000
DTEND;TZID=America/New_York:20260403T130000
DTSTAMP:20260419T211126
CREATED:20240912T160125Z
LAST-MODIFIED:20240912T160125Z
UID:10001586-1775217600-1775221200@christchurchoc.org
SUMMARY:NA Meeting
DESCRIPTION:Open Discussion Recovery Meeting using Narcotics Anonymous book.
URL:https://christchurchoc.org/event/na-meeting/2026-04-03/
LOCATION:Kapp Hall\, 16 Central Avenue\, Oil City\, PA\, PA\, United States
CATEGORIES:Recovery Group
ATTACH;FMTTYPE=image/jpeg:https://christchurchoc.org/wp-content/uploads/2024/09/NA-Logo.jpg
END:VEVENT
BEGIN:VEVENT
DTSTART;TZID=America/New_York:20260402T180000
DTEND;TZID=America/New_York:20260402T190000
DTSTAMP:20260419T211126
CREATED:20260325T142407Z
LAST-MODIFIED:20260325T142407Z
UID:10002922-1775152800-1775156400@christchurchoc.org
SUMMARY:Maundy Thursday Episcopal Worship Service
DESCRIPTION:Holy Eucharist Rite II. Maundy Thursday Liturgy. This service includes readings from the Old and New Testaments\, a Psalm\, a reading from one of the Gospels\, foot washing\, followed by Communion. The Episcopal Church has an open communion and all are welcome.
URL:https://christchurchoc.org/event/maundy-thursday-episcopal-worship-service-3/
LOCATION:Christ Episcopal Church\, 16 Central Avenue\, Oil City\, PA\, 16301\, United States
CATEGORIES:Holy Week
ATTACH;FMTTYPE=image/png:https://christchurchoc.org/wp-content/uploads/2024/02/Maundy-Thursday.png
END:VEVENT
BEGIN:VEVENT
DTSTART;TZID=America/New_York:20260401T120000
DTEND;TZID=America/New_York:20260401T130000
DTSTAMP:20260419T211126
CREATED:20231211T230430Z
LAST-MODIFIED:20231211T230430Z
UID:10000413-1775044800-1775048400@christchurchoc.org
SUMMARY:AA Meeting
DESCRIPTION:Open Recovery Meeting. Big Book Discussion.
URL:https://christchurchoc.org/event/aa-meeting-11/2026-04-01/
LOCATION:Kapp Hall\, 16 Central Avenue\, Oil City\, PA\, PA\, United States
CATEGORIES:Recovery Group
ATTACH;FMTTYPE=image/webp:https://christchurchoc.org/wp-content/uploads/2023/11/AA.webp
END:VEVENT
BEGIN:VEVENT
DTSTART;TZID=America/New_York:20260330T120000
DTEND;TZID=America/New_York:20260330T130000
DTSTAMP:20260419T211126
CREATED:20231211T225939Z
LAST-MODIFIED:20231211T225939Z
UID:10000151-1774872000-1774875600@christchurchoc.org
SUMMARY:AA Meeting
DESCRIPTION:Open Recovery Meeting in Kapp Hall. Daily ReflectionsBook.
URL:https://christchurchoc.org/event/aa-meeting-10/2026-03-30/
LOCATION:PA
CATEGORIES:Recovery Group
ATTACH;FMTTYPE=image/webp:https://christchurchoc.org/wp-content/uploads/2023/11/AA.webp
END:VEVENT
BEGIN:VEVENT
DTSTART;TZID=America/New_York:20260329T093000
DTEND;TZID=America/New_York:20260329T103000
DTSTAMP:20260419T211126
CREATED:20260219T162710Z
LAST-MODIFIED:20260219T162710Z
UID:10002920-1774776600-1774780200@christchurchoc.org
SUMMARY:Sunday Episcopal Worship Service
DESCRIPTION:Holy Eucharist Rite II with Music. The Sunday of the Passion\, also known as Palm Sunday. This service includes the Liturgy of the Palms\, readings from the Old and New Testaments\, a Psalm\, and a reading from one of the Gospels\, followed by Communion. The Episcopal Church has an open communion and all are welcome.
URL:https://christchurchoc.org/event/sunday-episcopal-worship-service-88/
LOCATION:Christ Episcopal Church\, 16 Central Avenue\, Oil City\, PA\, 16301\, United States
CATEGORIES:Holy Week,Sunday Worship
ATTACH;FMTTYPE=image/jpeg:https://christchurchoc.org/wp-content/uploads/2022/09/Slider-1a-mobile.jpg
END:VEVENT
END:VCALENDAR