BEGIN:VCALENDAR
VERSION:2.0
PRODID:-//Christ Episcopal Church Oil City - ECPv6.15.20//NONSGML v1.0//EN
CALSCALE:GREGORIAN
METHOD:PUBLISH
X-WR-CALNAME:Christ Episcopal Church Oil City
X-ORIGINAL-URL:https://christchurchoc.org
X-WR-CALDESC:Events for Christ Episcopal Church Oil City
REFRESH-INTERVAL;VALUE=DURATION:PT1H
X-Robots-Tag:noindex
X-PUBLISHED-TTL:PT1H
BEGIN:VTIMEZONE
TZID:America/New_York
BEGIN:DAYLIGHT
TZOFFSETFROM:-0500
TZOFFSETTO:-0400
TZNAME:EDT
DTSTART:20240310T070000
END:DAYLIGHT
BEGIN:STANDARD
TZOFFSETFROM:-0400
TZOFFSETTO:-0500
TZNAME:EST
DTSTART:20241103T060000
END:STANDARD
BEGIN:DAYLIGHT
TZOFFSETFROM:-0500
TZOFFSETTO:-0400
TZNAME:EDT
DTSTART:20250309T070000
END:DAYLIGHT
BEGIN:STANDARD
TZOFFSETFROM:-0400
TZOFFSETTO:-0500
TZNAME:EST
DTSTART:20251102T060000
END:STANDARD
BEGIN:DAYLIGHT
TZOFFSETFROM:-0500
TZOFFSETTO:-0400
TZNAME:EDT
DTSTART:20260308T070000
END:DAYLIGHT
BEGIN:STANDARD
TZOFFSETFROM:-0400
TZOFFSETTO:-0500
TZNAME:EST
DTSTART:20261101T060000
END:STANDARD
END:VTIMEZONE
BEGIN:VEVENT
DTSTART;TZID=America/New_York:20251110T120000
DTEND;TZID=America/New_York:20251110T130000
DTSTAMP:20260422T175339
CREATED:20231211T225939Z
LAST-MODIFIED:20231211T225939Z
UID:10000131-1762776000-1762779600@christchurchoc.org
SUMMARY:AA Meeting
DESCRIPTION:Open Recovery Meeting in Kapp Hall. Daily ReflectionsBook.
URL:https://christchurchoc.org/event/aa-meeting-10/2025-11-10/
LOCATION:PA
CATEGORIES:Recovery Group
ATTACH;FMTTYPE=image/webp:https://christchurchoc.org/wp-content/uploads/2023/11/AA.webp
END:VEVENT
BEGIN:VEVENT
DTSTART;TZID=America/New_York:20251109T093000
DTEND;TZID=America/New_York:20251109T103000
DTSTAMP:20260422T175339
CREATED:20251024T143421Z
LAST-MODIFIED:20251024T143421Z
UID:10002893-1762680600-1762684200@christchurchoc.org
SUMMARY:Sunday Episcopal Worship Service
DESCRIPTION:Holy Eucharist Rite II for the 22nd Sunday after Pentecost. This service includes readings from the Old and New Testaments\, a Psalm\, and a reading from one of the Gospels\, followed by Communion. The Episcopal Church has an open communion and all are welcome.
URL:https://christchurchoc.org/event/sunday-episcopal-worship-service-71/
LOCATION:Christ Episcopal Church\, 16 Central Avenue\, Oil City\, PA\, 16301\, United States
CATEGORIES:Sunday Worship
ATTACH;FMTTYPE=image/jpeg:https://christchurchoc.org/wp-content/uploads/2022/09/Slider-1a-mobile.jpg
END:VEVENT
BEGIN:VEVENT
DTSTART;TZID=America/New_York:20251108T181500
DTEND;TZID=America/New_York:20251108T191500
DTSTAMP:20260422T175339
CREATED:20240912T160609Z
LAST-MODIFIED:20240912T160609Z
UID:10002609-1762625700-1762629300@christchurchoc.org
SUMMARY:NA Meeting
DESCRIPTION:Open Discussion Recovery Meeting using Narcotics Anonymous book.
URL:https://christchurchoc.org/event/na-meeting-2/2025-11-08/
LOCATION:Kapp Hall\, 16 Central Avenue\, Oil City\, PA\, PA\, United States
CATEGORIES:Recovery Group
ATTACH;FMTTYPE=image/jpeg:https://christchurchoc.org/wp-content/uploads/2024/09/NA-Logo.jpg
END:VEVENT
BEGIN:VEVENT
DTSTART;TZID=America/New_York:20251108T120000
DTEND;TZID=America/New_York:20251108T130000
DTSTAMP:20260422T175339
CREATED:20231211T230753Z
LAST-MODIFIED:20231211T230833Z
UID:10000653-1762603200-1762606800@christchurchoc.org
SUMMARY:AA Meeting
DESCRIPTION:Open Discussion Recovery Meeting using the 12 Steps & 12 Traditions book.
URL:https://christchurchoc.org/event/aa-meeting-12/2025-11-08/
LOCATION:Kapp Hall\, 16 Central Avenue\, Oil City\, PA\, PA\, United States
CATEGORIES:Recovery Group
ATTACH;FMTTYPE=image/webp:https://christchurchoc.org/wp-content/uploads/2023/11/AA.webp
END:VEVENT
BEGIN:VEVENT
DTSTART;TZID=America/New_York:20251108T103000
DTEND;TZID=America/New_York:20251108T120000
DTSTAMP:20260422T175339
CREATED:20251024T144002Z
LAST-MODIFIED:20251024T144002Z
UID:10002897-1762597800-1762603200@christchurchoc.org
SUMMARY:Second Harvest Food Distribution
DESCRIPTION:Our monthly food distribution to registered qualifying seniors. If you are at least 60 years old and meet income guidelines you can register for this program.  There is currently a wait-list for new applicants.
URL:https://christchurchoc.org/event/second-harvest-food-distribution-20/
LOCATION:Christ Episcopal Church\, 16 Central Avenue\, Oil City\, PA\, 16301\, United States
CATEGORIES:Event
ATTACH;FMTTYPE=image/jpeg:https://christchurchoc.org/wp-content/uploads/2023/11/Second-Harvest.jpg
END:VEVENT
BEGIN:VEVENT
DTSTART;TZID=America/New_York:20251107T120000
DTEND;TZID=America/New_York:20251107T130000
DTSTAMP:20260422T175339
CREATED:20240912T160125Z
LAST-MODIFIED:20240912T160125Z
UID:10001565-1762516800-1762520400@christchurchoc.org
SUMMARY:NA Meeting
DESCRIPTION:Open Discussion Recovery Meeting using Narcotics Anonymous book.
URL:https://christchurchoc.org/event/na-meeting/2025-11-07/
LOCATION:Kapp Hall\, 16 Central Avenue\, Oil City\, PA\, PA\, United States
CATEGORIES:Recovery Group
ATTACH;FMTTYPE=image/jpeg:https://christchurchoc.org/wp-content/uploads/2024/09/NA-Logo.jpg
END:VEVENT
BEGIN:VEVENT
DTSTART;TZID=America/New_York:20251105T120000
DTEND;TZID=America/New_York:20251105T130000
DTSTAMP:20260422T175339
CREATED:20231211T230430Z
LAST-MODIFIED:20231211T230430Z
UID:10000392-1762344000-1762347600@christchurchoc.org
SUMMARY:AA Meeting
DESCRIPTION:Open Recovery Meeting. Big Book Discussion.
URL:https://christchurchoc.org/event/aa-meeting-11/2025-11-05/
LOCATION:Kapp Hall\, 16 Central Avenue\, Oil City\, PA\, PA\, United States
CATEGORIES:Recovery Group
ATTACH;FMTTYPE=image/webp:https://christchurchoc.org/wp-content/uploads/2023/11/AA.webp
END:VEVENT
BEGIN:VEVENT
DTSTART;TZID=America/New_York:20251103T120000
DTEND;TZID=America/New_York:20251103T130000
DTSTAMP:20260422T175339
CREATED:20231211T225939Z
LAST-MODIFIED:20231211T225939Z
UID:10000130-1762171200-1762174800@christchurchoc.org
SUMMARY:AA Meeting
DESCRIPTION:Open Recovery Meeting in Kapp Hall. Daily ReflectionsBook.
URL:https://christchurchoc.org/event/aa-meeting-10/2025-11-03/
LOCATION:PA
CATEGORIES:Recovery Group
ATTACH;FMTTYPE=image/webp:https://christchurchoc.org/wp-content/uploads/2023/11/AA.webp
END:VEVENT
BEGIN:VEVENT
DTSTART;TZID=America/New_York:20251102T093000
DTEND;TZID=America/New_York:20251102T103000
DTSTAMP:20260422T175339
CREATED:20251022T162108Z
LAST-MODIFIED:20251022T162108Z
UID:10002892-1762075800-1762079400@christchurchoc.org
SUMMARY:Sunday Episcopal Worship Service
DESCRIPTION:Holy Eucharist Rite II with music for the All Saints’ Sunday. This service includes readings from the Old and New Testaments\, a Psalm\, and a reading from one of the Gospels\, followed by Communion. The Episcopal Church has an open communion and all are welcome.
URL:https://christchurchoc.org/event/sunday-episcopal-worship-service-70/
LOCATION:Christ Episcopal Church\, 16 Central Avenue\, Oil City\, PA\, 16301\, United States
CATEGORIES:Sunday Worship
ATTACH;FMTTYPE=image/jpeg:https://christchurchoc.org/wp-content/uploads/2022/09/Slider-1a-mobile.jpg
END:VEVENT
BEGIN:VEVENT
DTSTART;TZID=America/New_York:20251101T181500
DTEND;TZID=America/New_York:20251101T191500
DTSTAMP:20260422T175339
CREATED:20240912T160609Z
LAST-MODIFIED:20240912T160609Z
UID:10002608-1762020900-1762024500@christchurchoc.org
SUMMARY:NA Meeting
DESCRIPTION:Open Discussion Recovery Meeting using Narcotics Anonymous book.
URL:https://christchurchoc.org/event/na-meeting-2/2025-11-01/
LOCATION:Kapp Hall\, 16 Central Avenue\, Oil City\, PA\, PA\, United States
CATEGORIES:Recovery Group
ATTACH;FMTTYPE=image/jpeg:https://christchurchoc.org/wp-content/uploads/2024/09/NA-Logo.jpg
END:VEVENT
BEGIN:VEVENT
DTSTART;TZID=America/New_York:20251101T120000
DTEND;TZID=America/New_York:20251101T130000
DTSTAMP:20260422T175339
CREATED:20231211T230753Z
LAST-MODIFIED:20231211T230833Z
UID:10000652-1761998400-1762002000@christchurchoc.org
SUMMARY:AA Meeting
DESCRIPTION:Open Discussion Recovery Meeting using the 12 Steps & 12 Traditions book.
URL:https://christchurchoc.org/event/aa-meeting-12/2025-11-01/
LOCATION:Kapp Hall\, 16 Central Avenue\, Oil City\, PA\, PA\, United States
CATEGORIES:Recovery Group
ATTACH;FMTTYPE=image/webp:https://christchurchoc.org/wp-content/uploads/2023/11/AA.webp
END:VEVENT
BEGIN:VEVENT
DTSTART;TZID=America/New_York:20251031T120000
DTEND;TZID=America/New_York:20251031T130000
DTSTAMP:20260422T175339
CREATED:20240912T160125Z
LAST-MODIFIED:20240912T160125Z
UID:10001564-1761912000-1761915600@christchurchoc.org
SUMMARY:NA Meeting
DESCRIPTION:Open Discussion Recovery Meeting using Narcotics Anonymous book.
URL:https://christchurchoc.org/event/na-meeting/2025-10-31/
LOCATION:Kapp Hall\, 16 Central Avenue\, Oil City\, PA\, PA\, United States
CATEGORIES:Recovery Group
ATTACH;FMTTYPE=image/jpeg:https://christchurchoc.org/wp-content/uploads/2024/09/NA-Logo.jpg
END:VEVENT
BEGIN:VEVENT
DTSTART;TZID=America/New_York:20251029T120000
DTEND;TZID=America/New_York:20251029T130000
DTSTAMP:20260422T175339
CREATED:20231211T230430Z
LAST-MODIFIED:20231211T230430Z
UID:10000391-1761739200-1761742800@christchurchoc.org
SUMMARY:AA Meeting
DESCRIPTION:Open Recovery Meeting. Big Book Discussion.
URL:https://christchurchoc.org/event/aa-meeting-11/2025-10-29/
LOCATION:Kapp Hall\, 16 Central Avenue\, Oil City\, PA\, PA\, United States
CATEGORIES:Recovery Group
ATTACH;FMTTYPE=image/webp:https://christchurchoc.org/wp-content/uploads/2023/11/AA.webp
END:VEVENT
BEGIN:VEVENT
DTSTART;TZID=America/New_York:20251027T120000
DTEND;TZID=America/New_York:20251027T130000
DTSTAMP:20260422T175339
CREATED:20231211T225939Z
LAST-MODIFIED:20231211T225939Z
UID:10000129-1761566400-1761570000@christchurchoc.org
SUMMARY:AA Meeting
DESCRIPTION:Open Recovery Meeting in Kapp Hall. Daily ReflectionsBook.
URL:https://christchurchoc.org/event/aa-meeting-10/2025-10-27/
LOCATION:PA
CATEGORIES:Recovery Group
ATTACH;FMTTYPE=image/webp:https://christchurchoc.org/wp-content/uploads/2023/11/AA.webp
END:VEVENT
BEGIN:VEVENT
DTSTART;TZID=America/New_York:20251026T093000
DTEND;TZID=America/New_York:20251026T103000
DTSTAMP:20260422T175339
CREATED:20250925T143726Z
LAST-MODIFIED:20250925T143726Z
UID:10002890-1761471000-1761474600@christchurchoc.org
SUMMARY:Sunday Episcopal Worship Service
DESCRIPTION:Holy Eucharist Rite II with music for the 20th Sunday after Pentecost. This service includes readings from the Old and New Testaments\, a Psalm\, and a reading from one of the Gospels\, followed by Communion. The Episcopal Church has an open communion and all are welcome.
URL:https://christchurchoc.org/event/sunday-episcopal-worship-service-69/
LOCATION:Christ Episcopal Church\, 16 Central Avenue\, Oil City\, PA\, 16301\, United States
CATEGORIES:Sunday Worship
ATTACH;FMTTYPE=image/jpeg:https://christchurchoc.org/wp-content/uploads/2022/09/Slider-1a-mobile.jpg
END:VEVENT
BEGIN:VEVENT
DTSTART;TZID=America/New_York:20251025T181500
DTEND;TZID=America/New_York:20251025T191500
DTSTAMP:20260422T175339
CREATED:20240912T160609Z
LAST-MODIFIED:20240912T160609Z
UID:10002607-1761416100-1761419700@christchurchoc.org
SUMMARY:NA Meeting
DESCRIPTION:Open Discussion Recovery Meeting using Narcotics Anonymous book.
URL:https://christchurchoc.org/event/na-meeting-2/2025-10-25/
LOCATION:Kapp Hall\, 16 Central Avenue\, Oil City\, PA\, PA\, United States
CATEGORIES:Recovery Group
ATTACH;FMTTYPE=image/jpeg:https://christchurchoc.org/wp-content/uploads/2024/09/NA-Logo.jpg
END:VEVENT
BEGIN:VEVENT
DTSTART;TZID=America/New_York:20251025T120000
DTEND;TZID=America/New_York:20251025T130000
DTSTAMP:20260422T175339
CREATED:20231211T230753Z
LAST-MODIFIED:20231211T230833Z
UID:10000651-1761393600-1761397200@christchurchoc.org
SUMMARY:AA Meeting
DESCRIPTION:Open Discussion Recovery Meeting using the 12 Steps & 12 Traditions book.
URL:https://christchurchoc.org/event/aa-meeting-12/2025-10-25/
LOCATION:Kapp Hall\, 16 Central Avenue\, Oil City\, PA\, PA\, United States
CATEGORIES:Recovery Group
ATTACH;FMTTYPE=image/webp:https://christchurchoc.org/wp-content/uploads/2023/11/AA.webp
END:VEVENT
BEGIN:VEVENT
DTSTART;TZID=America/New_York:20251024T120000
DTEND;TZID=America/New_York:20251024T130000
DTSTAMP:20260422T175339
CREATED:20240912T160125Z
LAST-MODIFIED:20240912T160125Z
UID:10001563-1761307200-1761310800@christchurchoc.org
SUMMARY:NA Meeting
DESCRIPTION:Open Discussion Recovery Meeting using Narcotics Anonymous book.
URL:https://christchurchoc.org/event/na-meeting/2025-10-24/
LOCATION:Kapp Hall\, 16 Central Avenue\, Oil City\, PA\, PA\, United States
CATEGORIES:Recovery Group
ATTACH;FMTTYPE=image/jpeg:https://christchurchoc.org/wp-content/uploads/2024/09/NA-Logo.jpg
END:VEVENT
BEGIN:VEVENT
DTSTART;TZID=America/New_York:20251022T120000
DTEND;TZID=America/New_York:20251022T130000
DTSTAMP:20260422T175339
CREATED:20231211T230430Z
LAST-MODIFIED:20231211T230430Z
UID:10000390-1761134400-1761138000@christchurchoc.org
SUMMARY:AA Meeting
DESCRIPTION:Open Recovery Meeting. Big Book Discussion.
URL:https://christchurchoc.org/event/aa-meeting-11/2025-10-22/
LOCATION:Kapp Hall\, 16 Central Avenue\, Oil City\, PA\, PA\, United States
CATEGORIES:Recovery Group
ATTACH;FMTTYPE=image/webp:https://christchurchoc.org/wp-content/uploads/2023/11/AA.webp
END:VEVENT
BEGIN:VEVENT
DTSTART;TZID=America/New_York:20251020T120000
DTEND;TZID=America/New_York:20251020T130000
DTSTAMP:20260422T175339
CREATED:20231211T225939Z
LAST-MODIFIED:20231211T225939Z
UID:10000128-1760961600-1760965200@christchurchoc.org
SUMMARY:AA Meeting
DESCRIPTION:Open Recovery Meeting in Kapp Hall. Daily ReflectionsBook.
URL:https://christchurchoc.org/event/aa-meeting-10/2025-10-20/
LOCATION:PA
CATEGORIES:Recovery Group
ATTACH;FMTTYPE=image/webp:https://christchurchoc.org/wp-content/uploads/2023/11/AA.webp
END:VEVENT
BEGIN:VEVENT
DTSTART;TZID=America/New_York:20251019T093000
DTEND;TZID=America/New_York:20251019T103000
DTSTAMP:20260422T175339
CREATED:20250925T143550Z
LAST-MODIFIED:20250925T143550Z
UID:10002889-1760866200-1760869800@christchurchoc.org
SUMMARY:Sunday Episcopal Worship Service
DESCRIPTION:Holy Eucharist Rite II with music for the 19th Sunday after Pentecost. This service includes readings from the Old and New Testaments\, a Psalm\, and a reading from one of the Gospels\, followed by Communion. The Episcopal Church has an open communion and all are welcome.
URL:https://christchurchoc.org/event/sunday-episcopal-worship-service-68/
LOCATION:Christ Episcopal Church\, 16 Central Avenue\, Oil City\, PA\, 16301\, United States
CATEGORIES:Sunday Worship
ATTACH;FMTTYPE=image/jpeg:https://christchurchoc.org/wp-content/uploads/2022/09/Slider-1a-mobile.jpg
END:VEVENT
BEGIN:VEVENT
DTSTART;TZID=America/New_York:20251018T181500
DTEND;TZID=America/New_York:20251018T191500
DTSTAMP:20260422T175339
CREATED:20240912T160609Z
LAST-MODIFIED:20240912T160609Z
UID:10002606-1760811300-1760814900@christchurchoc.org
SUMMARY:NA Meeting
DESCRIPTION:Open Discussion Recovery Meeting using Narcotics Anonymous book.
URL:https://christchurchoc.org/event/na-meeting-2/2025-10-18/
LOCATION:Kapp Hall\, 16 Central Avenue\, Oil City\, PA\, PA\, United States
CATEGORIES:Recovery Group
ATTACH;FMTTYPE=image/jpeg:https://christchurchoc.org/wp-content/uploads/2024/09/NA-Logo.jpg
END:VEVENT
BEGIN:VEVENT
DTSTART;TZID=America/New_York:20251018T120000
DTEND;TZID=America/New_York:20251018T130000
DTSTAMP:20260422T175339
CREATED:20231211T230753Z
LAST-MODIFIED:20231211T230833Z
UID:10000650-1760788800-1760792400@christchurchoc.org
SUMMARY:AA Meeting
DESCRIPTION:Open Discussion Recovery Meeting using the 12 Steps & 12 Traditions book.
URL:https://christchurchoc.org/event/aa-meeting-12/2025-10-18/
LOCATION:Kapp Hall\, 16 Central Avenue\, Oil City\, PA\, PA\, United States
CATEGORIES:Recovery Group
ATTACH;FMTTYPE=image/webp:https://christchurchoc.org/wp-content/uploads/2023/11/AA.webp
END:VEVENT
BEGIN:VEVENT
DTSTART;TZID=America/New_York:20251017T120000
DTEND;TZID=America/New_York:20251017T130000
DTSTAMP:20260422T175339
CREATED:20240912T160125Z
LAST-MODIFIED:20240912T160125Z
UID:10001562-1760702400-1760706000@christchurchoc.org
SUMMARY:NA Meeting
DESCRIPTION:Open Discussion Recovery Meeting using Narcotics Anonymous book.
URL:https://christchurchoc.org/event/na-meeting/2025-10-17/
LOCATION:Kapp Hall\, 16 Central Avenue\, Oil City\, PA\, PA\, United States
CATEGORIES:Recovery Group
ATTACH;FMTTYPE=image/jpeg:https://christchurchoc.org/wp-content/uploads/2024/09/NA-Logo.jpg
END:VEVENT
BEGIN:VEVENT
DTSTART;TZID=America/New_York:20251015T120000
DTEND;TZID=America/New_York:20251015T130000
DTSTAMP:20260422T175339
CREATED:20231211T230430Z
LAST-MODIFIED:20231211T230430Z
UID:10000389-1760529600-1760533200@christchurchoc.org
SUMMARY:AA Meeting
DESCRIPTION:Open Recovery Meeting. Big Book Discussion.
URL:https://christchurchoc.org/event/aa-meeting-11/2025-10-15/
LOCATION:Kapp Hall\, 16 Central Avenue\, Oil City\, PA\, PA\, United States
CATEGORIES:Recovery Group
ATTACH;FMTTYPE=image/webp:https://christchurchoc.org/wp-content/uploads/2023/11/AA.webp
END:VEVENT
BEGIN:VEVENT
DTSTART;TZID=America/New_York:20251013T120000
DTEND;TZID=America/New_York:20251013T130000
DTSTAMP:20260422T175339
CREATED:20231211T225939Z
LAST-MODIFIED:20231211T225939Z
UID:10000127-1760356800-1760360400@christchurchoc.org
SUMMARY:AA Meeting
DESCRIPTION:Open Recovery Meeting in Kapp Hall. Daily ReflectionsBook.
URL:https://christchurchoc.org/event/aa-meeting-10/2025-10-13/
LOCATION:PA
CATEGORIES:Recovery Group
ATTACH;FMTTYPE=image/webp:https://christchurchoc.org/wp-content/uploads/2023/11/AA.webp
END:VEVENT
BEGIN:VEVENT
DTSTART;TZID=America/New_York:20251012T093000
DTEND;TZID=America/New_York:20251012T103000
DTSTAMP:20260422T175339
CREATED:20250925T143429Z
LAST-MODIFIED:20250925T143429Z
UID:10002888-1760261400-1760265000@christchurchoc.org
SUMMARY:Sunday Episcopal Worship Service
DESCRIPTION:Holy Eucharist Rite II with music for the 18th Sunday after Pentecost. This service includes readings from the Old and New Testaments\, a Psalm\, and a reading from one of the Gospels\, followed by Communion. The Episcopal Church has an open communion and all are welcome.
URL:https://christchurchoc.org/event/sunday-episcopal-worship-service-67/
LOCATION:Christ Episcopal Church\, 16 Central Avenue\, Oil City\, PA\, 16301\, United States
CATEGORIES:Sunday Worship
ATTACH;FMTTYPE=image/jpeg:https://christchurchoc.org/wp-content/uploads/2022/09/Slider-1a-mobile.jpg
END:VEVENT
BEGIN:VEVENT
DTSTART;TZID=America/New_York:20251011T181500
DTEND;TZID=America/New_York:20251011T191500
DTSTAMP:20260422T175339
CREATED:20240912T160609Z
LAST-MODIFIED:20240912T160609Z
UID:10002605-1760206500-1760210100@christchurchoc.org
SUMMARY:NA Meeting
DESCRIPTION:Open Discussion Recovery Meeting using Narcotics Anonymous book.
URL:https://christchurchoc.org/event/na-meeting-2/2025-10-11/
LOCATION:Kapp Hall\, 16 Central Avenue\, Oil City\, PA\, PA\, United States
CATEGORIES:Recovery Group
ATTACH;FMTTYPE=image/jpeg:https://christchurchoc.org/wp-content/uploads/2024/09/NA-Logo.jpg
END:VEVENT
BEGIN:VEVENT
DTSTART;TZID=America/New_York:20251011T120000
DTEND;TZID=America/New_York:20251011T130000
DTSTAMP:20260422T175339
CREATED:20231211T230753Z
LAST-MODIFIED:20231211T230833Z
UID:10000649-1760184000-1760187600@christchurchoc.org
SUMMARY:AA Meeting
DESCRIPTION:Open Discussion Recovery Meeting using the 12 Steps & 12 Traditions book.
URL:https://christchurchoc.org/event/aa-meeting-12/2025-10-11/
LOCATION:Kapp Hall\, 16 Central Avenue\, Oil City\, PA\, PA\, United States
CATEGORIES:Recovery Group
ATTACH;FMTTYPE=image/webp:https://christchurchoc.org/wp-content/uploads/2023/11/AA.webp
END:VEVENT
BEGIN:VEVENT
DTSTART;TZID=America/New_York:20251011T103000
DTEND;TZID=America/New_York:20251011T120000
DTSTAMP:20260422T175339
CREATED:20250925T143918Z
LAST-MODIFIED:20250925T143918Z
UID:10002891-1760178600-1760184000@christchurchoc.org
SUMMARY:Second Harvest Food Distribution
DESCRIPTION:Our monthly food distribution to registered qualifying seniors. If you are at least 60 years old and meet income guidelines you can register for this program.  There is currently a wait-list for new applicants.
URL:https://christchurchoc.org/event/second-harvest-food-distribution-19/
LOCATION:Christ Episcopal Church\, 16 Central Avenue\, Oil City\, PA\, 16301\, United States
CATEGORIES:Event
ATTACH;FMTTYPE=image/jpeg:https://christchurchoc.org/wp-content/uploads/2023/11/Second-Harvest.jpg
END:VEVENT
END:VCALENDAR