BEGIN:VCALENDAR
VERSION:2.0
PRODID:-//Christ Episcopal Church Oil City - ECPv6.15.20//NONSGML v1.0//EN
CALSCALE:GREGORIAN
METHOD:PUBLISH
X-ORIGINAL-URL:https://christchurchoc.org
X-WR-CALDESC:Events for Christ Episcopal Church Oil City
REFRESH-INTERVAL;VALUE=DURATION:PT1H
X-Robots-Tag:noindex
X-PUBLISHED-TTL:PT1H
BEGIN:VTIMEZONE
TZID:America/New_York
BEGIN:DAYLIGHT
TZOFFSETFROM:-0500
TZOFFSETTO:-0400
TZNAME:EDT
DTSTART:20260308T070000
END:DAYLIGHT
BEGIN:STANDARD
TZOFFSETFROM:-0400
TZOFFSETTO:-0500
TZNAME:EST
DTSTART:20261101T060000
END:STANDARD
BEGIN:DAYLIGHT
TZOFFSETFROM:-0500
TZOFFSETTO:-0400
TZNAME:EDT
DTSTART:20270314T070000
END:DAYLIGHT
BEGIN:STANDARD
TZOFFSETFROM:-0400
TZOFFSETTO:-0500
TZNAME:EST
DTSTART:20271107T060000
END:STANDARD
BEGIN:DAYLIGHT
TZOFFSETFROM:-0500
TZOFFSETTO:-0400
TZNAME:EDT
DTSTART:20280312T070000
END:DAYLIGHT
BEGIN:STANDARD
TZOFFSETFROM:-0400
TZOFFSETTO:-0500
TZNAME:EST
DTSTART:20281105T060000
END:STANDARD
END:VTIMEZONE
BEGIN:VEVENT
DTSTART;TZID=America/New_York:20271013T120000
DTEND;TZID=America/New_York:20271013T130000
DTSTAMP:20260425T063736
CREATED:20231211T230430Z
LAST-MODIFIED:20231211T230430Z
UID:10000493-1823428800-1823432400@christchurchoc.org
SUMMARY:AA Meeting
DESCRIPTION:Open Recovery Meeting. Big Book Discussion.
URL:https://christchurchoc.org/event/aa-meeting-11/2027-10-13/
LOCATION:Kapp Hall\, 16 Central Avenue\, Oil City\, PA\, PA\, United States
CATEGORIES:Recovery Group
ATTACH;FMTTYPE=image/webp:https://christchurchoc.org/wp-content/uploads/2023/11/AA.webp
END:VEVENT
BEGIN:VEVENT
DTSTART;TZID=America/New_York:20271015T120000
DTEND;TZID=America/New_York:20271015T130000
DTSTAMP:20260425T063736
CREATED:20240912T160125Z
LAST-MODIFIED:20240912T160125Z
UID:10001666-1823601600-1823605200@christchurchoc.org
SUMMARY:NA Meeting
DESCRIPTION:Open Discussion Recovery Meeting using Narcotics Anonymous book.
URL:https://christchurchoc.org/event/na-meeting/2027-10-15/
LOCATION:Kapp Hall\, 16 Central Avenue\, Oil City\, PA\, PA\, United States
CATEGORIES:Recovery Group
ATTACH;FMTTYPE=image/jpeg:https://christchurchoc.org/wp-content/uploads/2024/09/NA-Logo.jpg
END:VEVENT
BEGIN:VEVENT
DTSTART;TZID=America/New_York:20271016T120000
DTEND;TZID=America/New_York:20271016T130000
DTSTAMP:20260425T063736
CREATED:20231211T230753Z
LAST-MODIFIED:20231211T230833Z
UID:10000754-1823688000-1823691600@christchurchoc.org
SUMMARY:AA Meeting
DESCRIPTION:Open Discussion Recovery Meeting using the 12 Steps & 12 Traditions book.
URL:https://christchurchoc.org/event/aa-meeting-12/2027-10-16/
LOCATION:Kapp Hall\, 16 Central Avenue\, Oil City\, PA\, PA\, United States
CATEGORIES:Recovery Group
ATTACH;FMTTYPE=image/webp:https://christchurchoc.org/wp-content/uploads/2023/11/AA.webp
END:VEVENT
BEGIN:VEVENT
DTSTART;TZID=America/New_York:20271016T181500
DTEND;TZID=America/New_York:20271016T191500
DTSTAMP:20260425T063737
CREATED:20240912T160609Z
LAST-MODIFIED:20240912T160609Z
UID:10002710-1823710500-1823714100@christchurchoc.org
SUMMARY:NA Meeting
DESCRIPTION:Open Discussion Recovery Meeting using Narcotics Anonymous book.
URL:https://christchurchoc.org/event/na-meeting-2/2027-10-16/
LOCATION:Kapp Hall\, 16 Central Avenue\, Oil City\, PA\, PA\, United States
CATEGORIES:Recovery Group
ATTACH;FMTTYPE=image/jpeg:https://christchurchoc.org/wp-content/uploads/2024/09/NA-Logo.jpg
END:VEVENT
BEGIN:VEVENT
DTSTART;TZID=America/New_York:20271018T120000
DTEND;TZID=America/New_York:20271018T130000
DTSTAMP:20260425T063737
CREATED:20231211T225939Z
LAST-MODIFIED:20231211T225939Z
UID:10000232-1823860800-1823864400@christchurchoc.org
SUMMARY:AA Meeting
DESCRIPTION:Open Recovery Meeting in Kapp Hall. Daily ReflectionsBook.
URL:https://christchurchoc.org/event/aa-meeting-10/2027-10-18/
LOCATION:PA
CATEGORIES:Recovery Group
ATTACH;FMTTYPE=image/webp:https://christchurchoc.org/wp-content/uploads/2023/11/AA.webp
END:VEVENT
BEGIN:VEVENT
DTSTART;TZID=America/New_York:20271020T120000
DTEND;TZID=America/New_York:20271020T130000
DTSTAMP:20260425T063737
CREATED:20231211T230430Z
LAST-MODIFIED:20231211T230430Z
UID:10000494-1824033600-1824037200@christchurchoc.org
SUMMARY:AA Meeting
DESCRIPTION:Open Recovery Meeting. Big Book Discussion.
URL:https://christchurchoc.org/event/aa-meeting-11/2027-10-20/
LOCATION:Kapp Hall\, 16 Central Avenue\, Oil City\, PA\, PA\, United States
CATEGORIES:Recovery Group
ATTACH;FMTTYPE=image/webp:https://christchurchoc.org/wp-content/uploads/2023/11/AA.webp
END:VEVENT
BEGIN:VEVENT
DTSTART;TZID=America/New_York:20271022T120000
DTEND;TZID=America/New_York:20271022T130000
DTSTAMP:20260425T063737
CREATED:20240912T160125Z
LAST-MODIFIED:20240912T160125Z
UID:10001667-1824206400-1824210000@christchurchoc.org
SUMMARY:NA Meeting
DESCRIPTION:Open Discussion Recovery Meeting using Narcotics Anonymous book.
URL:https://christchurchoc.org/event/na-meeting/2027-10-22/
LOCATION:Kapp Hall\, 16 Central Avenue\, Oil City\, PA\, PA\, United States
CATEGORIES:Recovery Group
ATTACH;FMTTYPE=image/jpeg:https://christchurchoc.org/wp-content/uploads/2024/09/NA-Logo.jpg
END:VEVENT
BEGIN:VEVENT
DTSTART;TZID=America/New_York:20271023T120000
DTEND;TZID=America/New_York:20271023T130000
DTSTAMP:20260425T063737
CREATED:20231211T230753Z
LAST-MODIFIED:20231211T230833Z
UID:10000755-1824292800-1824296400@christchurchoc.org
SUMMARY:AA Meeting
DESCRIPTION:Open Discussion Recovery Meeting using the 12 Steps & 12 Traditions book.
URL:https://christchurchoc.org/event/aa-meeting-12/2027-10-23/
LOCATION:Kapp Hall\, 16 Central Avenue\, Oil City\, PA\, PA\, United States
CATEGORIES:Recovery Group
ATTACH;FMTTYPE=image/webp:https://christchurchoc.org/wp-content/uploads/2023/11/AA.webp
END:VEVENT
BEGIN:VEVENT
DTSTART;TZID=America/New_York:20271023T181500
DTEND;TZID=America/New_York:20271023T191500
DTSTAMP:20260425T063737
CREATED:20240912T160609Z
LAST-MODIFIED:20240912T160609Z
UID:10002711-1824315300-1824318900@christchurchoc.org
SUMMARY:NA Meeting
DESCRIPTION:Open Discussion Recovery Meeting using Narcotics Anonymous book.
URL:https://christchurchoc.org/event/na-meeting-2/2027-10-23/
LOCATION:Kapp Hall\, 16 Central Avenue\, Oil City\, PA\, PA\, United States
CATEGORIES:Recovery Group
ATTACH;FMTTYPE=image/jpeg:https://christchurchoc.org/wp-content/uploads/2024/09/NA-Logo.jpg
END:VEVENT
BEGIN:VEVENT
DTSTART;TZID=America/New_York:20271025T120000
DTEND;TZID=America/New_York:20271025T130000
DTSTAMP:20260425T063737
CREATED:20231211T225939Z
LAST-MODIFIED:20231211T225939Z
UID:10000233-1824465600-1824469200@christchurchoc.org
SUMMARY:AA Meeting
DESCRIPTION:Open Recovery Meeting in Kapp Hall. Daily ReflectionsBook.
URL:https://christchurchoc.org/event/aa-meeting-10/2027-10-25/
LOCATION:PA
CATEGORIES:Recovery Group
ATTACH;FMTTYPE=image/webp:https://christchurchoc.org/wp-content/uploads/2023/11/AA.webp
END:VEVENT
BEGIN:VEVENT
DTSTART;TZID=America/New_York:20271027T120000
DTEND;TZID=America/New_York:20271027T130000
DTSTAMP:20260425T063737
CREATED:20231211T230430Z
LAST-MODIFIED:20231211T230430Z
UID:10000495-1824638400-1824642000@christchurchoc.org
SUMMARY:AA Meeting
DESCRIPTION:Open Recovery Meeting. Big Book Discussion.
URL:https://christchurchoc.org/event/aa-meeting-11/2027-10-27/
LOCATION:Kapp Hall\, 16 Central Avenue\, Oil City\, PA\, PA\, United States
CATEGORIES:Recovery Group
ATTACH;FMTTYPE=image/webp:https://christchurchoc.org/wp-content/uploads/2023/11/AA.webp
END:VEVENT
BEGIN:VEVENT
DTSTART;TZID=America/New_York:20271029T120000
DTEND;TZID=America/New_York:20271029T130000
DTSTAMP:20260425T063737
CREATED:20240912T160125Z
LAST-MODIFIED:20240912T160125Z
UID:10001668-1824811200-1824814800@christchurchoc.org
SUMMARY:NA Meeting
DESCRIPTION:Open Discussion Recovery Meeting using Narcotics Anonymous book.
URL:https://christchurchoc.org/event/na-meeting/2027-10-29/
LOCATION:Kapp Hall\, 16 Central Avenue\, Oil City\, PA\, PA\, United States
CATEGORIES:Recovery Group
ATTACH;FMTTYPE=image/jpeg:https://christchurchoc.org/wp-content/uploads/2024/09/NA-Logo.jpg
END:VEVENT
BEGIN:VEVENT
DTSTART;TZID=America/New_York:20271030T120000
DTEND;TZID=America/New_York:20271030T130000
DTSTAMP:20260425T063737
CREATED:20231211T230753Z
LAST-MODIFIED:20231211T230833Z
UID:10000756-1824897600-1824901200@christchurchoc.org
SUMMARY:AA Meeting
DESCRIPTION:Open Discussion Recovery Meeting using the 12 Steps & 12 Traditions book.
URL:https://christchurchoc.org/event/aa-meeting-12/2027-10-30/
LOCATION:Kapp Hall\, 16 Central Avenue\, Oil City\, PA\, PA\, United States
CATEGORIES:Recovery Group
ATTACH;FMTTYPE=image/webp:https://christchurchoc.org/wp-content/uploads/2023/11/AA.webp
END:VEVENT
BEGIN:VEVENT
DTSTART;TZID=America/New_York:20271030T181500
DTEND;TZID=America/New_York:20271030T191500
DTSTAMP:20260425T063737
CREATED:20240912T160609Z
LAST-MODIFIED:20240912T160609Z
UID:10002712-1824920100-1824923700@christchurchoc.org
SUMMARY:NA Meeting
DESCRIPTION:Open Discussion Recovery Meeting using Narcotics Anonymous book.
URL:https://christchurchoc.org/event/na-meeting-2/2027-10-30/
LOCATION:Kapp Hall\, 16 Central Avenue\, Oil City\, PA\, PA\, United States
CATEGORIES:Recovery Group
ATTACH;FMTTYPE=image/jpeg:https://christchurchoc.org/wp-content/uploads/2024/09/NA-Logo.jpg
END:VEVENT
BEGIN:VEVENT
DTSTART;TZID=America/New_York:20271101T120000
DTEND;TZID=America/New_York:20271101T130000
DTSTAMP:20260425T063737
CREATED:20231211T225939Z
LAST-MODIFIED:20231211T225939Z
UID:10000234-1825070400-1825074000@christchurchoc.org
SUMMARY:AA Meeting
DESCRIPTION:Open Recovery Meeting in Kapp Hall. Daily ReflectionsBook.
URL:https://christchurchoc.org/event/aa-meeting-10/2027-11-01/
LOCATION:PA
CATEGORIES:Recovery Group
ATTACH;FMTTYPE=image/webp:https://christchurchoc.org/wp-content/uploads/2023/11/AA.webp
END:VEVENT
BEGIN:VEVENT
DTSTART;TZID=America/New_York:20271103T120000
DTEND;TZID=America/New_York:20271103T130000
DTSTAMP:20260425T063737
CREATED:20231211T230430Z
LAST-MODIFIED:20231211T230430Z
UID:10000496-1825243200-1825246800@christchurchoc.org
SUMMARY:AA Meeting
DESCRIPTION:Open Recovery Meeting. Big Book Discussion.
URL:https://christchurchoc.org/event/aa-meeting-11/2027-11-03/
LOCATION:Kapp Hall\, 16 Central Avenue\, Oil City\, PA\, PA\, United States
CATEGORIES:Recovery Group
ATTACH;FMTTYPE=image/webp:https://christchurchoc.org/wp-content/uploads/2023/11/AA.webp
END:VEVENT
BEGIN:VEVENT
DTSTART;TZID=America/New_York:20271105T120000
DTEND;TZID=America/New_York:20271105T130000
DTSTAMP:20260425T063737
CREATED:20240912T160125Z
LAST-MODIFIED:20240912T160125Z
UID:10001669-1825416000-1825419600@christchurchoc.org
SUMMARY:NA Meeting
DESCRIPTION:Open Discussion Recovery Meeting using Narcotics Anonymous book.
URL:https://christchurchoc.org/event/na-meeting/2027-11-05/
LOCATION:Kapp Hall\, 16 Central Avenue\, Oil City\, PA\, PA\, United States
CATEGORIES:Recovery Group
ATTACH;FMTTYPE=image/jpeg:https://christchurchoc.org/wp-content/uploads/2024/09/NA-Logo.jpg
END:VEVENT
BEGIN:VEVENT
DTSTART;TZID=America/New_York:20271106T120000
DTEND;TZID=America/New_York:20271106T130000
DTSTAMP:20260425T063737
CREATED:20231211T230753Z
LAST-MODIFIED:20231211T230833Z
UID:10000757-1825502400-1825506000@christchurchoc.org
SUMMARY:AA Meeting
DESCRIPTION:Open Discussion Recovery Meeting using the 12 Steps & 12 Traditions book.
URL:https://christchurchoc.org/event/aa-meeting-12/2027-11-06/
LOCATION:Kapp Hall\, 16 Central Avenue\, Oil City\, PA\, PA\, United States
CATEGORIES:Recovery Group
ATTACH;FMTTYPE=image/webp:https://christchurchoc.org/wp-content/uploads/2023/11/AA.webp
END:VEVENT
BEGIN:VEVENT
DTSTART;TZID=America/New_York:20271106T181500
DTEND;TZID=America/New_York:20271106T191500
DTSTAMP:20260425T063737
CREATED:20240912T160609Z
LAST-MODIFIED:20240912T160609Z
UID:10002713-1825524900-1825528500@christchurchoc.org
SUMMARY:NA Meeting
DESCRIPTION:Open Discussion Recovery Meeting using Narcotics Anonymous book.
URL:https://christchurchoc.org/event/na-meeting-2/2027-11-06/
LOCATION:Kapp Hall\, 16 Central Avenue\, Oil City\, PA\, PA\, United States
CATEGORIES:Recovery Group
ATTACH;FMTTYPE=image/jpeg:https://christchurchoc.org/wp-content/uploads/2024/09/NA-Logo.jpg
END:VEVENT
BEGIN:VEVENT
DTSTART;TZID=America/New_York:20271108T120000
DTEND;TZID=America/New_York:20271108T130000
DTSTAMP:20260425T063737
CREATED:20231211T225939Z
LAST-MODIFIED:20231211T225939Z
UID:10000235-1825675200-1825678800@christchurchoc.org
SUMMARY:AA Meeting
DESCRIPTION:Open Recovery Meeting in Kapp Hall. Daily ReflectionsBook.
URL:https://christchurchoc.org/event/aa-meeting-10/2027-11-08/
LOCATION:PA
CATEGORIES:Recovery Group
ATTACH;FMTTYPE=image/webp:https://christchurchoc.org/wp-content/uploads/2023/11/AA.webp
END:VEVENT
BEGIN:VEVENT
DTSTART;TZID=America/New_York:20271110T120000
DTEND;TZID=America/New_York:20271110T130000
DTSTAMP:20260425T063737
CREATED:20231211T230430Z
LAST-MODIFIED:20231211T230430Z
UID:10000497-1825848000-1825851600@christchurchoc.org
SUMMARY:AA Meeting
DESCRIPTION:Open Recovery Meeting. Big Book Discussion.
URL:https://christchurchoc.org/event/aa-meeting-11/2027-11-10/
LOCATION:Kapp Hall\, 16 Central Avenue\, Oil City\, PA\, PA\, United States
CATEGORIES:Recovery Group
ATTACH;FMTTYPE=image/webp:https://christchurchoc.org/wp-content/uploads/2023/11/AA.webp
END:VEVENT
BEGIN:VEVENT
DTSTART;TZID=America/New_York:20271112T120000
DTEND;TZID=America/New_York:20271112T130000
DTSTAMP:20260425T063737
CREATED:20240912T160125Z
LAST-MODIFIED:20240912T160125Z
UID:10001670-1826020800-1826024400@christchurchoc.org
SUMMARY:NA Meeting
DESCRIPTION:Open Discussion Recovery Meeting using Narcotics Anonymous book.
URL:https://christchurchoc.org/event/na-meeting/2027-11-12/
LOCATION:Kapp Hall\, 16 Central Avenue\, Oil City\, PA\, PA\, United States
CATEGORIES:Recovery Group
ATTACH;FMTTYPE=image/jpeg:https://christchurchoc.org/wp-content/uploads/2024/09/NA-Logo.jpg
END:VEVENT
BEGIN:VEVENT
DTSTART;TZID=America/New_York:20271113T120000
DTEND;TZID=America/New_York:20271113T130000
DTSTAMP:20260425T063737
CREATED:20231211T230753Z
LAST-MODIFIED:20231211T230833Z
UID:10000758-1826107200-1826110800@christchurchoc.org
SUMMARY:AA Meeting
DESCRIPTION:Open Discussion Recovery Meeting using the 12 Steps & 12 Traditions book.
URL:https://christchurchoc.org/event/aa-meeting-12/2027-11-13/
LOCATION:Kapp Hall\, 16 Central Avenue\, Oil City\, PA\, PA\, United States
CATEGORIES:Recovery Group
ATTACH;FMTTYPE=image/webp:https://christchurchoc.org/wp-content/uploads/2023/11/AA.webp
END:VEVENT
BEGIN:VEVENT
DTSTART;TZID=America/New_York:20271113T181500
DTEND;TZID=America/New_York:20271113T191500
DTSTAMP:20260425T063737
CREATED:20240912T160609Z
LAST-MODIFIED:20240912T160609Z
UID:10002714-1826129700-1826133300@christchurchoc.org
SUMMARY:NA Meeting
DESCRIPTION:Open Discussion Recovery Meeting using Narcotics Anonymous book.
URL:https://christchurchoc.org/event/na-meeting-2/2027-11-13/
LOCATION:Kapp Hall\, 16 Central Avenue\, Oil City\, PA\, PA\, United States
CATEGORIES:Recovery Group
ATTACH;FMTTYPE=image/jpeg:https://christchurchoc.org/wp-content/uploads/2024/09/NA-Logo.jpg
END:VEVENT
BEGIN:VEVENT
DTSTART;TZID=America/New_York:20271115T120000
DTEND;TZID=America/New_York:20271115T130000
DTSTAMP:20260425T063737
CREATED:20231211T225939Z
LAST-MODIFIED:20231211T225939Z
UID:10000236-1826280000-1826283600@christchurchoc.org
SUMMARY:AA Meeting
DESCRIPTION:Open Recovery Meeting in Kapp Hall. Daily ReflectionsBook.
URL:https://christchurchoc.org/event/aa-meeting-10/2027-11-15/
LOCATION:PA
CATEGORIES:Recovery Group
ATTACH;FMTTYPE=image/webp:https://christchurchoc.org/wp-content/uploads/2023/11/AA.webp
END:VEVENT
BEGIN:VEVENT
DTSTART;TZID=America/New_York:20271117T120000
DTEND;TZID=America/New_York:20271117T130000
DTSTAMP:20260425T063737
CREATED:20231211T230430Z
LAST-MODIFIED:20231211T230430Z
UID:10000498-1826452800-1826456400@christchurchoc.org
SUMMARY:AA Meeting
DESCRIPTION:Open Recovery Meeting. Big Book Discussion.
URL:https://christchurchoc.org/event/aa-meeting-11/2027-11-17/
LOCATION:Kapp Hall\, 16 Central Avenue\, Oil City\, PA\, PA\, United States
CATEGORIES:Recovery Group
ATTACH;FMTTYPE=image/webp:https://christchurchoc.org/wp-content/uploads/2023/11/AA.webp
END:VEVENT
BEGIN:VEVENT
DTSTART;TZID=America/New_York:20271119T120000
DTEND;TZID=America/New_York:20271119T130000
DTSTAMP:20260425T063737
CREATED:20240912T160125Z
LAST-MODIFIED:20240912T160125Z
UID:10001671-1826625600-1826629200@christchurchoc.org
SUMMARY:NA Meeting
DESCRIPTION:Open Discussion Recovery Meeting using Narcotics Anonymous book.
URL:https://christchurchoc.org/event/na-meeting/2027-11-19/
LOCATION:Kapp Hall\, 16 Central Avenue\, Oil City\, PA\, PA\, United States
CATEGORIES:Recovery Group
ATTACH;FMTTYPE=image/jpeg:https://christchurchoc.org/wp-content/uploads/2024/09/NA-Logo.jpg
END:VEVENT
BEGIN:VEVENT
DTSTART;TZID=America/New_York:20271120T120000
DTEND;TZID=America/New_York:20271120T130000
DTSTAMP:20260425T063737
CREATED:20231211T230753Z
LAST-MODIFIED:20231211T230833Z
UID:10000759-1826712000-1826715600@christchurchoc.org
SUMMARY:AA Meeting
DESCRIPTION:Open Discussion Recovery Meeting using the 12 Steps & 12 Traditions book.
URL:https://christchurchoc.org/event/aa-meeting-12/2027-11-20/
LOCATION:Kapp Hall\, 16 Central Avenue\, Oil City\, PA\, PA\, United States
CATEGORIES:Recovery Group
ATTACH;FMTTYPE=image/webp:https://christchurchoc.org/wp-content/uploads/2023/11/AA.webp
END:VEVENT
BEGIN:VEVENT
DTSTART;TZID=America/New_York:20271120T181500
DTEND;TZID=America/New_York:20271120T191500
DTSTAMP:20260425T063737
CREATED:20240912T160609Z
LAST-MODIFIED:20240912T160609Z
UID:10002715-1826734500-1826738100@christchurchoc.org
SUMMARY:NA Meeting
DESCRIPTION:Open Discussion Recovery Meeting using Narcotics Anonymous book.
URL:https://christchurchoc.org/event/na-meeting-2/2027-11-20/
LOCATION:Kapp Hall\, 16 Central Avenue\, Oil City\, PA\, PA\, United States
CATEGORIES:Recovery Group
ATTACH;FMTTYPE=image/jpeg:https://christchurchoc.org/wp-content/uploads/2024/09/NA-Logo.jpg
END:VEVENT
BEGIN:VEVENT
DTSTART;TZID=America/New_York:20271122T120000
DTEND;TZID=America/New_York:20271122T130000
DTSTAMP:20260425T063737
CREATED:20231211T225939Z
LAST-MODIFIED:20231211T225939Z
UID:10000237-1826884800-1826888400@christchurchoc.org
SUMMARY:AA Meeting
DESCRIPTION:Open Recovery Meeting in Kapp Hall. Daily ReflectionsBook.
URL:https://christchurchoc.org/event/aa-meeting-10/2027-11-22/
LOCATION:PA
CATEGORIES:Recovery Group
ATTACH;FMTTYPE=image/webp:https://christchurchoc.org/wp-content/uploads/2023/11/AA.webp
END:VEVENT
END:VCALENDAR