BEGIN:VCALENDAR
VERSION:2.0
PRODID:-//Christ Episcopal Church Oil City - ECPv6.15.20//NONSGML v1.0//EN
CALSCALE:GREGORIAN
METHOD:PUBLISH
X-ORIGINAL-URL:https://christchurchoc.org
X-WR-CALDESC:Events for Christ Episcopal Church Oil City
REFRESH-INTERVAL;VALUE=DURATION:PT1H
X-Robots-Tag:noindex
X-PUBLISHED-TTL:PT1H
BEGIN:VTIMEZONE
TZID:America/New_York
BEGIN:DAYLIGHT
TZOFFSETFROM:-0500
TZOFFSETTO:-0400
TZNAME:EDT
DTSTART:20260308T070000
END:DAYLIGHT
BEGIN:STANDARD
TZOFFSETFROM:-0400
TZOFFSETTO:-0500
TZNAME:EST
DTSTART:20261101T060000
END:STANDARD
BEGIN:DAYLIGHT
TZOFFSETFROM:-0500
TZOFFSETTO:-0400
TZNAME:EDT
DTSTART:20270314T070000
END:DAYLIGHT
BEGIN:STANDARD
TZOFFSETFROM:-0400
TZOFFSETTO:-0500
TZNAME:EST
DTSTART:20271107T060000
END:STANDARD
BEGIN:DAYLIGHT
TZOFFSETFROM:-0500
TZOFFSETTO:-0400
TZNAME:EDT
DTSTART:20280312T070000
END:DAYLIGHT
BEGIN:STANDARD
TZOFFSETFROM:-0400
TZOFFSETTO:-0500
TZNAME:EST
DTSTART:20281105T060000
END:STANDARD
BEGIN:DAYLIGHT
TZOFFSETFROM:-0500
TZOFFSETTO:-0400
TZNAME:EDT
DTSTART:20290311T070000
END:DAYLIGHT
BEGIN:STANDARD
TZOFFSETFROM:-0400
TZOFFSETTO:-0500
TZNAME:EST
DTSTART:20291104T060000
END:STANDARD
END:VTIMEZONE
BEGIN:VEVENT
DTSTART;TZID=America/New_York:20271204T181500
DTEND;TZID=America/New_York:20271204T191500
DTSTAMP:20260425T123248
CREATED:20240912T160609Z
LAST-MODIFIED:20240912T160609Z
UID:10002717-1827944100-1827947700@christchurchoc.org
SUMMARY:NA Meeting
DESCRIPTION:Open Discussion Recovery Meeting using Narcotics Anonymous book.
URL:https://christchurchoc.org/event/na-meeting-2/2027-12-04/
LOCATION:Kapp Hall\, 16 Central Avenue\, Oil City\, PA\, PA\, United States
CATEGORIES:Recovery Group
ATTACH;FMTTYPE=image/jpeg:https://christchurchoc.org/wp-content/uploads/2024/09/NA-Logo.jpg
END:VEVENT
BEGIN:VEVENT
DTSTART;TZID=America/New_York:20271206T120000
DTEND;TZID=America/New_York:20271206T130000
DTSTAMP:20260425T123248
CREATED:20231211T225939Z
LAST-MODIFIED:20231211T225939Z
UID:10000239-1828094400-1828098000@christchurchoc.org
SUMMARY:AA Meeting
DESCRIPTION:Open Recovery Meeting in Kapp Hall. Daily ReflectionsBook.
URL:https://christchurchoc.org/event/aa-meeting-10/2027-12-06/
LOCATION:PA
CATEGORIES:Recovery Group
ATTACH;FMTTYPE=image/webp:https://christchurchoc.org/wp-content/uploads/2023/11/AA.webp
END:VEVENT
BEGIN:VEVENT
DTSTART;TZID=America/New_York:20271208T120000
DTEND;TZID=America/New_York:20271208T130000
DTSTAMP:20260425T123248
CREATED:20231211T230430Z
LAST-MODIFIED:20231211T230430Z
UID:10000501-1828267200-1828270800@christchurchoc.org
SUMMARY:AA Meeting
DESCRIPTION:Open Recovery Meeting. Big Book Discussion.
URL:https://christchurchoc.org/event/aa-meeting-11/2027-12-08/
LOCATION:Kapp Hall\, 16 Central Avenue\, Oil City\, PA\, PA\, United States
CATEGORIES:Recovery Group
ATTACH;FMTTYPE=image/webp:https://christchurchoc.org/wp-content/uploads/2023/11/AA.webp
END:VEVENT
BEGIN:VEVENT
DTSTART;TZID=America/New_York:20271210T120000
DTEND;TZID=America/New_York:20271210T130000
DTSTAMP:20260425T123248
CREATED:20240912T160125Z
LAST-MODIFIED:20240912T160125Z
UID:10001674-1828440000-1828443600@christchurchoc.org
SUMMARY:NA Meeting
DESCRIPTION:Open Discussion Recovery Meeting using Narcotics Anonymous book.
URL:https://christchurchoc.org/event/na-meeting/2027-12-10/
LOCATION:Kapp Hall\, 16 Central Avenue\, Oil City\, PA\, PA\, United States
CATEGORIES:Recovery Group
ATTACH;FMTTYPE=image/jpeg:https://christchurchoc.org/wp-content/uploads/2024/09/NA-Logo.jpg
END:VEVENT
BEGIN:VEVENT
DTSTART;TZID=America/New_York:20271211T120000
DTEND;TZID=America/New_York:20271211T130000
DTSTAMP:20260425T123248
CREATED:20231211T230753Z
LAST-MODIFIED:20231211T230833Z
UID:10000762-1828526400-1828530000@christchurchoc.org
SUMMARY:AA Meeting
DESCRIPTION:Open Discussion Recovery Meeting using the 12 Steps & 12 Traditions book.
URL:https://christchurchoc.org/event/aa-meeting-12/2027-12-11/
LOCATION:Kapp Hall\, 16 Central Avenue\, Oil City\, PA\, PA\, United States
CATEGORIES:Recovery Group
ATTACH;FMTTYPE=image/webp:https://christchurchoc.org/wp-content/uploads/2023/11/AA.webp
END:VEVENT
BEGIN:VEVENT
DTSTART;TZID=America/New_York:20271211T181500
DTEND;TZID=America/New_York:20271211T191500
DTSTAMP:20260425T123248
CREATED:20240912T160609Z
LAST-MODIFIED:20240912T160609Z
UID:10002718-1828548900-1828552500@christchurchoc.org
SUMMARY:NA Meeting
DESCRIPTION:Open Discussion Recovery Meeting using Narcotics Anonymous book.
URL:https://christchurchoc.org/event/na-meeting-2/2027-12-11/
LOCATION:Kapp Hall\, 16 Central Avenue\, Oil City\, PA\, PA\, United States
CATEGORIES:Recovery Group
ATTACH;FMTTYPE=image/jpeg:https://christchurchoc.org/wp-content/uploads/2024/09/NA-Logo.jpg
END:VEVENT
BEGIN:VEVENT
DTSTART;TZID=America/New_York:20271213T120000
DTEND;TZID=America/New_York:20271213T130000
DTSTAMP:20260425T123248
CREATED:20231211T225939Z
LAST-MODIFIED:20231211T225939Z
UID:10000240-1828699200-1828702800@christchurchoc.org
SUMMARY:AA Meeting
DESCRIPTION:Open Recovery Meeting in Kapp Hall. Daily ReflectionsBook.
URL:https://christchurchoc.org/event/aa-meeting-10/2027-12-13/
LOCATION:PA
CATEGORIES:Recovery Group
ATTACH;FMTTYPE=image/webp:https://christchurchoc.org/wp-content/uploads/2023/11/AA.webp
END:VEVENT
BEGIN:VEVENT
DTSTART;TZID=America/New_York:20271215T120000
DTEND;TZID=America/New_York:20271215T130000
DTSTAMP:20260425T123248
CREATED:20231211T230430Z
LAST-MODIFIED:20231211T230430Z
UID:10000502-1828872000-1828875600@christchurchoc.org
SUMMARY:AA Meeting
DESCRIPTION:Open Recovery Meeting. Big Book Discussion.
URL:https://christchurchoc.org/event/aa-meeting-11/2027-12-15/
LOCATION:Kapp Hall\, 16 Central Avenue\, Oil City\, PA\, PA\, United States
CATEGORIES:Recovery Group
ATTACH;FMTTYPE=image/webp:https://christchurchoc.org/wp-content/uploads/2023/11/AA.webp
END:VEVENT
BEGIN:VEVENT
DTSTART;TZID=America/New_York:20271217T120000
DTEND;TZID=America/New_York:20271217T130000
DTSTAMP:20260425T123248
CREATED:20240912T160125Z
LAST-MODIFIED:20240912T160125Z
UID:10001675-1829044800-1829048400@christchurchoc.org
SUMMARY:NA Meeting
DESCRIPTION:Open Discussion Recovery Meeting using Narcotics Anonymous book.
URL:https://christchurchoc.org/event/na-meeting/2027-12-17/
LOCATION:Kapp Hall\, 16 Central Avenue\, Oil City\, PA\, PA\, United States
CATEGORIES:Recovery Group
ATTACH;FMTTYPE=image/jpeg:https://christchurchoc.org/wp-content/uploads/2024/09/NA-Logo.jpg
END:VEVENT
BEGIN:VEVENT
DTSTART;TZID=America/New_York:20271218T120000
DTEND;TZID=America/New_York:20271218T130000
DTSTAMP:20260425T123248
CREATED:20231211T230753Z
LAST-MODIFIED:20231211T230833Z
UID:10000763-1829131200-1829134800@christchurchoc.org
SUMMARY:AA Meeting
DESCRIPTION:Open Discussion Recovery Meeting using the 12 Steps & 12 Traditions book.
URL:https://christchurchoc.org/event/aa-meeting-12/2027-12-18/
LOCATION:Kapp Hall\, 16 Central Avenue\, Oil City\, PA\, PA\, United States
CATEGORIES:Recovery Group
ATTACH;FMTTYPE=image/webp:https://christchurchoc.org/wp-content/uploads/2023/11/AA.webp
END:VEVENT
BEGIN:VEVENT
DTSTART;TZID=America/New_York:20271218T181500
DTEND;TZID=America/New_York:20271218T191500
DTSTAMP:20260425T123248
CREATED:20240912T160609Z
LAST-MODIFIED:20240912T160609Z
UID:10002719-1829153700-1829157300@christchurchoc.org
SUMMARY:NA Meeting
DESCRIPTION:Open Discussion Recovery Meeting using Narcotics Anonymous book.
URL:https://christchurchoc.org/event/na-meeting-2/2027-12-18/
LOCATION:Kapp Hall\, 16 Central Avenue\, Oil City\, PA\, PA\, United States
CATEGORIES:Recovery Group
ATTACH;FMTTYPE=image/jpeg:https://christchurchoc.org/wp-content/uploads/2024/09/NA-Logo.jpg
END:VEVENT
BEGIN:VEVENT
DTSTART;TZID=America/New_York:20271220T120000
DTEND;TZID=America/New_York:20271220T130000
DTSTAMP:20260425T123248
CREATED:20231211T225939Z
LAST-MODIFIED:20231211T225939Z
UID:10000241-1829304000-1829307600@christchurchoc.org
SUMMARY:AA Meeting
DESCRIPTION:Open Recovery Meeting in Kapp Hall. Daily ReflectionsBook.
URL:https://christchurchoc.org/event/aa-meeting-10/2027-12-20/
LOCATION:PA
CATEGORIES:Recovery Group
ATTACH;FMTTYPE=image/webp:https://christchurchoc.org/wp-content/uploads/2023/11/AA.webp
END:VEVENT
BEGIN:VEVENT
DTSTART;TZID=America/New_York:20271222T120000
DTEND;TZID=America/New_York:20271222T130000
DTSTAMP:20260425T123248
CREATED:20231211T230430Z
LAST-MODIFIED:20231211T230430Z
UID:10000503-1829476800-1829480400@christchurchoc.org
SUMMARY:AA Meeting
DESCRIPTION:Open Recovery Meeting. Big Book Discussion.
URL:https://christchurchoc.org/event/aa-meeting-11/2027-12-22/
LOCATION:Kapp Hall\, 16 Central Avenue\, Oil City\, PA\, PA\, United States
CATEGORIES:Recovery Group
ATTACH;FMTTYPE=image/webp:https://christchurchoc.org/wp-content/uploads/2023/11/AA.webp
END:VEVENT
BEGIN:VEVENT
DTSTART;TZID=America/New_York:20271224T120000
DTEND;TZID=America/New_York:20271224T130000
DTSTAMP:20260425T123248
CREATED:20240912T160125Z
LAST-MODIFIED:20240912T160125Z
UID:10001676-1829649600-1829653200@christchurchoc.org
SUMMARY:NA Meeting
DESCRIPTION:Open Discussion Recovery Meeting using Narcotics Anonymous book.
URL:https://christchurchoc.org/event/na-meeting/2027-12-24/
LOCATION:Kapp Hall\, 16 Central Avenue\, Oil City\, PA\, PA\, United States
CATEGORIES:Recovery Group
ATTACH;FMTTYPE=image/jpeg:https://christchurchoc.org/wp-content/uploads/2024/09/NA-Logo.jpg
END:VEVENT
BEGIN:VEVENT
DTSTART;TZID=America/New_York:20271225T120000
DTEND;TZID=America/New_York:20271225T130000
DTSTAMP:20260425T123248
CREATED:20231211T230753Z
LAST-MODIFIED:20231211T230833Z
UID:10000764-1829736000-1829739600@christchurchoc.org
SUMMARY:AA Meeting
DESCRIPTION:Open Discussion Recovery Meeting using the 12 Steps & 12 Traditions book.
URL:https://christchurchoc.org/event/aa-meeting-12/2027-12-25/
LOCATION:Kapp Hall\, 16 Central Avenue\, Oil City\, PA\, PA\, United States
CATEGORIES:Recovery Group
ATTACH;FMTTYPE=image/webp:https://christchurchoc.org/wp-content/uploads/2023/11/AA.webp
END:VEVENT
BEGIN:VEVENT
DTSTART;TZID=America/New_York:20271225T181500
DTEND;TZID=America/New_York:20271225T191500
DTSTAMP:20260425T123248
CREATED:20240912T160609Z
LAST-MODIFIED:20240912T160609Z
UID:10002720-1829758500-1829762100@christchurchoc.org
SUMMARY:NA Meeting
DESCRIPTION:Open Discussion Recovery Meeting using Narcotics Anonymous book.
URL:https://christchurchoc.org/event/na-meeting-2/2027-12-25/
LOCATION:Kapp Hall\, 16 Central Avenue\, Oil City\, PA\, PA\, United States
CATEGORIES:Recovery Group
ATTACH;FMTTYPE=image/jpeg:https://christchurchoc.org/wp-content/uploads/2024/09/NA-Logo.jpg
END:VEVENT
BEGIN:VEVENT
DTSTART;TZID=America/New_York:20271227T120000
DTEND;TZID=America/New_York:20271227T130000
DTSTAMP:20260425T123248
CREATED:20231211T225939Z
LAST-MODIFIED:20231211T225939Z
UID:10000242-1829908800-1829912400@christchurchoc.org
SUMMARY:AA Meeting
DESCRIPTION:Open Recovery Meeting in Kapp Hall. Daily ReflectionsBook.
URL:https://christchurchoc.org/event/aa-meeting-10/2027-12-27/
LOCATION:PA
CATEGORIES:Recovery Group
ATTACH;FMTTYPE=image/webp:https://christchurchoc.org/wp-content/uploads/2023/11/AA.webp
END:VEVENT
BEGIN:VEVENT
DTSTART;TZID=America/New_York:20271229T120000
DTEND;TZID=America/New_York:20271229T130000
DTSTAMP:20260425T123248
CREATED:20231211T230430Z
LAST-MODIFIED:20231211T230430Z
UID:10000504-1830081600-1830085200@christchurchoc.org
SUMMARY:AA Meeting
DESCRIPTION:Open Recovery Meeting. Big Book Discussion.
URL:https://christchurchoc.org/event/aa-meeting-11/2027-12-29/
LOCATION:Kapp Hall\, 16 Central Avenue\, Oil City\, PA\, PA\, United States
CATEGORIES:Recovery Group
ATTACH;FMTTYPE=image/webp:https://christchurchoc.org/wp-content/uploads/2023/11/AA.webp
END:VEVENT
BEGIN:VEVENT
DTSTART;TZID=America/New_York:20271231T120000
DTEND;TZID=America/New_York:20271231T130000
DTSTAMP:20260425T123248
CREATED:20240912T160125Z
LAST-MODIFIED:20240912T160125Z
UID:10001677-1830254400-1830258000@christchurchoc.org
SUMMARY:NA Meeting
DESCRIPTION:Open Discussion Recovery Meeting using Narcotics Anonymous book.
URL:https://christchurchoc.org/event/na-meeting/2027-12-31/
LOCATION:Kapp Hall\, 16 Central Avenue\, Oil City\, PA\, PA\, United States
CATEGORIES:Recovery Group
ATTACH;FMTTYPE=image/jpeg:https://christchurchoc.org/wp-content/uploads/2024/09/NA-Logo.jpg
END:VEVENT
BEGIN:VEVENT
DTSTART;TZID=America/New_York:20280101T120000
DTEND;TZID=America/New_York:20280101T130000
DTSTAMP:20260425T123248
CREATED:20231211T230753Z
LAST-MODIFIED:20231211T230833Z
UID:10000765-1830340800-1830344400@christchurchoc.org
SUMMARY:AA Meeting
DESCRIPTION:Open Discussion Recovery Meeting using the 12 Steps & 12 Traditions book.
URL:https://christchurchoc.org/event/aa-meeting-12/2028-01-01/
LOCATION:Kapp Hall\, 16 Central Avenue\, Oil City\, PA\, PA\, United States
CATEGORIES:Recovery Group
ATTACH;FMTTYPE=image/webp:https://christchurchoc.org/wp-content/uploads/2023/11/AA.webp
END:VEVENT
BEGIN:VEVENT
DTSTART;TZID=America/New_York:20280101T181500
DTEND;TZID=America/New_York:20280101T191500
DTSTAMP:20260425T123248
CREATED:20240912T160609Z
LAST-MODIFIED:20240912T160609Z
UID:10002721-1830363300-1830366900@christchurchoc.org
SUMMARY:NA Meeting
DESCRIPTION:Open Discussion Recovery Meeting using Narcotics Anonymous book.
URL:https://christchurchoc.org/event/na-meeting-2/2028-01-01/
LOCATION:Kapp Hall\, 16 Central Avenue\, Oil City\, PA\, PA\, United States
CATEGORIES:Recovery Group
ATTACH;FMTTYPE=image/jpeg:https://christchurchoc.org/wp-content/uploads/2024/09/NA-Logo.jpg
END:VEVENT
BEGIN:VEVENT
DTSTART;TZID=America/New_York:20280103T120000
DTEND;TZID=America/New_York:20280103T130000
DTSTAMP:20260425T123248
CREATED:20231211T225939Z
LAST-MODIFIED:20231211T225939Z
UID:10000243-1830513600-1830517200@christchurchoc.org
SUMMARY:AA Meeting
DESCRIPTION:Open Recovery Meeting in Kapp Hall. Daily ReflectionsBook.
URL:https://christchurchoc.org/event/aa-meeting-10/2028-01-03/
LOCATION:PA
CATEGORIES:Recovery Group
ATTACH;FMTTYPE=image/webp:https://christchurchoc.org/wp-content/uploads/2023/11/AA.webp
END:VEVENT
BEGIN:VEVENT
DTSTART;TZID=America/New_York:20280105T120000
DTEND;TZID=America/New_York:20280105T130000
DTSTAMP:20260425T123248
CREATED:20231211T230430Z
LAST-MODIFIED:20231211T230430Z
UID:10000505-1830686400-1830690000@christchurchoc.org
SUMMARY:AA Meeting
DESCRIPTION:Open Recovery Meeting. Big Book Discussion.
URL:https://christchurchoc.org/event/aa-meeting-11/2028-01-05/
LOCATION:Kapp Hall\, 16 Central Avenue\, Oil City\, PA\, PA\, United States
CATEGORIES:Recovery Group
ATTACH;FMTTYPE=image/webp:https://christchurchoc.org/wp-content/uploads/2023/11/AA.webp
END:VEVENT
BEGIN:VEVENT
DTSTART;TZID=America/New_York:20280107T120000
DTEND;TZID=America/New_York:20280107T130000
DTSTAMP:20260425T123248
CREATED:20240912T160125Z
LAST-MODIFIED:20240912T160125Z
UID:10001678-1830859200-1830862800@christchurchoc.org
SUMMARY:NA Meeting
DESCRIPTION:Open Discussion Recovery Meeting using Narcotics Anonymous book.
URL:https://christchurchoc.org/event/na-meeting/2028-01-07/
LOCATION:Kapp Hall\, 16 Central Avenue\, Oil City\, PA\, PA\, United States
CATEGORIES:Recovery Group
ATTACH;FMTTYPE=image/jpeg:https://christchurchoc.org/wp-content/uploads/2024/09/NA-Logo.jpg
END:VEVENT
BEGIN:VEVENT
DTSTART;TZID=America/New_York:20280108T120000
DTEND;TZID=America/New_York:20280108T130000
DTSTAMP:20260425T123248
CREATED:20231211T230753Z
LAST-MODIFIED:20231211T230833Z
UID:10000766-1830945600-1830949200@christchurchoc.org
SUMMARY:AA Meeting
DESCRIPTION:Open Discussion Recovery Meeting using the 12 Steps & 12 Traditions book.
URL:https://christchurchoc.org/event/aa-meeting-12/2028-01-08/
LOCATION:Kapp Hall\, 16 Central Avenue\, Oil City\, PA\, PA\, United States
CATEGORIES:Recovery Group
ATTACH;FMTTYPE=image/webp:https://christchurchoc.org/wp-content/uploads/2023/11/AA.webp
END:VEVENT
BEGIN:VEVENT
DTSTART;TZID=America/New_York:20280108T181500
DTEND;TZID=America/New_York:20280108T191500
DTSTAMP:20260425T123248
CREATED:20240912T160609Z
LAST-MODIFIED:20240912T160609Z
UID:10002722-1830968100-1830971700@christchurchoc.org
SUMMARY:NA Meeting
DESCRIPTION:Open Discussion Recovery Meeting using Narcotics Anonymous book.
URL:https://christchurchoc.org/event/na-meeting-2/2028-01-08/
LOCATION:Kapp Hall\, 16 Central Avenue\, Oil City\, PA\, PA\, United States
CATEGORIES:Recovery Group
ATTACH;FMTTYPE=image/jpeg:https://christchurchoc.org/wp-content/uploads/2024/09/NA-Logo.jpg
END:VEVENT
BEGIN:VEVENT
DTSTART;TZID=America/New_York:20280110T120000
DTEND;TZID=America/New_York:20280110T130000
DTSTAMP:20260425T123248
CREATED:20231211T225939Z
LAST-MODIFIED:20231211T225939Z
UID:10000244-1831118400-1831122000@christchurchoc.org
SUMMARY:AA Meeting
DESCRIPTION:Open Recovery Meeting in Kapp Hall. Daily ReflectionsBook.
URL:https://christchurchoc.org/event/aa-meeting-10/2028-01-10/
LOCATION:PA
CATEGORIES:Recovery Group
ATTACH;FMTTYPE=image/webp:https://christchurchoc.org/wp-content/uploads/2023/11/AA.webp
END:VEVENT
BEGIN:VEVENT
DTSTART;TZID=America/New_York:20280112T120000
DTEND;TZID=America/New_York:20280112T130000
DTSTAMP:20260425T123248
CREATED:20231211T230430Z
LAST-MODIFIED:20231211T230430Z
UID:10000506-1831291200-1831294800@christchurchoc.org
SUMMARY:AA Meeting
DESCRIPTION:Open Recovery Meeting. Big Book Discussion.
URL:https://christchurchoc.org/event/aa-meeting-11/2028-01-12/
LOCATION:Kapp Hall\, 16 Central Avenue\, Oil City\, PA\, PA\, United States
CATEGORIES:Recovery Group
ATTACH;FMTTYPE=image/webp:https://christchurchoc.org/wp-content/uploads/2023/11/AA.webp
END:VEVENT
BEGIN:VEVENT
DTSTART;TZID=America/New_York:20280114T120000
DTEND;TZID=America/New_York:20280114T130000
DTSTAMP:20260425T123248
CREATED:20240912T160125Z
LAST-MODIFIED:20240912T160125Z
UID:10001679-1831464000-1831467600@christchurchoc.org
SUMMARY:NA Meeting
DESCRIPTION:Open Discussion Recovery Meeting using Narcotics Anonymous book.
URL:https://christchurchoc.org/event/na-meeting/2028-01-14/
LOCATION:Kapp Hall\, 16 Central Avenue\, Oil City\, PA\, PA\, United States
CATEGORIES:Recovery Group
ATTACH;FMTTYPE=image/jpeg:https://christchurchoc.org/wp-content/uploads/2024/09/NA-Logo.jpg
END:VEVENT
BEGIN:VEVENT
DTSTART;TZID=America/New_York:20280115T120000
DTEND;TZID=America/New_York:20280115T130000
DTSTAMP:20260425T123248
CREATED:20231211T230753Z
LAST-MODIFIED:20231211T230833Z
UID:10000767-1831550400-1831554000@christchurchoc.org
SUMMARY:AA Meeting
DESCRIPTION:Open Discussion Recovery Meeting using the 12 Steps & 12 Traditions book.
URL:https://christchurchoc.org/event/aa-meeting-12/2028-01-15/
LOCATION:Kapp Hall\, 16 Central Avenue\, Oil City\, PA\, PA\, United States
CATEGORIES:Recovery Group
ATTACH;FMTTYPE=image/webp:https://christchurchoc.org/wp-content/uploads/2023/11/AA.webp
END:VEVENT
END:VCALENDAR