BEGIN:VCALENDAR
VERSION:2.0
PRODID:-//Christ Episcopal Church Oil City - ECPv6.15.20//NONSGML v1.0//EN
CALSCALE:GREGORIAN
METHOD:PUBLISH
X-ORIGINAL-URL:https://christchurchoc.org
X-WR-CALDESC:Events for Christ Episcopal Church Oil City
REFRESH-INTERVAL;VALUE=DURATION:PT1H
X-Robots-Tag:noindex
X-PUBLISHED-TTL:PT1H
BEGIN:VTIMEZONE
TZID:America/New_York
BEGIN:DAYLIGHT
TZOFFSETFROM:-0500
TZOFFSETTO:-0400
TZNAME:EDT
DTSTART:20250309T070000
END:DAYLIGHT
BEGIN:STANDARD
TZOFFSETFROM:-0400
TZOFFSETTO:-0500
TZNAME:EST
DTSTART:20251102T060000
END:STANDARD
BEGIN:DAYLIGHT
TZOFFSETFROM:-0500
TZOFFSETTO:-0400
TZNAME:EDT
DTSTART:20260308T070000
END:DAYLIGHT
BEGIN:STANDARD
TZOFFSETFROM:-0400
TZOFFSETTO:-0500
TZNAME:EST
DTSTART:20261101T060000
END:STANDARD
BEGIN:DAYLIGHT
TZOFFSETFROM:-0500
TZOFFSETTO:-0400
TZNAME:EDT
DTSTART:20270314T070000
END:DAYLIGHT
BEGIN:STANDARD
TZOFFSETFROM:-0400
TZOFFSETTO:-0500
TZNAME:EST
DTSTART:20271107T060000
END:STANDARD
END:VTIMEZONE
BEGIN:VEVENT
DTSTART;TZID=America/New_York:20261010T120000
DTEND;TZID=America/New_York:20261010T130000
DTSTAMP:20260422T175146
CREATED:20231211T230753Z
LAST-MODIFIED:20231211T230833Z
UID:10000701-1791633600-1791637200@christchurchoc.org
SUMMARY:AA Meeting
DESCRIPTION:Open Discussion Recovery Meeting using the 12 Steps & 12 Traditions book.
URL:https://christchurchoc.org/event/aa-meeting-12/2026-10-10/
LOCATION:Kapp Hall\, 16 Central Avenue\, Oil City\, PA\, PA\, United States
CATEGORIES:Recovery Group
ATTACH;FMTTYPE=image/webp:https://christchurchoc.org/wp-content/uploads/2023/11/AA.webp
END:VEVENT
BEGIN:VEVENT
DTSTART;TZID=America/New_York:20261010T181500
DTEND;TZID=America/New_York:20261010T191500
DTSTAMP:20260422T175146
CREATED:20240912T160609Z
LAST-MODIFIED:20240912T160609Z
UID:10002657-1791656100-1791659700@christchurchoc.org
SUMMARY:NA Meeting
DESCRIPTION:Open Discussion Recovery Meeting using Narcotics Anonymous book.
URL:https://christchurchoc.org/event/na-meeting-2/2026-10-10/
LOCATION:Kapp Hall\, 16 Central Avenue\, Oil City\, PA\, PA\, United States
CATEGORIES:Recovery Group
ATTACH;FMTTYPE=image/jpeg:https://christchurchoc.org/wp-content/uploads/2024/09/NA-Logo.jpg
END:VEVENT
BEGIN:VEVENT
DTSTART;TZID=America/New_York:20261012T120000
DTEND;TZID=America/New_York:20261012T130000
DTSTAMP:20260422T175146
CREATED:20231211T225939Z
LAST-MODIFIED:20231211T225939Z
UID:10000179-1791806400-1791810000@christchurchoc.org
SUMMARY:AA Meeting
DESCRIPTION:Open Recovery Meeting in Kapp Hall. Daily ReflectionsBook.
URL:https://christchurchoc.org/event/aa-meeting-10/2026-10-12/
LOCATION:PA
CATEGORIES:Recovery Group
ATTACH;FMTTYPE=image/webp:https://christchurchoc.org/wp-content/uploads/2023/11/AA.webp
END:VEVENT
BEGIN:VEVENT
DTSTART;TZID=America/New_York:20261014T120000
DTEND;TZID=America/New_York:20261014T130000
DTSTAMP:20260422T175146
CREATED:20231211T230430Z
LAST-MODIFIED:20231211T230430Z
UID:10000441-1791979200-1791982800@christchurchoc.org
SUMMARY:AA Meeting
DESCRIPTION:Open Recovery Meeting. Big Book Discussion.
URL:https://christchurchoc.org/event/aa-meeting-11/2026-10-14/
LOCATION:Kapp Hall\, 16 Central Avenue\, Oil City\, PA\, PA\, United States
CATEGORIES:Recovery Group
ATTACH;FMTTYPE=image/webp:https://christchurchoc.org/wp-content/uploads/2023/11/AA.webp
END:VEVENT
BEGIN:VEVENT
DTSTART;TZID=America/New_York:20261016T120000
DTEND;TZID=America/New_York:20261016T130000
DTSTAMP:20260422T175146
CREATED:20240912T160125Z
LAST-MODIFIED:20240912T160125Z
UID:10001614-1792152000-1792155600@christchurchoc.org
SUMMARY:NA Meeting
DESCRIPTION:Open Discussion Recovery Meeting using Narcotics Anonymous book.
URL:https://christchurchoc.org/event/na-meeting/2026-10-16/
LOCATION:Kapp Hall\, 16 Central Avenue\, Oil City\, PA\, PA\, United States
CATEGORIES:Recovery Group
ATTACH;FMTTYPE=image/jpeg:https://christchurchoc.org/wp-content/uploads/2024/09/NA-Logo.jpg
END:VEVENT
BEGIN:VEVENT
DTSTART;TZID=America/New_York:20261017T120000
DTEND;TZID=America/New_York:20261017T130000
DTSTAMP:20260422T175146
CREATED:20231211T230753Z
LAST-MODIFIED:20231211T230833Z
UID:10000702-1792238400-1792242000@christchurchoc.org
SUMMARY:AA Meeting
DESCRIPTION:Open Discussion Recovery Meeting using the 12 Steps & 12 Traditions book.
URL:https://christchurchoc.org/event/aa-meeting-12/2026-10-17/
LOCATION:Kapp Hall\, 16 Central Avenue\, Oil City\, PA\, PA\, United States
CATEGORIES:Recovery Group
ATTACH;FMTTYPE=image/webp:https://christchurchoc.org/wp-content/uploads/2023/11/AA.webp
END:VEVENT
BEGIN:VEVENT
DTSTART;TZID=America/New_York:20261017T181500
DTEND;TZID=America/New_York:20261017T191500
DTSTAMP:20260422T175146
CREATED:20240912T160609Z
LAST-MODIFIED:20240912T160609Z
UID:10002658-1792260900-1792264500@christchurchoc.org
SUMMARY:NA Meeting
DESCRIPTION:Open Discussion Recovery Meeting using Narcotics Anonymous book.
URL:https://christchurchoc.org/event/na-meeting-2/2026-10-17/
LOCATION:Kapp Hall\, 16 Central Avenue\, Oil City\, PA\, PA\, United States
CATEGORIES:Recovery Group
ATTACH;FMTTYPE=image/jpeg:https://christchurchoc.org/wp-content/uploads/2024/09/NA-Logo.jpg
END:VEVENT
BEGIN:VEVENT
DTSTART;TZID=America/New_York:20261019T120000
DTEND;TZID=America/New_York:20261019T130000
DTSTAMP:20260422T175146
CREATED:20231211T225939Z
LAST-MODIFIED:20231211T225939Z
UID:10000180-1792411200-1792414800@christchurchoc.org
SUMMARY:AA Meeting
DESCRIPTION:Open Recovery Meeting in Kapp Hall. Daily ReflectionsBook.
URL:https://christchurchoc.org/event/aa-meeting-10/2026-10-19/
LOCATION:PA
CATEGORIES:Recovery Group
ATTACH;FMTTYPE=image/webp:https://christchurchoc.org/wp-content/uploads/2023/11/AA.webp
END:VEVENT
BEGIN:VEVENT
DTSTART;TZID=America/New_York:20261021T120000
DTEND;TZID=America/New_York:20261021T130000
DTSTAMP:20260422T175146
CREATED:20231211T230430Z
LAST-MODIFIED:20231211T230430Z
UID:10000442-1792584000-1792587600@christchurchoc.org
SUMMARY:AA Meeting
DESCRIPTION:Open Recovery Meeting. Big Book Discussion.
URL:https://christchurchoc.org/event/aa-meeting-11/2026-10-21/
LOCATION:Kapp Hall\, 16 Central Avenue\, Oil City\, PA\, PA\, United States
CATEGORIES:Recovery Group
ATTACH;FMTTYPE=image/webp:https://christchurchoc.org/wp-content/uploads/2023/11/AA.webp
END:VEVENT
BEGIN:VEVENT
DTSTART;TZID=America/New_York:20261023T120000
DTEND;TZID=America/New_York:20261023T130000
DTSTAMP:20260422T175146
CREATED:20240912T160125Z
LAST-MODIFIED:20240912T160125Z
UID:10001615-1792756800-1792760400@christchurchoc.org
SUMMARY:NA Meeting
DESCRIPTION:Open Discussion Recovery Meeting using Narcotics Anonymous book.
URL:https://christchurchoc.org/event/na-meeting/2026-10-23/
LOCATION:Kapp Hall\, 16 Central Avenue\, Oil City\, PA\, PA\, United States
CATEGORIES:Recovery Group
ATTACH;FMTTYPE=image/jpeg:https://christchurchoc.org/wp-content/uploads/2024/09/NA-Logo.jpg
END:VEVENT
BEGIN:VEVENT
DTSTART;TZID=America/New_York:20261024T120000
DTEND;TZID=America/New_York:20261024T130000
DTSTAMP:20260422T175146
CREATED:20231211T230753Z
LAST-MODIFIED:20231211T230833Z
UID:10000703-1792843200-1792846800@christchurchoc.org
SUMMARY:AA Meeting
DESCRIPTION:Open Discussion Recovery Meeting using the 12 Steps & 12 Traditions book.
URL:https://christchurchoc.org/event/aa-meeting-12/2026-10-24/
LOCATION:Kapp Hall\, 16 Central Avenue\, Oil City\, PA\, PA\, United States
CATEGORIES:Recovery Group
ATTACH;FMTTYPE=image/webp:https://christchurchoc.org/wp-content/uploads/2023/11/AA.webp
END:VEVENT
BEGIN:VEVENT
DTSTART;TZID=America/New_York:20261024T181500
DTEND;TZID=America/New_York:20261024T191500
DTSTAMP:20260422T175146
CREATED:20240912T160609Z
LAST-MODIFIED:20240912T160609Z
UID:10002659-1792865700-1792869300@christchurchoc.org
SUMMARY:NA Meeting
DESCRIPTION:Open Discussion Recovery Meeting using Narcotics Anonymous book.
URL:https://christchurchoc.org/event/na-meeting-2/2026-10-24/
LOCATION:Kapp Hall\, 16 Central Avenue\, Oil City\, PA\, PA\, United States
CATEGORIES:Recovery Group
ATTACH;FMTTYPE=image/jpeg:https://christchurchoc.org/wp-content/uploads/2024/09/NA-Logo.jpg
END:VEVENT
BEGIN:VEVENT
DTSTART;TZID=America/New_York:20261026T120000
DTEND;TZID=America/New_York:20261026T130000
DTSTAMP:20260422T175146
CREATED:20231211T225939Z
LAST-MODIFIED:20231211T225939Z
UID:10000181-1793016000-1793019600@christchurchoc.org
SUMMARY:AA Meeting
DESCRIPTION:Open Recovery Meeting in Kapp Hall. Daily ReflectionsBook.
URL:https://christchurchoc.org/event/aa-meeting-10/2026-10-26/
LOCATION:PA
CATEGORIES:Recovery Group
ATTACH;FMTTYPE=image/webp:https://christchurchoc.org/wp-content/uploads/2023/11/AA.webp
END:VEVENT
BEGIN:VEVENT
DTSTART;TZID=America/New_York:20261028T120000
DTEND;TZID=America/New_York:20261028T130000
DTSTAMP:20260422T175146
CREATED:20231211T230430Z
LAST-MODIFIED:20231211T230430Z
UID:10000443-1793188800-1793192400@christchurchoc.org
SUMMARY:AA Meeting
DESCRIPTION:Open Recovery Meeting. Big Book Discussion.
URL:https://christchurchoc.org/event/aa-meeting-11/2026-10-28/
LOCATION:Kapp Hall\, 16 Central Avenue\, Oil City\, PA\, PA\, United States
CATEGORIES:Recovery Group
ATTACH;FMTTYPE=image/webp:https://christchurchoc.org/wp-content/uploads/2023/11/AA.webp
END:VEVENT
BEGIN:VEVENT
DTSTART;TZID=America/New_York:20261030T120000
DTEND;TZID=America/New_York:20261030T130000
DTSTAMP:20260422T175146
CREATED:20240912T160125Z
LAST-MODIFIED:20240912T160125Z
UID:10001616-1793361600-1793365200@christchurchoc.org
SUMMARY:NA Meeting
DESCRIPTION:Open Discussion Recovery Meeting using Narcotics Anonymous book.
URL:https://christchurchoc.org/event/na-meeting/2026-10-30/
LOCATION:Kapp Hall\, 16 Central Avenue\, Oil City\, PA\, PA\, United States
CATEGORIES:Recovery Group
ATTACH;FMTTYPE=image/jpeg:https://christchurchoc.org/wp-content/uploads/2024/09/NA-Logo.jpg
END:VEVENT
BEGIN:VEVENT
DTSTART;TZID=America/New_York:20261031T120000
DTEND;TZID=America/New_York:20261031T130000
DTSTAMP:20260422T175146
CREATED:20231211T230753Z
LAST-MODIFIED:20231211T230833Z
UID:10000704-1793448000-1793451600@christchurchoc.org
SUMMARY:AA Meeting
DESCRIPTION:Open Discussion Recovery Meeting using the 12 Steps & 12 Traditions book.
URL:https://christchurchoc.org/event/aa-meeting-12/2026-10-31/
LOCATION:Kapp Hall\, 16 Central Avenue\, Oil City\, PA\, PA\, United States
CATEGORIES:Recovery Group
ATTACH;FMTTYPE=image/webp:https://christchurchoc.org/wp-content/uploads/2023/11/AA.webp
END:VEVENT
BEGIN:VEVENT
DTSTART;TZID=America/New_York:20261031T181500
DTEND;TZID=America/New_York:20261031T191500
DTSTAMP:20260422T175146
CREATED:20240912T160609Z
LAST-MODIFIED:20240912T160609Z
UID:10002660-1793470500-1793474100@christchurchoc.org
SUMMARY:NA Meeting
DESCRIPTION:Open Discussion Recovery Meeting using Narcotics Anonymous book.
URL:https://christchurchoc.org/event/na-meeting-2/2026-10-31/
LOCATION:Kapp Hall\, 16 Central Avenue\, Oil City\, PA\, PA\, United States
CATEGORIES:Recovery Group
ATTACH;FMTTYPE=image/jpeg:https://christchurchoc.org/wp-content/uploads/2024/09/NA-Logo.jpg
END:VEVENT
BEGIN:VEVENT
DTSTART;TZID=America/New_York:20261102T120000
DTEND;TZID=America/New_York:20261102T130000
DTSTAMP:20260422T175146
CREATED:20231211T225939Z
LAST-MODIFIED:20231211T225939Z
UID:10000182-1793620800-1793624400@christchurchoc.org
SUMMARY:AA Meeting
DESCRIPTION:Open Recovery Meeting in Kapp Hall. Daily ReflectionsBook.
URL:https://christchurchoc.org/event/aa-meeting-10/2026-11-02/
LOCATION:PA
CATEGORIES:Recovery Group
ATTACH;FMTTYPE=image/webp:https://christchurchoc.org/wp-content/uploads/2023/11/AA.webp
END:VEVENT
BEGIN:VEVENT
DTSTART;TZID=America/New_York:20261104T120000
DTEND;TZID=America/New_York:20261104T130000
DTSTAMP:20260422T175146
CREATED:20231211T230430Z
LAST-MODIFIED:20231211T230430Z
UID:10000444-1793793600-1793797200@christchurchoc.org
SUMMARY:AA Meeting
DESCRIPTION:Open Recovery Meeting. Big Book Discussion.
URL:https://christchurchoc.org/event/aa-meeting-11/2026-11-04/
LOCATION:Kapp Hall\, 16 Central Avenue\, Oil City\, PA\, PA\, United States
CATEGORIES:Recovery Group
ATTACH;FMTTYPE=image/webp:https://christchurchoc.org/wp-content/uploads/2023/11/AA.webp
END:VEVENT
BEGIN:VEVENT
DTSTART;TZID=America/New_York:20261106T120000
DTEND;TZID=America/New_York:20261106T130000
DTSTAMP:20260422T175146
CREATED:20240912T160125Z
LAST-MODIFIED:20240912T160125Z
UID:10001617-1793966400-1793970000@christchurchoc.org
SUMMARY:NA Meeting
DESCRIPTION:Open Discussion Recovery Meeting using Narcotics Anonymous book.
URL:https://christchurchoc.org/event/na-meeting/2026-11-06/
LOCATION:Kapp Hall\, 16 Central Avenue\, Oil City\, PA\, PA\, United States
CATEGORIES:Recovery Group
ATTACH;FMTTYPE=image/jpeg:https://christchurchoc.org/wp-content/uploads/2024/09/NA-Logo.jpg
END:VEVENT
BEGIN:VEVENT
DTSTART;TZID=America/New_York:20261107T120000
DTEND;TZID=America/New_York:20261107T130000
DTSTAMP:20260422T175146
CREATED:20231211T230753Z
LAST-MODIFIED:20231211T230833Z
UID:10000705-1794052800-1794056400@christchurchoc.org
SUMMARY:AA Meeting
DESCRIPTION:Open Discussion Recovery Meeting using the 12 Steps & 12 Traditions book.
URL:https://christchurchoc.org/event/aa-meeting-12/2026-11-07/
LOCATION:Kapp Hall\, 16 Central Avenue\, Oil City\, PA\, PA\, United States
CATEGORIES:Recovery Group
ATTACH;FMTTYPE=image/webp:https://christchurchoc.org/wp-content/uploads/2023/11/AA.webp
END:VEVENT
BEGIN:VEVENT
DTSTART;TZID=America/New_York:20261107T181500
DTEND;TZID=America/New_York:20261107T191500
DTSTAMP:20260422T175146
CREATED:20240912T160609Z
LAST-MODIFIED:20240912T160609Z
UID:10002661-1794075300-1794078900@christchurchoc.org
SUMMARY:NA Meeting
DESCRIPTION:Open Discussion Recovery Meeting using Narcotics Anonymous book.
URL:https://christchurchoc.org/event/na-meeting-2/2026-11-07/
LOCATION:Kapp Hall\, 16 Central Avenue\, Oil City\, PA\, PA\, United States
CATEGORIES:Recovery Group
ATTACH;FMTTYPE=image/jpeg:https://christchurchoc.org/wp-content/uploads/2024/09/NA-Logo.jpg
END:VEVENT
BEGIN:VEVENT
DTSTART;TZID=America/New_York:20261109T120000
DTEND;TZID=America/New_York:20261109T130000
DTSTAMP:20260422T175146
CREATED:20231211T225939Z
LAST-MODIFIED:20231211T225939Z
UID:10000183-1794225600-1794229200@christchurchoc.org
SUMMARY:AA Meeting
DESCRIPTION:Open Recovery Meeting in Kapp Hall. Daily ReflectionsBook.
URL:https://christchurchoc.org/event/aa-meeting-10/2026-11-09/
LOCATION:PA
CATEGORIES:Recovery Group
ATTACH;FMTTYPE=image/webp:https://christchurchoc.org/wp-content/uploads/2023/11/AA.webp
END:VEVENT
BEGIN:VEVENT
DTSTART;TZID=America/New_York:20261111T120000
DTEND;TZID=America/New_York:20261111T130000
DTSTAMP:20260422T175146
CREATED:20231211T230430Z
LAST-MODIFIED:20231211T230430Z
UID:10000445-1794398400-1794402000@christchurchoc.org
SUMMARY:AA Meeting
DESCRIPTION:Open Recovery Meeting. Big Book Discussion.
URL:https://christchurchoc.org/event/aa-meeting-11/2026-11-11/
LOCATION:Kapp Hall\, 16 Central Avenue\, Oil City\, PA\, PA\, United States
CATEGORIES:Recovery Group
ATTACH;FMTTYPE=image/webp:https://christchurchoc.org/wp-content/uploads/2023/11/AA.webp
END:VEVENT
BEGIN:VEVENT
DTSTART;TZID=America/New_York:20261113T120000
DTEND;TZID=America/New_York:20261113T130000
DTSTAMP:20260422T175146
CREATED:20240912T160125Z
LAST-MODIFIED:20240912T160125Z
UID:10001618-1794571200-1794574800@christchurchoc.org
SUMMARY:NA Meeting
DESCRIPTION:Open Discussion Recovery Meeting using Narcotics Anonymous book.
URL:https://christchurchoc.org/event/na-meeting/2026-11-13/
LOCATION:Kapp Hall\, 16 Central Avenue\, Oil City\, PA\, PA\, United States
CATEGORIES:Recovery Group
ATTACH;FMTTYPE=image/jpeg:https://christchurchoc.org/wp-content/uploads/2024/09/NA-Logo.jpg
END:VEVENT
BEGIN:VEVENT
DTSTART;TZID=America/New_York:20261114T120000
DTEND;TZID=America/New_York:20261114T130000
DTSTAMP:20260422T175146
CREATED:20231211T230753Z
LAST-MODIFIED:20231211T230833Z
UID:10000706-1794657600-1794661200@christchurchoc.org
SUMMARY:AA Meeting
DESCRIPTION:Open Discussion Recovery Meeting using the 12 Steps & 12 Traditions book.
URL:https://christchurchoc.org/event/aa-meeting-12/2026-11-14/
LOCATION:Kapp Hall\, 16 Central Avenue\, Oil City\, PA\, PA\, United States
CATEGORIES:Recovery Group
ATTACH;FMTTYPE=image/webp:https://christchurchoc.org/wp-content/uploads/2023/11/AA.webp
END:VEVENT
BEGIN:VEVENT
DTSTART;TZID=America/New_York:20261114T181500
DTEND;TZID=America/New_York:20261114T191500
DTSTAMP:20260422T175146
CREATED:20240912T160609Z
LAST-MODIFIED:20240912T160609Z
UID:10002662-1794680100-1794683700@christchurchoc.org
SUMMARY:NA Meeting
DESCRIPTION:Open Discussion Recovery Meeting using Narcotics Anonymous book.
URL:https://christchurchoc.org/event/na-meeting-2/2026-11-14/
LOCATION:Kapp Hall\, 16 Central Avenue\, Oil City\, PA\, PA\, United States
CATEGORIES:Recovery Group
ATTACH;FMTTYPE=image/jpeg:https://christchurchoc.org/wp-content/uploads/2024/09/NA-Logo.jpg
END:VEVENT
BEGIN:VEVENT
DTSTART;TZID=America/New_York:20261116T120000
DTEND;TZID=America/New_York:20261116T130000
DTSTAMP:20260422T175146
CREATED:20231211T225939Z
LAST-MODIFIED:20231211T225939Z
UID:10000184-1794830400-1794834000@christchurchoc.org
SUMMARY:AA Meeting
DESCRIPTION:Open Recovery Meeting in Kapp Hall. Daily ReflectionsBook.
URL:https://christchurchoc.org/event/aa-meeting-10/2026-11-16/
LOCATION:PA
CATEGORIES:Recovery Group
ATTACH;FMTTYPE=image/webp:https://christchurchoc.org/wp-content/uploads/2023/11/AA.webp
END:VEVENT
BEGIN:VEVENT
DTSTART;TZID=America/New_York:20261118T120000
DTEND;TZID=America/New_York:20261118T130000
DTSTAMP:20260422T175146
CREATED:20231211T230430Z
LAST-MODIFIED:20231211T230430Z
UID:10000446-1795003200-1795006800@christchurchoc.org
SUMMARY:AA Meeting
DESCRIPTION:Open Recovery Meeting. Big Book Discussion.
URL:https://christchurchoc.org/event/aa-meeting-11/2026-11-18/
LOCATION:Kapp Hall\, 16 Central Avenue\, Oil City\, PA\, PA\, United States
CATEGORIES:Recovery Group
ATTACH;FMTTYPE=image/webp:https://christchurchoc.org/wp-content/uploads/2023/11/AA.webp
END:VEVENT
BEGIN:VEVENT
DTSTART;TZID=America/New_York:20261120T120000
DTEND;TZID=America/New_York:20261120T130000
DTSTAMP:20260422T175146
CREATED:20240912T160125Z
LAST-MODIFIED:20240912T160125Z
UID:10001619-1795176000-1795179600@christchurchoc.org
SUMMARY:NA Meeting
DESCRIPTION:Open Discussion Recovery Meeting using Narcotics Anonymous book.
URL:https://christchurchoc.org/event/na-meeting/2026-11-20/
LOCATION:Kapp Hall\, 16 Central Avenue\, Oil City\, PA\, PA\, United States
CATEGORIES:Recovery Group
ATTACH;FMTTYPE=image/jpeg:https://christchurchoc.org/wp-content/uploads/2024/09/NA-Logo.jpg
END:VEVENT
END:VCALENDAR