BEGIN:VCALENDAR
VERSION:2.0
PRODID:-//Christ Episcopal Church Oil City - ECPv6.15.20//NONSGML v1.0//EN
CALSCALE:GREGORIAN
METHOD:PUBLISH
X-WR-CALNAME:Christ Episcopal Church Oil City
X-ORIGINAL-URL:https://christchurchoc.org
X-WR-CALDESC:Events for Christ Episcopal Church Oil City
REFRESH-INTERVAL;VALUE=DURATION:PT1H
X-Robots-Tag:noindex
X-PUBLISHED-TTL:PT1H
BEGIN:VTIMEZONE
TZID:America/New_York
BEGIN:DAYLIGHT
TZOFFSETFROM:-0500
TZOFFSETTO:-0400
TZNAME:EDT
DTSTART:20230312T070000
END:DAYLIGHT
BEGIN:STANDARD
TZOFFSETFROM:-0400
TZOFFSETTO:-0500
TZNAME:EST
DTSTART:20231105T060000
END:STANDARD
BEGIN:DAYLIGHT
TZOFFSETFROM:-0500
TZOFFSETTO:-0400
TZNAME:EDT
DTSTART:20240310T070000
END:DAYLIGHT
BEGIN:STANDARD
TZOFFSETFROM:-0400
TZOFFSETTO:-0500
TZNAME:EST
DTSTART:20241103T060000
END:STANDARD
BEGIN:DAYLIGHT
TZOFFSETFROM:-0500
TZOFFSETTO:-0400
TZNAME:EDT
DTSTART:20250309T070000
END:DAYLIGHT
BEGIN:STANDARD
TZOFFSETFROM:-0400
TZOFFSETTO:-0500
TZNAME:EST
DTSTART:20251102T060000
END:STANDARD
BEGIN:DAYLIGHT
TZOFFSETFROM:-0500
TZOFFSETTO:-0400
TZNAME:EDT
DTSTART:20260308T070000
END:DAYLIGHT
BEGIN:STANDARD
TZOFFSETFROM:-0400
TZOFFSETTO:-0500
TZNAME:EST
DTSTART:20261101T060000
END:STANDARD
END:VTIMEZONE
BEGIN:VEVENT
DTSTART;TZID=America/New_York:20250214T120000
DTEND;TZID=America/New_York:20250214T130000
DTSTAMP:20260425T214139
CREATED:20240912T160125Z
LAST-MODIFIED:20240912T160125Z
UID:10001527-1739534400-1739538000@christchurchoc.org
SUMMARY:NA Meeting
DESCRIPTION:Open Discussion Recovery Meeting using Narcotics Anonymous book.
URL:https://christchurchoc.org/event/na-meeting/2025-02-14/
LOCATION:Kapp Hall\, 16 Central Avenue\, Oil City\, PA\, PA\, United States
CATEGORIES:Recovery Group
ATTACH;FMTTYPE=image/jpeg:https://christchurchoc.org/wp-content/uploads/2024/09/NA-Logo.jpg
END:VEVENT
BEGIN:VEVENT
DTSTART;TZID=America/New_York:20250212T120000
DTEND;TZID=America/New_York:20250212T130000
DTSTAMP:20260425T214139
CREATED:20231211T230430Z
LAST-MODIFIED:20231211T230430Z
UID:10000354-1739361600-1739365200@christchurchoc.org
SUMMARY:AA Meeting
DESCRIPTION:Open Recovery Meeting. Big Book Discussion.
URL:https://christchurchoc.org/event/aa-meeting-11/2025-02-12/
LOCATION:Kapp Hall\, 16 Central Avenue\, Oil City\, PA\, PA\, United States
CATEGORIES:Recovery Group
ATTACH;FMTTYPE=image/webp:https://christchurchoc.org/wp-content/uploads/2023/11/AA.webp
END:VEVENT
BEGIN:VEVENT
DTSTART;TZID=America/New_York:20250208T181500
DTEND;TZID=America/New_York:20250208T191500
DTSTAMP:20260425T214139
CREATED:20240912T160609Z
LAST-MODIFIED:20240912T160609Z
UID:10002570-1739038500-1739042100@christchurchoc.org
SUMMARY:NA Meeting
DESCRIPTION:Open Discussion Recovery Meeting using Narcotics Anonymous book.
URL:https://christchurchoc.org/event/na-meeting-2/2025-02-08/
LOCATION:Kapp Hall\, 16 Central Avenue\, Oil City\, PA\, PA\, United States
CATEGORIES:Recovery Group
ATTACH;FMTTYPE=image/jpeg:https://christchurchoc.org/wp-content/uploads/2024/09/NA-Logo.jpg
END:VEVENT
BEGIN:VEVENT
DTSTART;TZID=America/New_York:20250208T120000
DTEND;TZID=America/New_York:20250208T130000
DTSTAMP:20260425T214139
CREATED:20231211T230753Z
LAST-MODIFIED:20231211T230833Z
UID:10000614-1739016000-1739019600@christchurchoc.org
SUMMARY:AA Meeting
DESCRIPTION:Open Discussion Recovery Meeting using the 12 Steps & 12 Traditions book.
URL:https://christchurchoc.org/event/aa-meeting-12/2025-02-08/
LOCATION:Kapp Hall\, 16 Central Avenue\, Oil City\, PA\, PA\, United States
CATEGORIES:Recovery Group
ATTACH;FMTTYPE=image/webp:https://christchurchoc.org/wp-content/uploads/2023/11/AA.webp
END:VEVENT
BEGIN:VEVENT
DTSTART;TZID=America/New_York:20250207T120000
DTEND;TZID=America/New_York:20250207T130000
DTSTAMP:20260425T214139
CREATED:20240912T160125Z
LAST-MODIFIED:20240912T160125Z
UID:10001526-1738929600-1738933200@christchurchoc.org
SUMMARY:NA Meeting
DESCRIPTION:Open Discussion Recovery Meeting using Narcotics Anonymous book.
URL:https://christchurchoc.org/event/na-meeting/2025-02-07/
LOCATION:Kapp Hall\, 16 Central Avenue\, Oil City\, PA\, PA\, United States
CATEGORIES:Recovery Group
ATTACH;FMTTYPE=image/jpeg:https://christchurchoc.org/wp-content/uploads/2024/09/NA-Logo.jpg
END:VEVENT
BEGIN:VEVENT
DTSTART;TZID=America/New_York:20250205T120000
DTEND;TZID=America/New_York:20250205T130000
DTSTAMP:20260425T214139
CREATED:20231211T230430Z
LAST-MODIFIED:20231211T230430Z
UID:10000353-1738756800-1738760400@christchurchoc.org
SUMMARY:AA Meeting
DESCRIPTION:Open Recovery Meeting. Big Book Discussion.
URL:https://christchurchoc.org/event/aa-meeting-11/2025-02-05/
LOCATION:Kapp Hall\, 16 Central Avenue\, Oil City\, PA\, PA\, United States
CATEGORIES:Recovery Group
ATTACH;FMTTYPE=image/webp:https://christchurchoc.org/wp-content/uploads/2023/11/AA.webp
END:VEVENT
BEGIN:VEVENT
DTSTART;TZID=America/New_York:20250201T181500
DTEND;TZID=America/New_York:20250201T191500
DTSTAMP:20260425T214139
CREATED:20240912T160609Z
LAST-MODIFIED:20240912T160609Z
UID:10002569-1738433700-1738437300@christchurchoc.org
SUMMARY:NA Meeting
DESCRIPTION:Open Discussion Recovery Meeting using Narcotics Anonymous book.
URL:https://christchurchoc.org/event/na-meeting-2/2025-02-01/
LOCATION:Kapp Hall\, 16 Central Avenue\, Oil City\, PA\, PA\, United States
CATEGORIES:Recovery Group
ATTACH;FMTTYPE=image/jpeg:https://christchurchoc.org/wp-content/uploads/2024/09/NA-Logo.jpg
END:VEVENT
BEGIN:VEVENT
DTSTART;TZID=America/New_York:20250201T120000
DTEND;TZID=America/New_York:20250201T130000
DTSTAMP:20260425T214139
CREATED:20231211T230753Z
LAST-MODIFIED:20231211T230833Z
UID:10000613-1738411200-1738414800@christchurchoc.org
SUMMARY:AA Meeting
DESCRIPTION:Open Discussion Recovery Meeting using the 12 Steps & 12 Traditions book.
URL:https://christchurchoc.org/event/aa-meeting-12/2025-02-01/
LOCATION:Kapp Hall\, 16 Central Avenue\, Oil City\, PA\, PA\, United States
CATEGORIES:Recovery Group
ATTACH;FMTTYPE=image/webp:https://christchurchoc.org/wp-content/uploads/2023/11/AA.webp
END:VEVENT
BEGIN:VEVENT
DTSTART;TZID=America/New_York:20250131T120000
DTEND;TZID=America/New_York:20250131T130000
DTSTAMP:20260425T214139
CREATED:20240912T160125Z
LAST-MODIFIED:20240912T160125Z
UID:10001525-1738324800-1738328400@christchurchoc.org
SUMMARY:NA Meeting
DESCRIPTION:Open Discussion Recovery Meeting using Narcotics Anonymous book.
URL:https://christchurchoc.org/event/na-meeting/2025-01-31/
LOCATION:Kapp Hall\, 16 Central Avenue\, Oil City\, PA\, PA\, United States
CATEGORIES:Recovery Group
ATTACH;FMTTYPE=image/jpeg:https://christchurchoc.org/wp-content/uploads/2024/09/NA-Logo.jpg
END:VEVENT
BEGIN:VEVENT
DTSTART;TZID=America/New_York:20250129T120000
DTEND;TZID=America/New_York:20250129T130000
DTSTAMP:20260425T214139
CREATED:20231211T230430Z
LAST-MODIFIED:20231211T230430Z
UID:10000352-1738152000-1738155600@christchurchoc.org
SUMMARY:AA Meeting
DESCRIPTION:Open Recovery Meeting. Big Book Discussion.
URL:https://christchurchoc.org/event/aa-meeting-11/2025-01-29/
LOCATION:Kapp Hall\, 16 Central Avenue\, Oil City\, PA\, PA\, United States
CATEGORIES:Recovery Group
ATTACH;FMTTYPE=image/webp:https://christchurchoc.org/wp-content/uploads/2023/11/AA.webp
END:VEVENT
BEGIN:VEVENT
DTSTART;TZID=America/New_York:20250125T181500
DTEND;TZID=America/New_York:20250125T191500
DTSTAMP:20260425T214139
CREATED:20240912T160609Z
LAST-MODIFIED:20240912T160609Z
UID:10002568-1737828900-1737832500@christchurchoc.org
SUMMARY:NA Meeting
DESCRIPTION:Open Discussion Recovery Meeting using Narcotics Anonymous book.
URL:https://christchurchoc.org/event/na-meeting-2/2025-01-25/
LOCATION:Kapp Hall\, 16 Central Avenue\, Oil City\, PA\, PA\, United States
CATEGORIES:Recovery Group
ATTACH;FMTTYPE=image/jpeg:https://christchurchoc.org/wp-content/uploads/2024/09/NA-Logo.jpg
END:VEVENT
BEGIN:VEVENT
DTSTART;TZID=America/New_York:20250125T120000
DTEND;TZID=America/New_York:20250125T130000
DTSTAMP:20260425T214139
CREATED:20231211T230753Z
LAST-MODIFIED:20231211T230833Z
UID:10000612-1737806400-1737810000@christchurchoc.org
SUMMARY:AA Meeting
DESCRIPTION:Open Discussion Recovery Meeting using the 12 Steps & 12 Traditions book.
URL:https://christchurchoc.org/event/aa-meeting-12/2025-01-25/
LOCATION:Kapp Hall\, 16 Central Avenue\, Oil City\, PA\, PA\, United States
CATEGORIES:Recovery Group
ATTACH;FMTTYPE=image/webp:https://christchurchoc.org/wp-content/uploads/2023/11/AA.webp
END:VEVENT
BEGIN:VEVENT
DTSTART;TZID=America/New_York:20250124T120000
DTEND;TZID=America/New_York:20250124T130000
DTSTAMP:20260425T214139
CREATED:20240912T160125Z
LAST-MODIFIED:20240912T160125Z
UID:10001524-1737720000-1737723600@christchurchoc.org
SUMMARY:NA Meeting
DESCRIPTION:Open Discussion Recovery Meeting using Narcotics Anonymous book.
URL:https://christchurchoc.org/event/na-meeting/2025-01-24/
LOCATION:Kapp Hall\, 16 Central Avenue\, Oil City\, PA\, PA\, United States
CATEGORIES:Recovery Group
ATTACH;FMTTYPE=image/jpeg:https://christchurchoc.org/wp-content/uploads/2024/09/NA-Logo.jpg
END:VEVENT
BEGIN:VEVENT
DTSTART;TZID=America/New_York:20250122T120000
DTEND;TZID=America/New_York:20250122T130000
DTSTAMP:20260425T214139
CREATED:20231211T230430Z
LAST-MODIFIED:20231211T230430Z
UID:10000351-1737547200-1737550800@christchurchoc.org
SUMMARY:AA Meeting
DESCRIPTION:Open Recovery Meeting. Big Book Discussion.
URL:https://christchurchoc.org/event/aa-meeting-11/2025-01-22/
LOCATION:Kapp Hall\, 16 Central Avenue\, Oil City\, PA\, PA\, United States
CATEGORIES:Recovery Group
ATTACH;FMTTYPE=image/webp:https://christchurchoc.org/wp-content/uploads/2023/11/AA.webp
END:VEVENT
BEGIN:VEVENT
DTSTART;TZID=America/New_York:20250118T181500
DTEND;TZID=America/New_York:20250118T191500
DTSTAMP:20260425T214139
CREATED:20240912T160609Z
LAST-MODIFIED:20240912T160609Z
UID:10002567-1737224100-1737227700@christchurchoc.org
SUMMARY:NA Meeting
DESCRIPTION:Open Discussion Recovery Meeting using Narcotics Anonymous book.
URL:https://christchurchoc.org/event/na-meeting-2/2025-01-18/
LOCATION:Kapp Hall\, 16 Central Avenue\, Oil City\, PA\, PA\, United States
CATEGORIES:Recovery Group
ATTACH;FMTTYPE=image/jpeg:https://christchurchoc.org/wp-content/uploads/2024/09/NA-Logo.jpg
END:VEVENT
BEGIN:VEVENT
DTSTART;TZID=America/New_York:20250118T120000
DTEND;TZID=America/New_York:20250118T130000
DTSTAMP:20260425T214139
CREATED:20231211T230753Z
LAST-MODIFIED:20231211T230833Z
UID:10000611-1737201600-1737205200@christchurchoc.org
SUMMARY:AA Meeting
DESCRIPTION:Open Discussion Recovery Meeting using the 12 Steps & 12 Traditions book.
URL:https://christchurchoc.org/event/aa-meeting-12/2025-01-18/
LOCATION:Kapp Hall\, 16 Central Avenue\, Oil City\, PA\, PA\, United States
CATEGORIES:Recovery Group
ATTACH;FMTTYPE=image/webp:https://christchurchoc.org/wp-content/uploads/2023/11/AA.webp
END:VEVENT
BEGIN:VEVENT
DTSTART;TZID=America/New_York:20250117T120000
DTEND;TZID=America/New_York:20250117T130000
DTSTAMP:20260425T214139
CREATED:20240912T160125Z
LAST-MODIFIED:20240912T160125Z
UID:10001523-1737115200-1737118800@christchurchoc.org
SUMMARY:NA Meeting
DESCRIPTION:Open Discussion Recovery Meeting using Narcotics Anonymous book.
URL:https://christchurchoc.org/event/na-meeting/2025-01-17/
LOCATION:Kapp Hall\, 16 Central Avenue\, Oil City\, PA\, PA\, United States
CATEGORIES:Recovery Group
ATTACH;FMTTYPE=image/jpeg:https://christchurchoc.org/wp-content/uploads/2024/09/NA-Logo.jpg
END:VEVENT
BEGIN:VEVENT
DTSTART;TZID=America/New_York:20250115T120000
DTEND;TZID=America/New_York:20250115T130000
DTSTAMP:20260425T214139
CREATED:20231211T230430Z
LAST-MODIFIED:20231211T230430Z
UID:10000350-1736942400-1736946000@christchurchoc.org
SUMMARY:AA Meeting
DESCRIPTION:Open Recovery Meeting. Big Book Discussion.
URL:https://christchurchoc.org/event/aa-meeting-11/2025-01-15/
LOCATION:Kapp Hall\, 16 Central Avenue\, Oil City\, PA\, PA\, United States
CATEGORIES:Recovery Group
ATTACH;FMTTYPE=image/webp:https://christchurchoc.org/wp-content/uploads/2023/11/AA.webp
END:VEVENT
BEGIN:VEVENT
DTSTART;TZID=America/New_York:20250111T181500
DTEND;TZID=America/New_York:20250111T191500
DTSTAMP:20260425T214139
CREATED:20240912T160609Z
LAST-MODIFIED:20240912T160609Z
UID:10002566-1736619300-1736622900@christchurchoc.org
SUMMARY:NA Meeting
DESCRIPTION:Open Discussion Recovery Meeting using Narcotics Anonymous book.
URL:https://christchurchoc.org/event/na-meeting-2/2025-01-11/
LOCATION:Kapp Hall\, 16 Central Avenue\, Oil City\, PA\, PA\, United States
CATEGORIES:Recovery Group
ATTACH;FMTTYPE=image/jpeg:https://christchurchoc.org/wp-content/uploads/2024/09/NA-Logo.jpg
END:VEVENT
BEGIN:VEVENT
DTSTART;TZID=America/New_York:20250111T120000
DTEND;TZID=America/New_York:20250111T130000
DTSTAMP:20260425T214139
CREATED:20231211T230753Z
LAST-MODIFIED:20231211T230833Z
UID:10000610-1736596800-1736600400@christchurchoc.org
SUMMARY:AA Meeting
DESCRIPTION:Open Discussion Recovery Meeting using the 12 Steps & 12 Traditions book.
URL:https://christchurchoc.org/event/aa-meeting-12/2025-01-11/
LOCATION:Kapp Hall\, 16 Central Avenue\, Oil City\, PA\, PA\, United States
CATEGORIES:Recovery Group
ATTACH;FMTTYPE=image/webp:https://christchurchoc.org/wp-content/uploads/2023/11/AA.webp
END:VEVENT
BEGIN:VEVENT
DTSTART;TZID=America/New_York:20250110T120000
DTEND;TZID=America/New_York:20250110T130000
DTSTAMP:20260425T214139
CREATED:20240912T160125Z
LAST-MODIFIED:20240912T160125Z
UID:10001522-1736510400-1736514000@christchurchoc.org
SUMMARY:NA Meeting
DESCRIPTION:Open Discussion Recovery Meeting using Narcotics Anonymous book.
URL:https://christchurchoc.org/event/na-meeting/2025-01-10/
LOCATION:Kapp Hall\, 16 Central Avenue\, Oil City\, PA\, PA\, United States
CATEGORIES:Recovery Group
ATTACH;FMTTYPE=image/jpeg:https://christchurchoc.org/wp-content/uploads/2024/09/NA-Logo.jpg
END:VEVENT
BEGIN:VEVENT
DTSTART;TZID=America/New_York:20250108T120000
DTEND;TZID=America/New_York:20250108T130000
DTSTAMP:20260425T214139
CREATED:20231211T230430Z
LAST-MODIFIED:20231211T230430Z
UID:10000349-1736337600-1736341200@christchurchoc.org
SUMMARY:AA Meeting
DESCRIPTION:Open Recovery Meeting. Big Book Discussion.
URL:https://christchurchoc.org/event/aa-meeting-11/2025-01-08/
LOCATION:Kapp Hall\, 16 Central Avenue\, Oil City\, PA\, PA\, United States
CATEGORIES:Recovery Group
ATTACH;FMTTYPE=image/webp:https://christchurchoc.org/wp-content/uploads/2023/11/AA.webp
END:VEVENT
BEGIN:VEVENT
DTSTART;TZID=America/New_York:20250104T181500
DTEND;TZID=America/New_York:20250104T191500
DTSTAMP:20260425T214139
CREATED:20240912T160609Z
LAST-MODIFIED:20240912T160609Z
UID:10002565-1736014500-1736018100@christchurchoc.org
SUMMARY:NA Meeting
DESCRIPTION:Open Discussion Recovery Meeting using Narcotics Anonymous book.
URL:https://christchurchoc.org/event/na-meeting-2/2025-01-04/
LOCATION:Kapp Hall\, 16 Central Avenue\, Oil City\, PA\, PA\, United States
CATEGORIES:Recovery Group
ATTACH;FMTTYPE=image/jpeg:https://christchurchoc.org/wp-content/uploads/2024/09/NA-Logo.jpg
END:VEVENT
BEGIN:VEVENT
DTSTART;TZID=America/New_York:20250104T120000
DTEND;TZID=America/New_York:20250104T130000
DTSTAMP:20260425T214139
CREATED:20231211T230753Z
LAST-MODIFIED:20231211T230833Z
UID:10000609-1735992000-1735995600@christchurchoc.org
SUMMARY:AA Meeting
DESCRIPTION:Open Discussion Recovery Meeting using the 12 Steps & 12 Traditions book.
URL:https://christchurchoc.org/event/aa-meeting-12/2025-01-04/
LOCATION:Kapp Hall\, 16 Central Avenue\, Oil City\, PA\, PA\, United States
CATEGORIES:Recovery Group
ATTACH;FMTTYPE=image/webp:https://christchurchoc.org/wp-content/uploads/2023/11/AA.webp
END:VEVENT
BEGIN:VEVENT
DTSTART;TZID=America/New_York:20250103T120000
DTEND;TZID=America/New_York:20250103T130000
DTSTAMP:20260425T214139
CREATED:20240912T160125Z
LAST-MODIFIED:20240912T160125Z
UID:10001521-1735905600-1735909200@christchurchoc.org
SUMMARY:NA Meeting
DESCRIPTION:Open Discussion Recovery Meeting using Narcotics Anonymous book.
URL:https://christchurchoc.org/event/na-meeting/2025-01-03/
LOCATION:Kapp Hall\, 16 Central Avenue\, Oil City\, PA\, PA\, United States
CATEGORIES:Recovery Group
ATTACH;FMTTYPE=image/jpeg:https://christchurchoc.org/wp-content/uploads/2024/09/NA-Logo.jpg
END:VEVENT
BEGIN:VEVENT
DTSTART;TZID=America/New_York:20250101T120000
DTEND;TZID=America/New_York:20250101T130000
DTSTAMP:20260425T214139
CREATED:20231211T230430Z
LAST-MODIFIED:20231211T230430Z
UID:10000348-1735732800-1735736400@christchurchoc.org
SUMMARY:AA Meeting
DESCRIPTION:Open Recovery Meeting. Big Book Discussion.
URL:https://christchurchoc.org/event/aa-meeting-11/2025-01-01/
LOCATION:Kapp Hall\, 16 Central Avenue\, Oil City\, PA\, PA\, United States
CATEGORIES:Recovery Group
ATTACH;FMTTYPE=image/webp:https://christchurchoc.org/wp-content/uploads/2023/11/AA.webp
END:VEVENT
BEGIN:VEVENT
DTSTART;TZID=America/New_York:20241228T181500
DTEND;TZID=America/New_York:20241228T191500
DTSTAMP:20260425T214139
CREATED:20240912T160609Z
LAST-MODIFIED:20240912T160609Z
UID:10002564-1735409700-1735413300@christchurchoc.org
SUMMARY:NA Meeting
DESCRIPTION:Open Discussion Recovery Meeting using Narcotics Anonymous book.
URL:https://christchurchoc.org/event/na-meeting-2/2024-12-28/
LOCATION:Kapp Hall\, 16 Central Avenue\, Oil City\, PA\, PA\, United States
CATEGORIES:Recovery Group
ATTACH;FMTTYPE=image/jpeg:https://christchurchoc.org/wp-content/uploads/2024/09/NA-Logo.jpg
END:VEVENT
BEGIN:VEVENT
DTSTART;TZID=America/New_York:20241228T120000
DTEND;TZID=America/New_York:20241228T130000
DTSTAMP:20260425T214139
CREATED:20231211T230753Z
LAST-MODIFIED:20231211T230833Z
UID:10000608-1735387200-1735390800@christchurchoc.org
SUMMARY:AA Meeting
DESCRIPTION:Open Discussion Recovery Meeting using the 12 Steps & 12 Traditions book.
URL:https://christchurchoc.org/event/aa-meeting-12/2024-12-28/
LOCATION:Kapp Hall\, 16 Central Avenue\, Oil City\, PA\, PA\, United States
CATEGORIES:Recovery Group
ATTACH;FMTTYPE=image/webp:https://christchurchoc.org/wp-content/uploads/2023/11/AA.webp
END:VEVENT
BEGIN:VEVENT
DTSTART;TZID=America/New_York:20241227T120000
DTEND;TZID=America/New_York:20241227T130000
DTSTAMP:20260425T214139
CREATED:20240912T160125Z
LAST-MODIFIED:20240912T160125Z
UID:10001520-1735300800-1735304400@christchurchoc.org
SUMMARY:NA Meeting
DESCRIPTION:Open Discussion Recovery Meeting using Narcotics Anonymous book.
URL:https://christchurchoc.org/event/na-meeting/2024-12-27/
LOCATION:Kapp Hall\, 16 Central Avenue\, Oil City\, PA\, PA\, United States
CATEGORIES:Recovery Group
ATTACH;FMTTYPE=image/jpeg:https://christchurchoc.org/wp-content/uploads/2024/09/NA-Logo.jpg
END:VEVENT
BEGIN:VEVENT
DTSTART;TZID=America/New_York:20241225T120000
DTEND;TZID=America/New_York:20241225T130000
DTSTAMP:20260425T214139
CREATED:20231211T230430Z
LAST-MODIFIED:20231211T230430Z
UID:10000347-1735128000-1735131600@christchurchoc.org
SUMMARY:AA Meeting
DESCRIPTION:Open Recovery Meeting. Big Book Discussion.
URL:https://christchurchoc.org/event/aa-meeting-11/2024-12-25/
LOCATION:Kapp Hall\, 16 Central Avenue\, Oil City\, PA\, PA\, United States
CATEGORIES:Recovery Group
ATTACH;FMTTYPE=image/webp:https://christchurchoc.org/wp-content/uploads/2023/11/AA.webp
END:VEVENT
END:VCALENDAR